{"text_format":"1","workbook":"xlsx","n_sheets":11,"sheets":["Cover","NVR40 - Simple","NVR40 - Advanced","TVR10 NTSC Simple","TVR10 PAL Simple","TVR30-31 NTSC Simple","TVR30-31 NTSC Advanced","TVR 60 NTSC Advanced","TVR 60 PAL Advanced","TVR 60 Load Table","   "],"not_rendered":{"charts":0,"images":3,"macros":1,"external_links":0,"defined_names":37,"comments":2,"pivot_tables":0},"unopened":[],"bounds":{"document_bytes":16777216,"sheet_cells":100000,"rows_first":2000,"rows_last":500,"rows_between":2000,"halvings":0,"cell_chars":16384,"cell_head_chars":4096},"cells_cut":0,"cells_raw":0,"read":"whole","date_system":"1900"}

{"sheet":"Cover","index":0,"n_rows":30,"n_cols":4,"rows_kept":30,"cut":false,"hidden":false,"merged":[]}
[]
[]
[null,null,"Storage & Bandwidth Calculator"]
[null,null,null,"Version 5.9b"]
[null,null,null,"Last update:  July 20, 2012"]
[]
[null,"NVRs"]
[]
[null,"TruVision NVR 40 Simple"]
[]
[null,"TruVision NVR 40 Advanced"]
[]
[null,"DVRs"]
[null,"NTSC Format",null,"PAL Format"]
[]
[null,"TruVision DVR 10 NTSC Simple",null,"TruVision DVR 10 PAL Simple"]
[]
[null,"TruVision DVR 30/31 NTSC Simple"]
[]
[null,"TruVision DVR 30/31 NTSC Advanced"]
[]
[null,"TruVision DVR 60 NTSC Advanced",null,"TruVision DVR 60 PAL Advanced"]
[]
[null,"TruVision DVR 60 Load Balancer"]
[]
[]
[null,"Please select a product above"]
[]
[]
[null,"Disclaimer: Calculations were performed in typical scenario conditions.  Actual results may vary"]

{"sheet":"NVR40 - Simple","index":1,"n_rows":23,"n_cols":10,"rows_kept":23,"cut":false,"hidden":false,"merged":[[8,8,8,9]]}
[null,null,null,null,null,"TruVision NVR 40 "]
[null,null,null,null,null,"Simple Calculator  (no sub-streams)"]
[]
[]
[]
[null,null,null,null,null,"RESULTS - CONTINUOUS RECORDING"]
["Available Storage","INPUTS",null,null,null,"Per Standard IP Camera","Per MegaPixel Camera"]
["Select Model Number","TVN-4004-24-4T",null,null,null,{"$f":"IF($B$16+$B$18=0,0,$B$12/(1024*($B$16+$B$18)))","v":332.03125},{"$f":"IF($B$16+$B$18=0,0,$B$12/(1024*($B$16+$B$18)))","v":332.03125}]
["Total Usable Storage Space (MB)",{"$f":"IF(B8=\"TVN-4004-24-4T\",3400000,1700000)","v":3400000},{"$f":"+B9/1000000","v":3.4},"GB",null,{"$f":"ROUND(IF(B16=0,0,(B12/(B16+B18)*8*1024/(B17*86400))),1)","v":32.200000000000003},{"$f":"ROUND(IF(B18=0,0,(B12/(B16+B18)*8*1024/(B19*86400))),1)","v":0},null,"Number of Simultaneous Live & Playback Streams"]
["% of Storage Space Reserved for Alarms\n(0 = No Alarm Recoding  to 100%) ",0,null,null,null,null,null,null,"LIVE","PLAYBACK"]
["Net Storage Available for Event Recording (MB)",{"$f":"(B9*B10)","v":0},{"$f":"+B11/1000000","v":0},"GB",null,null,null,null,{"$f":"+B16+B18","v":10},9]
["Net Storage Available for Continuous Recording (MB)",{"$f":"B9-B11","v":3400000},{"$f":"+B12/1000000","v":3.4},"GB"]
[]
[null,null,null,null,null,"RESULTS - EVENT/MOTION RECORDING"]
["IP Camera Information","INPUTS"]
["Number of Standard IP Camera Streams",10,{"$f":"IF(OR(AND(B8=\"TVN-4004-24-4T\",B16>24-B14),AND(B6=\"TVN-4002-12-2T\",B16>12-B14)),\"# exceeds upper limit\",\"\")","v":""},null,null,"Event Storage Per Standard IP Camera*","Event Storage Per MegaPixel Camera*"]
["Configured Bandwidth per Stream\n(500 - 3000 Kbps)",1000,{"$f":"IF(OR(B17<500,B17>3000),\"outside limits\",\"\")","v":""},null,null,{"$f":"IF($B$16+$B$18=0,0,$B$11/(1024*($B$16+$B$18)))","v":0},{"$f":"IF($B$16+$B$18=0,0,$B$11/(1024*($B$16+$B$18)))","v":0}]
["Number of MegaPixel Cameras Streams",0,{"$f":"IF(OR(AND(B8=\"TVN-4004-24-4T\",B18>24-B16),AND(B8=\"TVN-4002-12-2T\",B18>12-B16)),\"# exceeds upper limit\",\"\")","v":""},null,null,0.3,0.3]
["Configured Bandwidth per MegaPixel Stream (500-4000 Kbps) ",4000,{"$f":"IF(OR(B19<500,B19>4000),\"outside limits\",\"\")","v":""},null,null,{"$f":"+B17","v":1000},{"$f":"+B19","v":4000}]
[null,null,null,null,null,{"$f":"ROUND(IF($B$16=0,0,($B$11/($B18+$B$16)*8*1024/($F$19*86400)))/F$18,1)","v":0},{"$f":"ROUND(IF($B$18=0,0,($B$11/($B$16+$B$18)*8*1024/($G$19*86400)))/G$18,1)","v":0}]
[]
[null,null,null,null,null,"* Available only if camera supports activity/motion detection"]
["Back to Cover"]

{"sheet":"NVR40 - Advanced","index":2,"n_rows":26,"n_cols":11,"rows_kept":26,"cut":false,"hidden":false,"merged":[[9,9,9,10]]}
[null,null,null,null,null,"TruVision NVR 40 "]
[null,null,null,null,null,"Advanced Calculator  (w / sub-streams)"]
[]
[]
[]
[null,null,null,null,null,"RESULTS - CONTINUOUS RECORDING"]
[]
["Available Storage","INPUTS",null,null,null,"Per Standard IP Camera","Per Alternate Stream IP Camera","Per MegaPixel Camera"]
["Select Model Number","TVN-4004-24-4T",null,null,null,{"$f":"IF($B$17+$B$19+$B$21=0,0,$B$13/(1024*($B$17+$B$19+$B$21)))","v":207.51953125},{"$f":"IF($B$17+$B$19+$B$21=0,0,$B$13/(1024*($B$17+$B$19+$B$21)))","v":207.51953125},{"$f":"IF($B$17+$B$19+$B$21=0,0,$B$13/(1024*($B$17+$B$19+$B$21)))","v":207.51953125}]
["Total Usable Storage Space",{"$f":"IF(B9=\"TVN-4004-24-4T\",3400000,1700000)","v":3400000},{"$f":"+B10/1000000","v":3.4},"GB",null,{"$f":"ROUND(IF(B17=0,0,(B13/(B17+B19+B21)*8*1024/(B18*86400))),1)","v":0},{"$f":"ROUND(IF(B19=0,0,(B13/(B17+B19+B21)*8*1024/(B20*86400))),1)","v":0},{"$f":"ROUND(IF(B21=0,0,(B13/(B17+B19+B21)*8*1024/(B22*86400))),1)","v":1.3},null,"Number of Simultaneous Live & Playback Streams"]
["% of Storage Space Reserved for Alarms\n(0 = No Alarm Recoding  to 100%) ",0,null,null,null,null,null,null,null,"LIVE","PLAYBACK"]
["Net Storage Available for Event Recording",{"$f":"B10*B11","v":0},{"$f":"+B12/1000000","v":0},"GB",null,null,null,null,null,{"$f":"+B17+B19+B21","v":16},9]
["Net Storage Available for Continuous Recording",{"$f":"B10-B12","v":3400000},{"$f":"+B13/1000000","v":3.4},"GB"]
[]
[null,null,null,null,null,"RESULTS - EVENT/MOTION RECORDING"]
["IP Camera Information","INPUTS"]
["Number of Single Stream IP Cameras",0,{"$f":"IF(OR(AND(B9=\"TVN-4004-24-4T\",B17>24),AND(B9=\"TVN-4002-12-2T\",B17>12)),\"# exceeds upper limit\",\"\")","v":""},null,null,"Event Storage Per Standard IP Camera*","Event Storage Per Alternate Stream IP Camera*","Event Storage Per MegaPixel Camera*"]
["Configured Bandwidth per Stream\n(500 - 3000 Kbps)",1000,{"$f":"IF(OR(B18<500,B18>3000),\"outside limits\",\"\")","v":""},null,null,{"$f":"IF($B$17+$B$19+$B$21=0,0,$B$12/(1024*($B$17+$B$19+$B$21)))","v":0},{"$f":"IF($B$17+$B$19+$B$21=0,0,$B$12/(1024*($B$17+$B$19+$B$21)))","v":0},{"$f":"IF($B$17+$B$19+$B$21=0,0,$B$12/(1024*($B$17+$B$19+$B$21)))","v":0}]
["Number of 2nd Stream (Alternate) from Dual Streaming IP Cameras",0,{"$f":"IF(OR(AND(B9=\"TVN-4004-24-4T\",B19>24-B17),AND(B9=\"TVN-4002-12-2T\",B19>12-B17)),\"# exceeds upper limit\",\"\")","v":""},null,null,0.3,0.3,0.3]
["Configured Bandwidth per Alternate Stream (500-3000 Kbps) ",500,{"$f":"IF(OR(B20<500,B20>3000),\"outside limits\",\"\")","v":""},null,null,{"$f":"+B18","v":1000},{"$f":"+B20","v":500},{"$f":"+B22","v":16000}]
["Number of MegaPixel Cameras",16,{"$f":"IF(OR(AND(B9=\"TVN-4004-24-4T\",B21>24-B17-B19),AND(B9=\"TVN-4002-12-2T\",B21>12-B17-B19)),\"# exceeds upper limit\",\"\")","v":""},null,null,{"$f":"ROUND(IF($B$17=0,0,($B$12/($B$17+$B$19+$B$21)*8*1024/($F$20*86400)))/F$19,1)","v":0},{"$f":"ROUND(IF($B$19=0,0,($B$12/($B17+$B$19+$B$21)*8*1024/($G$20*86400)))/G$19,1)","v":0},{"$f":"ROUND(IF($B$21=0,0,($B$12/($B$17+$B$19+$B$21)*8*1024/($H$20*86400)))/H$19,1)","v":0}]
["Configured Bandwidth per MegaPixel Stream (500-4000 Kbps) ",16000,{"$f":"IF(OR(B22<500,B22>4000),\"outside limits\",\"\")","v":"outside limits"},null,null,"* Available only if camera supports activity/motion detection"]
[]
[]
[]
["Back to Cover"]

{"sheet":"TVR10 NTSC Simple","index":3,"n_rows":17,"n_cols":8,"rows_kept":17,"cut":false,"hidden":false,"merged":[]}
[null,"TruVision DVR 10"]
[null,"Calculator (NTSC)"]
[]
[null,null,null,"Storage Requirements:"]
[null,"INPUTS",null,"4CIF","DCIF","2CIF","CIF","QCIF"]
["Number of Days of Storage",30,null,{"$f":"'   '!E613","v":1223.9898336000001},{"$f":"'   '!F613","v":428.06996640000006},{"$f":"'   '!G613","v":437.0012208},{"$f":"'   '!H613","v":176.04060479999998},{"$f":"'   '!I613","v":64.472902559999994}]
["Numbers of Cameras",4,null,{"$f":"'   '!E614","v":1.2239898335999999},{"$f":"'   '!F614","v":0.42806996640000006},{"$f":"'   '!G614","v":0.43700122079999998},{"$f":"'   '!H614","v":0.17604060479999997},{"$f":"'   '!I614","v":6.4472902560000003E-2}]
["Frames Per Second (per ch)",6]
["Quality Setting","Highest",null,"Bandwidth Usage:"]
["% Motion Detection Rec.",0,null,"4CIF","DCIF","2CIF","CIF","QCIF"]
["*Please note the values calculated are +/- 5% accurate.",null,null,{"$f":"'   '!E607*'   '!B604/1000000","v":3.7777463999999998},{"$f":"'   '!F607*'   '!B604/1000000","v":1.3212036},{"$f":"'   '!G607*'   '!B604/1000000","v":1.3487692},{"$f":"'   '!H607*'   '!B604/1000000","v":0.54333519999999991},{"$f":"'   '!I607*'   '!B604/1000000","v":0.19899043999999999}]
[null,null,null,{"$f":"D11*1000","v":3777.7464},{"$f":"E11*1000","v":1321.2036000000001},{"$f":"F11*1000","v":1348.7692},{"$f":"G11*1000","v":543.33519999999987},{"$f":"H11*1000","v":198.99043999999998}]
[]
[]
[]
[]
[null,null,null,"Back to Cover"]

{"sheet":"TVR10 PAL Simple","index":4,"n_rows":17,"n_cols":8,"rows_kept":17,"cut":false,"hidden":false,"merged":[]}
[null,"TruVision DVR 10"]
[null,"Calculator (PAL)"]
[]
[null,null,null,"Storage Requirements:"]
[null,"INPUTS",null,"4CIF","DCIF","2CIF","CIF","QCIF"]
["Number of Days of Storage",30,null,{"$f":"'   '!E645","v":1403.6800412903228},{"$f":"'   '!F645","v":524.82548438709671},{"$f":"'   '!G645","v":521.16123251612908},{"$f":"'   '!H645","v":173.71015432258065},{"$f":"'   '!I645","v":64.478257548387091}]
["Numbers of Cameras",4,null,{"$f":"'   '!E646","v":1.4036800412903228},{"$f":"'   '!F646","v":0.52482548438709675},{"$f":"'   '!G646","v":0.521161232516129},{"$f":"'   '!H646","v":0.17371015432258066},{"$f":"'   '!I646","v":6.4478257548387097E-2}]
["Frames Per Second (per ch)",6]
["Quality Setting","Highest",null,"Bandwidth Usage:"]
["% Motion Detection Rec.",0,null,"4CIF","DCIF","2CIF","CIF","QCIF"]
["*Please note the values calculated are +/- 5% accurate.",null,null,{"$f":"'   '!E639*'   '!B636/1000000","v":4.3323458064516132},{"$f":"'   '!F639*'   '!B636/1000000","v":1.619831741935484},{"$f":"'   '!G639*'   '!B636/1000000","v":1.6085223225806451},{"$f":"'   '!H639*'   '!B636/1000000","v":0.5361424516129033},{"$f":"'   '!I639*'   '!B636/1000000","v":0.19900696774193549}]
[null,null,null,{"$f":"D11*1000","v":4332.3458064516135},{"$f":"E11*1000","v":1619.8317419354839},{"$f":"F11*1000","v":1608.5223225806451},{"$f":"G11*1000","v":536.1424516129033},{"$f":"H11*1000","v":199.00696774193548}]
[]
[]
[]
[]
[null,null,null,"Back to Cover"]

{"sheet":"TVR30-31 NTSC Simple","index":5,"n_rows":21,"n_cols":7,"rows_kept":21,"cut":false,"hidden":false,"merged":[[12,0,12,1]]}
[null,"TruVision DVR 30/31"]
[null,"Calculator (NTSC)"]
[]
[null,null,null,null,"Storage Requirements:"]
[null,"INPUTS",null,null,"D1","2CIF","CIF"]
["Number of Days of Storage",30,null,"STILL",{"$f":"'   '!E673","v":622.44028800000001},{"$f":"'   '!F673","v":331.37683199999998},{"$f":"'   '!G673","v":155.000304}]
["Numbers of Cameras",1,null,null,{"$f":"'   '!E674","v":0.62244028799999995},{"$f":"'   '!F674","v":0.33137683200000001},{"$f":"'   '!G674","v":0.15500030400000001}]
["Frames Per Second (per ch)",30,null,"PANNING",{"$f":"'   '!E697","v":1036.1432520000001},{"$f":"'   '!F697","v":661.45053600000006},{"$f":"'   '!G697","v":259.81041599999998}]
["Quality Setting","Standard",null,null,{"$f":"'   '!E698","v":1.036143252},{"$f":"'   '!F698","v":0.66145053600000003},{"$f":"'   '!G698","v":0.25981041599999999}]
["% Motion Detection Rec.",1]
["*Please note the values calculated are +/- 10% accurate.",null,null,null,"Bandwidth Usage:"]
[null,null,null,null,"D1","2CIF","CIF"]
["Total Supported Frame Rate",null,null,"STILL",{"$f":"'   '!E667*'   '!B664/1000000","v":1.9211119999999999},{"$f":"'   '!F667*'   '!B664/1000000","v":1.0227679999999999},{"$f":"'   '!G667*'   '!B664/1000000","v":0.47839599999999999}]
["D1 Resolution Max of 120 fps",{"$f":"B7*B8","v":30},null,null,{"$f":"E13*1000","v":1921.1119999999999},{"$f":"F13*1000","v":1022.7679999999999},{"$f":"G13*1000","v":478.39600000000002}]
["2CIF Resolution Max of 240 fps",{"$f":"B7*B8","v":30},null,"PANNING",{"$f":"'   '!E691*'   '!B688/1000000","v":3.1979730000000002},{"$f":"'   '!F691*'   '!B688/1000000","v":2.0415139999999998},{"$f":"'   '!G691*'   '!B688/1000000","v":0.80188400000000004}]
["CIF Resolution Max of 480 fps",{"$f":"B7*B8","v":30},null,null,{"$f":"E15*1000","v":3197.973},{"$f":"F15*1000","v":2041.5139999999999},{"$f":"G15*1000","v":801.88400000000001}]
[]
[]
[null,null,null,null,"Advanced"]
[]
[null,null,null,null,"Back to Cover"]

{"sheet":"TVR30-31 NTSC Advanced","index":6,"n_rows":49,"n_cols":21,"rows_kept":49,"cut":false,"hidden":false,"merged":[]}
[null,"TVR 30/31 Advanced (Expert Mode)"]
[null,"Calculator (NTSC)"]
[]
[null,"INPUTS"]
["Number of Days of Storage",30]
["Number of Cameras",16]
["Global Resolution Setting","2CIF"]
["FPS Budget",240]
[]
["Cameras",1,2,3,4,5,6,7,8,9,10,11,12,13,14,15,16,17,18,19,20]
["Video: Still or Panning","STILL","STILL","STILL","STILL","STILL","STILL","STILL","STILL","STILL","STILL","STILL","STILL","STILL","STILL","STILL","STILL"]
["Resolution",{"$f":"B7","v":"2CIF"},{"$f":"B7","v":"2CIF"},{"$f":"B7","v":"2CIF"},{"$f":"B7","v":"2CIF"},{"$f":"B7","v":"2CIF"},{"$f":"B7","v":"2CIF"},{"$f":"B7","v":"2CIF"},{"$f":"B7","v":"2CIF"},{"$f":"B7","v":"2CIF"},{"$f":"B7","v":"2CIF"},{"$f":"B7","v":"2CIF"},{"$f":"B7","v":"2CIF"},{"$f":"B7","v":"2CIF"},{"$f":"B7","v":"2CIF"},{"$f":"B7","v":"2CIF"},{"$f":"B7","v":"2CIF"},"2CIF","2CIF","2CIF","2CIF"]
["Frame Per Second",7.5,7.5,7.5,7.5,7.5,7.5,7.5,7.5,7.5,7.5,7.5,7.5,7.5,7.5,7.5,7.5,"30","30","30","30"]
["Quality ","Best","Best","Best","Best","Best","Best","Best","Best","Best","Best","Best","Best","Best","Best","Best","Best","Best","Best","Best","Best"]
["% Motion Recording",0,0,0,0,0,0,0,0,0,0,0,0,0,0,0,0,0.25,0.25,0.25,0.25]
["Bandwidth Consumption (Mbps)",{"$f":"'   '!B734","v":0.34431299999999998},{"$f":"'   '!C734","v":0.34431299999999998},{"$f":"'   '!D734","v":0.34431299999999998},{"$f":"'   '!E734","v":0.34431299999999998},{"$f":"'   '!F734","v":0.34431299999999998},{"$f":"'   '!G734","v":0.34431299999999998},{"$f":"'   '!H734","v":0.34431299999999998},{"$f":"'   '!I734","v":0.34431299999999998},{"$f":"'   '!J734","v":0.34431299999999998},{"$f":"'   '!K734","v":0.34431299999999998},{"$f":"'   '!L734","v":0.34431299999999998},{"$f":"'   '!M734","v":0.34431299999999998},{"$f":"'   '!N734","v":0.34431299999999998},{"$f":"'   '!O734","v":0.34431299999999998},{"$f":"'   '!P734","v":0.34431299999999998},{"$f":"'   '!Q734","v":0.34431299999999998},{"$f":"'   '!R40","v":{"$error":"#REF!"}},{"$f":"'   '!S40","v":{"$error":"#REF!"}},{"$f":"'   '!T40","v":{"$error":"#REF!"}},{"$f":"'   '!U40","v":{"$error":"#REF!"}}]
["*Please note the values calculated are +/- 10% accurate."]
[]
[]
["Total Storage Required",{"$f":"'   '!V743","v":1784.918592},null,null,"Simple"]
[null,{"$f":"'   '!V744","v":1.7849185919999999}]
[null,null,null,null,"Back to Cover"]
["Total Bandwidth Required",{"$f":"'   '!V746","v":5.5090079999999997},"Mbps"]
[null,{"$f":"'   '!V747","v":5509.0079999999998},"kbps"]
[]
[]
[]
[]
[]
[]
[]
[]
[null,"Cameras","Resolution","FrameRate","Quality",{"$f":"A10&B6","v":"Cameras16"},"Total FPS"]
[null,1,"D1",30,"Best",{"$f":"RIGHT(F33, LEN(F33)-7)","v":"16"},{"$f":"SUMIF(B12:G12, \"D1\", (B13:Q13))","v":0},{"$f":"SUMIF(H12:M12, \"D1\", (B13:Q13))","v":0},{"$f":"SUMIF(N12:Q12, \"D1\", (B13:Q13))","v":0},null,{"$f":"SUM(G34:I34)","v":0}]
[null,2,"2CIF",15,"High",null,{"$f":"SUMIF(B12:G12, \"2CIF\", (B13:Q13))","v":45},{"$f":"SUMIF(H12:M12, \"2CIF\", (B13:Q13))","v":45},{"$f":"SUMIF(N12:Q12, \"2CIF\", (B13:Q13))","v":30},"=",{"$f":"SUM(G35:I35)","v":120}]
[null,3,"CIF",11,"Standard",null,{"$f":"SUMIF(B12:G12, \"CIF\", (B13:Q13))","v":0},{"$f":"SUMIF(H12:M12, \"CIF\", (B13:Q13))","v":0},{"$f":"SUMIF(N12:Q12, \"CIF\", (B13:Q13))","v":0},null,{"$f":"SUM(G36:I36)","v":0}]
[null,4,null,7.5,"Fair"]
[null,5,null,3.75,"Low",null,{"$f":"SUMIF(B12:Q12, \"D1\", (B13:Q13))","v":0},"D1"]
[null,6,null,1,null,null,{"$f":"SUMIF(B12:Q12, \"2CIF\", (B13:Q13))","v":120},"2CIF"]
[null,7,null,null,null,null,{"$f":"SUMIF(B12:Q12, \"CIF\", (B13:Q13))","v":0},"CIF"]
[null,8]
[null,9]
[null,10]
[null,11]
[null,12]
[null,13]
[null,14]
[null,15]
[null,16]

{"sheet":"TVR 60 NTSC Advanced","index":7,"n_rows":58,"n_cols":20,"rows_kept":58,"cut":false,"hidden":false,"merged":[[55,7,55,8],[53,1,53,4],[55,1,55,4],[54,1,54,4],[54,7,54,9],[22,1,22,3],[6,1,6,9],[53,7,53,9],[8,8,8,9],[9,8,9,9],[10,8,10,9],[41,3,41,4],[42,3,42,4],[51,3,51,4],[43,3,43,4],[7,8,7,9],[52,3,52,4],[37,3,37,4],[38,3,38,4],[26,1,26,2],[31,3,31,4],[7,1,7,2],[39,3,39,4],[11,1,11,10],[12,1,12,10],[19,1,19,10],[20,1,20,10],[21,1,21,10],[26,3,26,5],[36,3,36,4],[33,3,33,4],[22,5,22,6],[8,1,8,2],[9,1,9,2],[10,1,10,2],[13,1,16,10],[17,1,18,10],[34,3,34,4],[35,3,35,4],[32,3,32,4],[28,3,28,4],[29,3,29,4],[30,3,30,4],[40,3,40,4],[48,3,48,4],[49,3,49,4],[50,3,50,4],[44,3,44,4],[45,3,45,4],[46,3,46,4],[47,3,47,4]]}
[]
[null,null,null,null,null,null,null,null,null,null,null,null,{"$f":"IF(C30=\"Analog\",0,IF(C30=\"Unused\",0,1))","v":0},{"$f":"IF(C30=\"Analog\",1,IF(C30=\"Unused\",0,0))","v":1}]
[null,null,null,null,"TVR 60 NTSC Advanced HDD Storage Calculator",null,null,null,null,null,null,null,0,1]
[null,null,null,null,null,null,null,null,null,null,null,null,0,1]
[null,null,null,null,null,null,null,null,null,null,null,null,0,1]
[null,null,null,null,null,null,null,null,null,null,null,null,0,1]
[null,"Recommended Bit-Rates (higher motion requires higher bit rates)",null,null,null,null,null,null,null,null,null,null,0,1]
[null,"Resolution / fps",null,"Less than 4 fps","Up to 8 fps","Up to 12 fps","Up to 16 fps","Up to 30 fps","Channels ",null,"Resolution / fps",null,0,1]
[null,"QCIF / CIF",null,"48 - 192 kbps","192 - 384 kbps","384 - 512 kbps","512 - 768 kbps","768 - 1000 kbps","all up to real-time",null,"QCIF / CIF",null,0,1]
[null,"2CIF",null,"64 - 256kbps","256 - 640kbps","640 - 896 kbps","896 - 1280kbps","1280 - 1792kbps","all up to real-time",null,"2CIF",null,0,1]
[null,"4CIF",null,"80 - 448 kbps","448 - 896 kbps","896 - 1280kbps","1280 - 1792kbps","1792 - 2048 kbps","all up to real-time",null,"4CIF",null,0,1]
[null,"INSTRUCTIONS:  To calculate the required storage capacity, the following information is required: Resolution, number of frames (fps), active hours, \nnumber of storage days desired, bit-rate (from table above), and video motion detection (VMD). ",null,null,null,null,null,null,null,null,null,null,0,1]
[null," Remember: Too low bit-rates will cause poor picture quality.  ",null,null,null,null,null,null,null,null,null,null,0,1]
[null,"Determine the camera type first, TVR 60 has a combined sytem performance of 24 cameras, of which up to 16 can be IP cameras.   \nStart by selecting the \"Resolution\" and \"No. of frames\" in the YELLOW fields of the table for a realistic choice of \"Bite Rate\" selection.",null,null,null,null,null,null,null,null,null,null,0,1]
[null,null,null,null,null,null,null,null,null,null,null,null,0,1]
[null,null,null,null,null,null,null,null,null,null,null,null,0,1]
[null,null,null,null,null,null,null,null,null,null,null,null,0,1]
[null,"In the \"Active Hours\" cell select the schedule, and in the \"Number of Days of Storage Desired\" cell enter a value.",null,null,null,null,null,null,null,null,null,null,0,0]
[null,null,null,null,null,null,null,null,null,null,null,null,0,0]
[null,"Finally in the table, select the VMD % in the columns \"Active / Silent Hours\".                                        Repeat for all connected cameras.",null,null,null,null,null,null,null,null,null,null,0,0]
[null,"Fields in yellow should be changed, these fields have direct influence on the calculation",null,null,null,null,null,null,null,null,null,null,0,0]
[null,"Fields in light gray are formulas and should not be changed",null,null,null,null,null,null,null,null,null,null,0,0]
[null,"Number of Active Hours/Silent Hours per day",null,null,null,"Number of Days of Storage Desired",null,null,null,null,null,null,0,0]
[null,24,null,null,null,30,null,null,null,null,null,null,0,0,null,{"$f":"IF(H46 = \"camera not used\",0, IF(C46 = \"IP\",0,M46))*1024","v":7382.8125}]
[null,0,null,null,null,null,null,null,null,null,null,null,0,0]
[]
[null,"TVR 60 Name:",null,null,null,null,null,"*Please note the values calculated are +/- 5% accurate.",null,null,null,null,{"$f":"IF(B25 = \"No Silent Hours\",\"0\", 24-B24)","v":0}]
[]
[null,"Camera No.","Camera \nType","Camera Name",null,"Resolution","No. of Frames fps","Bit-Rate       ","Active Hours VMD %","Silent Hours VMD %","Storage per day per ch.",null,{"$f":"SUM(M2:M25)","v":0},{"$f":"SUM(N2:N25)","v":16},null,"Open hours",null,"Resolution","FPS","Bitrates"]
[null,"Camera  1","Analog",null,null,"4CIF",4,448,0.4,0,{"$f":"IF(C30 = \"Unused\",0,M30)*1024","v":1845.703125},null,{"$f":"SUM((H30/8*3600*$B$24*I30)+(H30/8*3600*$M$27*J30))/1073741.824","v":1.8024444580078125},0,null,1,null,"QCIF","1/16 fps"]
[null,"Camera  2","Analog",null,null,"4CIF",4,448,0.4,0,1845.703125,null,1.8024444580078125,0.05,null,2,null,"CIF",1,32]
[null,"Camera  3","Analog",null,null,"4CIF",4,448,0.4,0,1845.703125,null,1.8024444580078125,0.1,null,3,null,"2CIF",2,48]
[null,"Camera  4","Analog",null,null,"4CIF",4,448,0.4,0,1845.703125,null,1.8024444580078125,0.15,null,4,null,"4CIF",4,64]
[null,"Camera  5","Analog",null,null,"4CIF",4,448,0.4,0,1845.703125,null,1.8024444580078125,0.2,null,5,null,null,8,80]
[null,"Camera  6","Analog",null,null,"4CIF",4,448,0.4,0,1845.703125,null,1.8024444580078125,0.25,null,6,null,null,12,96]
[null,"Camera  7","Analog",null,null,"4CIF",4,448,0.4,0,1845.703125,null,1.8024444580078125,0.3,null,7,null,null,16,128]
[null,"Camera  8","Analog",null,null,"4CIF",4,448,0.4,0,1845.703125,null,1.8024444580078125,0.4,null,8,null,null,20,160]
[null,"Camera  9","Analog",null,null,"4CIF",4,448,0.4,0,1845.703125,null,1.8024444580078125,0.5,null,9,null,null,"real-time",192]
[null,"Camera  10","Analog",null,null,"4CIF",4,448,0.4,0,1845.703125,null,1.8024444580078125,0.6,null,10,null,null,null,224]
[null,"Camera  11","Analog",null,null,"4CIF",4,448,0.4,0,1845.703125,null,1.8024444580078125,0.7,null,11,null,null,null,256]
[null,"Camera  12","Analog",null,null,"4CIF",4,448,0.4,0,1845.703125,null,1.8024444580078125,0.8,null,12,null,null,null,320]
[null,"Camera  13","Analog",null,null,"4CIF",4,448,0.4,0,1845.703125,null,1.8024444580078125,0.9,null,13,null,null,null,384]
[null,"Camera  14","Analog",null,null,"4CIF",4,448,0.4,0,1845.703125,null,1.8024444580078125,1,null,14,null,null,null,448]
[null,"Camera  15","Analog",null,null,"4CIF",4,448,0.4,0,1845.703125,null,1.8024444580078125,null,null,15,null,null,null,512]
[null,"Camera  16","Analog",null,null,"4CIF",4,448,0.4,0,1845.703125,null,1.8024444580078125,null,null,16,null,null,null,640]
[null,"Camera  17","Unused",null,null,"4CIF","real-time",1792,0.4,0,0,null,7.20977783203125,null,null,17,null,null,null,768]
[null,"Camera  18","Unused",null,null,"4CIF","real-time",1792,0.4,0,0,null,7.20977783203125,null,null,18,null,null,null,896]
[null,"Camera  19","Unused",null,null,"4CIF","real-time",1792,0.4,0,0,null,7.20977783203125,null,null,19,null,null,null,1024]
[null,"Camera  20","Unused",null,null,"4CIF","real-time",1792,0.4,0,0,null,7.20977783203125,null,null,20,null,null,null,1280]
[null,"Camera  21","Unused",null,null,"4CIF","real-time",1792,0.4,0,0,null,7.20977783203125,null,null,21,null,null,null,1536]
[null,"Camera  22","Unused",null,null,"4CIF","real-time",1792,0.4,0,0,null,7.20977783203125,null,null,22,null,null,null,1792]
[null,"Camera  23","Unused",null,null,"4CIF","real-time",1792,0.4,0,0,null,7.20977783203125,null,null,23,null,null,null,2048]
[null,"Camera  24","Unused",null,null,"4CIF","real-time",1792,0.4,0,0,null,7.20977783203125,null,null,24,null,null,null,"For IP Cameras, enter the IP camera streaming bit-rate!"]
[null,{"$f":"IF(N29>16,\"The max. supported analog Camera qty. has been reached!\",\" \")","v":" "},null,null,null,null,null,"Total per day (GB)",null,null,{"$f":"SUM(K30:K53)/1024","v":28.839111328125}]
[null,{"$f":"IF(M29>16,\"The max. supported IP Camera qty. has been reached!\",\" \")","v":" "},null,null,null,null,null,"Under Estimation Buffer 20% (GB)",null,null,{"$f":"K54*0.2","v":5.767822265625},null,"Analog"]
[null,{"$f":"IF(M29 >0,T53, \" \")","v":" "},null,null,null,null,null,"Total Storage needed",null,{"$f":"F24","v":30},{"$f":"SUM(K55+K54)*J56","v":1038.2080078125},null,"IP"]
[null,"It is recommended to order your TVR 60 with the next highest storage configuration than that calculated.",null,null,null,null,null,null,null,null,null,null,"Unused"]
[null,null,null,null,null,null,null,null,null,"Back to Cover"]

{"sheet":"TVR 60 PAL Advanced","index":8,"n_rows":58,"n_cols":20,"rows_kept":58,"cut":false,"hidden":false,"merged":[[55,1,55,4],[19,1,19,10],[20,1,20,10],[21,1,21,10],[26,3,26,5],[36,3,36,4],[37,3,37,4],[42,3,42,4],[55,7,55,8],[40,3,40,4],[11,1,11,10],[12,1,12,10],[29,3,29,4],[30,3,30,4],[31,3,31,4],[26,1,26,2],[6,1,6,9],[53,7,53,9],[8,8,8,9],[9,8,9,9],[10,8,10,9],[7,8,7,9],[53,1,53,4],[22,5,22,6],[8,1,8,2],[9,1,9,2],[38,3,38,4],[10,1,10,2],[28,3,28,4],[32,3,32,4],[7,1,7,2],[39,3,39,4],[13,1,16,10],[17,1,18,10],[33,3,33,4],[34,3,34,4],[54,7,54,9],[22,1,22,3],[47,3,47,4],[52,3,52,4],[48,3,48,4],[41,3,41,4],[35,3,35,4],[54,1,54,4],[45,3,45,4],[49,3,49,4],[50,3,50,4],[51,3,51,4],[43,3,43,4],[46,3,46,4],[44,3,44,4]]}
[]
[null,null,null,null,null,null,null,null,null,null,null,null,{"$f":"IF(C30=\"Analog\",0,IF(C30=\"Unused\",0,1))","v":1},{"$f":"IF(C30=\"Analog\",1,IF(C30=\"Unused\",0,0))","v":0}]
[null,null,null,null,"TVR 60 PAL Advanced HDD Storage Calculator",null,null,null,null,null,null,null,0,1]
[null,null,null,null,null,null,null,null,null,null,null,null,0,1]
[null,null,null,null,null,null,null,null,null,null,null,null,0,1]
[null,null,null,null,null,null,null,null,null,null,null,null,0,1]
[null,"Recommended Bit-Rates (higher motion requires higher bit rates)",null,null,null,null,null,null,null,null,null,null,0,1]
[null,"Resolution / fps",null,"Less than 4 fps","Up to 8 fps","Up to 12 fps","Up to 16 fps","Up to 25 fps","Channels ",null,"Resolution / fps",null,0,1]
[null,"QCIF / CIF",null,"48 - 192 kbps","192 - 384 kbps","384 - 512 kbps","512 - 768 kbps","768 - 1000 kbps","all up to real-time",null,"QCIF / CIF",null,0,1]
[null,"2CIF",null,"64 - 256kbps","256 - 640kbps","640 - 896 kbps","896 - 1280kbps","1280 - 1792kbps","all up to real-time",null,"2CIF",null,0,1]
[null,"4CIF",null,"80 - 448 kbps","448 - 896 kbps","896 - 1280kbps","1280 - 1792kbps","1792 - 2048 kbps","all up to real-time",null,"4CIF",null,0,1]
[null,"INSTRUCTIONS:  To calculate the required storage capacity, the following information is required: Resolution, number of frames (fps), active hours, \nnumber of storage days desired, bit-rate (from table above), and video motion detection (VMD). ",null,null,null,null,null,null,null,null,null,null,0,1]
[null," Remember: Too low bit-rates will cause poor picture quality.  ",null,null,null,null,null,null,null,null,null,null,0,1]
[null,"Determine the camera type first, TVR 60 has a combined sytem performance of 24 cameras, of which up to 16 can be IP cameras.   \nStart by selecting the \"Resolution\" and \"No. of frames\" in the YELLOW fields of the table for a realistic choice of \"Bite Rate\" selection.",null,null,null,null,null,null,null,null,null,null,0,1]
[null,null,null,null,null,null,null,null,null,null,null,null,0,1]
[null,null,null,null,null,null,null,null,null,null,null,null,0,1]
[null,null,null,null,null,null,null,null,null,null,null,null,0,1]
[null,"In the \"Active Hours\" cell select the schedule, and in the \"Number of Days of Storage Desired\" cell enter a value.",null,null,null,null,null,null,null,null,null,null,0,0]
[null,null,null,null,null,null,null,null,null,null,null,null,0,0]
[null,"Finally in the table, select the VMD % in the columns \"Active / Silent Hours\".                                        Repeat for all connected cameras.",null,null,null,null,null,null,null,null,null,null,0,0]
[null,"Fields in yellow should be changed, these fields have direct influence on the calculation",null,null,null,null,null,null,null,null,null,null,0,0]
[null,"Fields in light gray are formulas and should not be changed",null,null,null,null,null,null,null,null,null,null,0,0]
[null,"Number of Active Hours/Silent Hours per day",null,null,null,"Number of Days of Storage Desired",null,null,null,null,null,null,0,0]
[null,24,null,null,null,30,null,null,null,null,null,null,0,0,null,{"$f":"IF(H46 = \"camera not used\",0, IF(C46 = \"IP\",0,M46))*1024","v":8437.5}]
[null,{"$f":"IF(24-B24 = 0,\"No Silent Hours\", 24-B24)","v":"No Silent Hours"},null,null,null,null,null,null,null,null,null,null,0,0]
[]
[null,"TVR 60 Name:",null,null,null,null,null,"*Please note the values calculated are +/- 5% accurate.",null,null,null,null,{"$f":"IF(B25 = \"No Silent Hours\",\"0\", 24-B24)","v":"0"}]
[]
[null,"Camera No.","Camera \nType","Camera Name",null,"Resolution","No. of Frames fps","Bit-Rate       ","Active Hours VMD %","Silent Hours VMD %","Storage per day per ch.",null,{"$f":"SUM(M2:M25)","v":1},{"$f":"SUM(N2:N25)","v":15},null,"Open hours",null,"Resolution","FPS","Bitrates"]
[null,"Camera  1","IP",null,null,"4CIF",4,448,0.4,0.05,{"$f":"IF(C30 = \"Unused\",0,M30)*1024","v":1845.703125},null,{"$f":"SUM((H30/8*3600*$B$24*I30)+(H30/8*3600*$M$27*J30))/1073741.824","v":1.8024444580078125},0,null,1,null,"QCIF","1/16 fps"]
[null,"Camera  2","Analog",null,null,"4CIF",4,448,0.4,0,1845.703125,null,1.8024444580078125,0.05,null,2,null,"CIF",1,32]
[null,"Camera  3","Analog",null,null,"4CIF",4,448,0.4,0,1845.703125,null,1.8024444580078125,0.1,null,3,null,"2CIF",2,48]
[null,"Camera  4","Analog",null,null,"4CIF",4,448,0.4,0,1845.703125,null,1.8024444580078125,0.15,null,4,null,"4CIF",4,64]
[null,"Camera  5","Analog",null,null,"4CIF",4,448,0.4,0,1845.703125,null,1.8024444580078125,0.2,null,5,null,null,8,80]
[null,"Camera  6","Analog",null,null,"4CIF",4,448,0.4,0,1845.703125,null,1.8024444580078125,0.25,null,6,null,null,12,96]
[null,"Camera  7","Analog",null,null,"4CIF",4,448,0.4,0,1845.703125,null,1.8024444580078125,0.3,null,7,null,null,16,128]
[null,"Camera  8","Analog",null,null,"4CIF",4,448,0.4,0,1845.703125,null,1.8024444580078125,0.4,null,8,null,null,20,160]
[null,"Camera  9","Analog",null,null,"4CIF",4,448,0.4,0,1845.703125,null,1.8024444580078125,0.5,null,9,null,null,"real-time",192]
[null,"Camera  10","Analog",null,null,"4CIF",4,448,0.4,0,1845.703125,null,1.8024444580078125,0.6,null,10,null,null,null,224]
[null,"Camera  11","Analog",null,null,"4CIF",4,448,0.4,0,1845.703125,null,1.8024444580078125,0.7,null,11,null,null,null,256]
[null,"Camera  12","Analog",null,null,"4CIF",4,448,0.4,0,1845.703125,null,1.8024444580078125,0.8,null,12,null,null,null,320]
[null,"Camera  13","Analog",null,null,"4CIF",4,448,0.4,0,1845.703125,null,1.8024444580078125,0.9,null,13,null,null,null,384]
[null,"Camera  14","Analog",null,null,"4CIF",4,448,0.4,0,1845.703125,null,1.8024444580078125,1,null,14,null,null,null,448]
[null,"Camera  15","Analog",null,null,"4CIF",4,448,0.4,0,1845.703125,null,1.8024444580078125,null,null,15,null,null,null,512]
[null,"Camera  16","Analog",null,null,"4CIF",4,448,0.4,0,1845.703125,null,1.8024444580078125,null,null,16,null,null,null,640]
[null,"Camera  17","Unused",null,null,"4CIF","real-time",2048,0.4,0,0,null,8.23974609375,null,null,17,null,null,null,768]
[null,"Camera  18","Unused",null,null,"4CIF","real-time",2048,0.4,0,0,null,8.23974609375,null,null,18,null,null,null,896]
[null,"Camera  19","Unused",null,null,"4CIF","real-time",3000,0.4,0,0,null,12.069940567016602,null,null,19,null,null,null,1024]
[null,"Camera  20","Unused",null,null,"4CIF","real-time",3000,0.4,0,0,null,12.069940567016602,null,null,20,null,null,null,1280]
[null,"Camera  21","Unused",null,null,"4CIF","real-time",3000,0.4,0,0,null,12.069940567016602,null,null,21,null,null,null,1536]
[null,"Camera  22","Unused",null,null,"4CIF","real-time",3000,0.4,0,0,null,12.069940567016602,null,null,22,null,null,null,1792]
[null,"Camera  23","Unused",null,null,"4CIF","real-time",3000,0.4,0,0,null,12.069940567016602,null,null,23,null,null,null,2048]
[null,"Camera  24","Unused",null,null,"4CIF","real-time",3000,0.4,0,0,null,12.069940567016602,null,null,24,null,null,null,"For IP Cameras, enter the IP camera streaming bit-rate!"]
[null,{"$f":"IF(N29>16,\"The max. supported analog Camera qty. has been reached!\",\" \")","v":" "},null,null,null,null,null,"Total per day (GB)",null,null,{"$f":"SUM(K30:K53)/1024","v":28.839111328125}]
[null,{"$f":"IF(M29>16,\"The max. supported IP Camera qty. has been reached!\",\" \")","v":" "},null,null,null,null,null,"Under Estimation Buffer 20% (GB)",null,null,{"$f":"K54*0.2","v":5.767822265625},null,"Analog"]
[null,{"$f":"IF(M29 >0,T53, \" \")","v":"For IP Cameras, enter the IP camera streaming bit-rate!"},null,null,null,null,null,"Total Storage needed",null,{"$f":"F24","v":30},{"$f":"SUM(K55+K54)*J56","v":1038.2080078125},null,"IP"]
[null,"It is recommended to order your TVR 60 with the next highest storage configuration than that calculated.",null,null,null,null,null,null,null,null,null,null,"Unused"]
[null,null,null,null,null,null,null,null,null,"Back to Cover"]

{"sheet":"TVR 60 Load Table","index":9,"n_rows":69,"n_cols":10,"rows_kept":69,"cut":false,"hidden":false,"merged":[[6,0,6,5],[1,9,4,9],[0,3,0,5],[1,3,4,5]]}
["Input Devices","Quantity","Resolution","Comments",null,null,"System Performance",null,"Power \nFactor","Sum"]
["Analog Cameras",16,"4CIF",{"$f":"IF(B2/2+B3+B4*2+B5*2<=16,\"Cameras can be added untill the System Performance Limit has been reached.\",\"The System Performance Limit has been exceeded.\")","v":"Cameras can be added untill the System Performance Limit has been reached."},null,null,{"$f":"B2","v":16},null,{"$f":"IF(B2<=8,8,G2)","v":16},{"$f":"24-I2-(I3+I4+#REF!+I5)","v":{"$error":"#REF!"}}]
["SD IP Cameras",0,"4CIF",null,null,null,{"$f":"B3","v":0},null,{"$f":"B3*H11","v":0}]
["HD 1.3 Mpx IP Cameras",0,"HD 1280 x 720",null,null,null,{"$f":"B4","v":0},null,{"$f":"B4*H12","v":0}]
["HD 2 Mpx IP Cameras",0,"HD 1600 x 1200",null,null,null,{"$f":"B5","v":0},null,{"$f":"B5*H14","v":0}]
[null,null,null,"Back to Cover"]
["TVR 60 sample configurations are shown below"]
[null,"Analog\n(4CIF)","IP SD \n(4CIF)","IP HD 720p \n(1280 x 720)","IP HD    2 MPX (UXGA - 1600 x 1200) Not in Real Time Mode","System\nPerformance","Resolutions",null,0]
["Scenario 1",16,8,null,null,{"$f":"SUM(B9:E9)","v":24},"CIF",null,1]
["Scenario 2",16,4,2,null,22,"2CIF",null,2]
["Scenario 3",16,4,null,2,22,"4CIF",{"$f":"IF(MATCH(C2,G9:G11,0)<=4,1)","v":1},3]
["Scenario 4",16,null,4,null,20,"HD 1280 x 720",2,4]
["Scenario 5",16,null,2,2,20,"HD 1280 x 960",4,5]
["Scenario 6",16,null,null,4,20,"HD 1600 x 1200",4,6]
[null,null,null,null,null,null,null,4,7]
["Scenario 1",14,5,2,null,{"$f":"SUM(B16:E16)","v":21},null,null,8]
["Scenario 2",14,5,null,2,{"$f":"SUM(B17:E17)","v":21},null,null,9]
["Scenario 3",14,1,4,null,{"$f":"SUM(B18:E18)","v":19},null,null,10]
["Scenario 4",14,1,2,2,{"$f":"SUM(B19:E19)","v":19},null,null,11]
["Scenario 5",14,1,null,4,{"$f":"SUM(B20:E20)","v":19},null,null,12]
[null,null,null,null,null,null,null,null,13]
["Scenario 1",12,9,null,null,{"$f":"SUM(B22:E22)","v":21},null,null,14]
["Scenario 2",12,6,2,null,20,null,null,15]
["Scenario 3",12,6,null,2,20,null,null,16]
["Scenario 4",12,null,5,null,17]
["Scenario 5",12,null,1,4,17]
["Scenario 6",12,2,null,4,18]
[]
["Scenario 1",10,11,null,null,{"$f":"SUM(B29:E29)","v":21}]
["Scenario 2",10,5,3,null,18]
["Scenario 3",10,7,null,2,19]
["Scenario 4",10,1,5,null,16]
["Scenario 5",10,3,2,2,17]
["Scenario 6",10,1,1,4,16]
[]
["Scenario 1",8,12,null,null,{"$f":"SUM(B36:E36)","v":20}]
["Scenario 2",8,6,3,null,17]
["Scenario 3",8,6,1,2,17]
["Scenario 4",8,null,6,null,14]
["Scenario 5",8,null,2,4,14]
["Scenario 6",8,null,null,6,14]
[]
["Scenario 1",6,13,null,null,{"$f":"SUM(B43:E43)","v":19}]
["Scenario 2",6,7,3,null,16]
["Scenario 3",6,7,1,2,16]
["Scenario 4",6,1,6,null,13]
["Scenario 5",6,1,2,4,13]
["Scenario 6",6,1,null,6,13]
[]
["Scenario 1",4,14,null,null,{"$f":"SUM(B50:E50)","v":18}]
["Scenario 2",4,8,3,null,15]
["Scenario 3",4,2,null,4,10]
["Scenario 4",4,null,7,null,11]
["Scenario 5",4,null,1,6,11]
["Scenario 6",4,2,null,6,12]
[]
["Scenario 1",2,15,null,null,{"$f":"SUM(B57:E57)","v":17}]
["Scenario 2",2,9,3,null,14]
["Scenario 3",2,7,null,4,13]
["Scenario 4",2,null,7,null,9]
["Scenario 5",2,1,1,6,10]
["Scenario 6",2,1,1,6,10]
[]
["Scenario 1",0,16,null,null,{"$f":"SUM(B64:E64)","v":16}]
["Scenario 2",0,8,4,null,12]
["Scenario 3",0,8,null,4,12]
["Scenario 4",0,null,8,null,8]
["Scenario 5",0,null,null,8,8]
["Scenario 6",0,null,null,8,8]

{"sheet":"   ","index":10,"n_rows":747,"n_cols":45,"rows_kept":747,"cut":false,"hidden":true,"merged":[[700,1,700,5],[700,6,700,11],[700,12,700,17],[676,1,676,5],[676,6,676,11],[676,12,676,17],[648,1,648,4],[648,5,648,11],[648,12,648,18],[648,19,648,31],[181,1,181,5],[214,11,214,15],[648,32,648,44],[70,7,70,12],[70,13,70,18],[102,7,102,12],[102,13,102,18],[215,1,215,5],[215,6,215,10],[215,11,215,15],[155,1,155,5],[155,6,155,10],[155,11,155,15],[156,1,156,5],[156,6,156,10],[156,11,156,15],[181,6,181,10],[181,11,181,15],[182,1,182,5],[182,6,182,10],[182,11,182,15],[214,1,214,5],[214,6,214,10],[125,1,125,6],[125,7,125,12],[125,13,125,18],[101,1,101,6],[101,7,101,12],[101,13,101,18],[102,1,102,6],[124,1,124,6],[124,7,124,12],[124,13,124,18],[71,1,71,6],[71,7,71,12],[71,13,71,18],[47,1,47,6],[47,7,47,12],[47,13,47,18],[48,1,48,6],[48,7,48,12],[48,13,48,18],[70,1,70,6],[1,8,1,12],[1,13,1,17],[1,18,1,20],[15,1,15,5],[15,6,15,10],[15,11,15,15],[14,1,14,5],[14,6,14,10],[14,11,14,15],[237,1,237,5],[237,6,237,10],[237,11,237,15],[238,1,238,5],[238,6,238,10],[238,11,238,15],[268,1,268,5],[268,6,268,10],[268,11,268,15],[269,1,269,5],[269,6,269,10],[269,11,269,15],[291,1,291,5],[291,6,291,10],[291,11,291,15],[292,1,292,5],[292,6,292,10],[292,11,292,15],[616,1,616,5],[616,6,616,10],[616,11,616,15],[617,1,617,5],[617,6,617,10],[617,11,617,15],[711,1,711,6],[711,7,711,12],[711,13,711,18],[712,1,712,6],[712,7,712,12],[712,13,712,18]]}
["Days",{"$f":"#REF!","v":{"$error":"#REF!"}},null,null,null,null,null,"NTSC","D1",null,null,null,null,"2CIF",null,null,null,null,"CIF"]
["#of Camera",{"$f":"#REF!","v":{"$error":"#REF!"}},null,null,null,null,null,null,"Frame Rates Mbps",null,null,null,null,"Field Rates Mbps",null,null,null,null,"Field Rates Mbps"]
[null,null,null,"D1","2CIF","CIF",null,"Quality",30,15,10,5,2,30,15,10,5,2,30,15,10,5,2]
["Frame Per Second",{"$f":"#REF!","v":{"$error":"#REF!"}},null,{"$f":"INDEX($I$4:$M$12,MATCH(B5,$H$4:$H$12,0),MATCH(B4,$I$3:$M$3,0),MATCH(D3,$I$1:$I$1,0))","v":{"$error":"#REF!"}},{"$f":"INDEX($N$4:$R$12,MATCH(B5,$H$4:$H$12,0),MATCH(B4,$N$3:$R$3,0),MATCH(E3,$N$1:$O$1,0))","v":{"$error":"#REF!"}},{"$f":"INDEX($S$4:$W$12,MATCH(B5,$H$4:$H$12,0),MATCH(B4,$S$3:$W$3,0),MATCH(F3,$S$1:$S$1,0))","v":{"$error":"#REF!"}},null,9,3000000,{"$f":"(I4/2)","v":1500000},{"$f":"(I4/3)","v":1000000},{"$f":"((I4/6)*0.3)+(I4/6)","v":650000},{"$f":"((I4/15)*0.6)+(I4/15)","v":320000},{"$f":"(I4/2)","v":1500000},{"$f":"(N4/2)","v":750000},{"$f":"(N4/3)","v":500000},{"$f":"((N4/6)*0.3)+(N4/6)","v":325000},{"$f":"((N4/15)*0.6)+(N4/15)","v":160000},{"$f":"(I4/3)","v":1000000},{"$f":"(S4/2)","v":500000},{"$f":"(S4/3)","v":333333.33333333331},{"$f":"((S4/6)*0.3)+(S4/6)","v":216666.66666666666},{"$f":"((S4/15)*0.6)+(S4/15)","v":106666.66666666667}]
["Quality",{"$f":"#REF!","v":{"$error":"#REF!"}},"with overhead",{"$f":"D4*0.148+D4","v":{"$error":"#REF!"}},{"$f":"E4*0.148+E4","v":{"$error":"#REF!"}},{"$f":"F4*0.148+F4","v":{"$error":"#REF!"}},null,8,2600000,1300000,866666.66666666663,563333.33333333326,277333.33333333337,1300000,650000,433333.33333333331,281666.66666666663,138666.66666666669,866666.66666666663,433333.33333333331,288888.88888888888,187777.77777777775,92444.444444444438]
["% Motion Detection",{"$f":"#REF!","v":{"$error":"#REF!"}},null,null,null,null,null,7,2300000,1150000,766666.66666666663,498333.33333333331,245333.33333333334,1150000,575000,383333.33333333331,249166.66666666666,122666.66666666667,766666.66666666663,383333.33333333331,255555.55555555553,166111.11111111109,81777.777777777781]
[null,null,null,null,null,null,null,6,2000000,1000000,666666.66666666663,433333.33333333331,213333.33333333334,1000000,500000,333333.33333333331,216666.66666666666,106666.66666666667,666666.66666666663,333333.33333333331,222222.22222222222,144444.44444444444,71111.111111111109]
[null,null,"Total Storage",{"$f":"(((86400*D5)/8))*B1*B2","v":{"$error":"#REF!"}},{"$f":"(((86400*E5)/8))*B1*B2","v":{"$error":"#REF!"}},{"$f":"(((86400*F5)/8))*B1*B2","v":{"$error":"#REF!"}},null,5,1720000,860000,573333.33333333337,372666.66666666669,183466.66666666669,860000,430000,286666.66666666669,186333.33333333334,91733.333333333343,573333.33333333337,286666.66666666669,191111.11111111112,124222.22222222223,61155.555555555562]
[null,null,"w/motion",{"$f":"IF($B$6=0,D8,D8*$B$6)","v":{"$error":"#REF!"}},{"$f":"IF($B$6=0,E8,E8*$B$6)","v":{"$error":"#REF!"}},{"$f":"IF($B$6=0,F8,F8*$B$6)","v":{"$error":"#REF!"}},null,4,1560000,780000,520000,338000,166400,780000,390000,260000,169000,83200,520000,260000,173333.33333333334,112666.66666666667,55466.666666666657]
[null,null,null,null,null,null,null,3,1320000,660000,440000,286000,140800,660000,330000,220000,143000,70400,440000,220000,146666.66666666666,95333.333333333328,46933.333333333328]
[null,null,"with overhead",{"$f":"(((86400*D5)/8))*B1*B2","v":{"$error":"#REF!"}},{"$f":"(((86400*E5)/8))*B1*B2","v":{"$error":"#REF!"}},{"$f":"(((86400*F5)/8))*B1*B2","v":{"$error":"#REF!"}},null,2,1160000,580000,386666.66666666669,251333.33333333334,123733.33333333331,580000,290000,193333.33333333334,125666.66666666667,61866.666666666657,386666.66666666669,193333.33333333334,128888.88888888889,83777.777777777781,41244.444444444445]
[null,null,null,{"$f":"D9/1000000000","v":{"$error":"#REF!"}},{"$f":"E9/1000000000","v":{"$error":"#REF!"}},{"$f":"F9/1000000000","v":{"$error":"#REF!"}},null,1,1000000,500000,333333.33333333331,216666.66666666666,106666.66666666667,500000,250000,166666.66666666666,108333.33333333333,53333.333333333336,333333.33333333331,166666.66666666666,111111.11111111111,72222.222222222219,35555.555555555555]
[null,null,null,{"$f":"D9/1000000000000","v":{"$error":"#REF!"}},{"$f":"E9/1000000000000","v":{"$error":"#REF!"}},{"$f":"F9/1000000000000","v":{"$error":"#REF!"}}]
[null,null,null,null,null,null,null,null,null,null,null,null,null,null,null,null,null,null,null,null,null,null,null,"TOTALS"]
["NTSC","D1",null,null,null,null,"2CIF",null,null,null,null,"CIF",null,null,null,null,null,null,null,null,null,null,null,null,null,null,"Table Update"]
[null,"Frame Rates Mbps",null,null,null,null,"Field Rates Mbps",null,null,null,null,"Field Rates Mbps"]
["Quality","D130","D115","D110","D15","D12","2CIF30","2CIF15","2CIF10","2CIF5","2CIF2","CIF30","CIF15","CIF10","CIF5","CIF2",null,null,null,null,null,null,null,"# CHANNELS",{"$f":"#REF!&#REF!","v":{"$error":"#REF!"}},null,{"$f":"#REF!&#REF!","v":{"$error":"#REF!"}}]
["Quality 9",3000000,{"$f":"(B18/2)","v":1500000},{"$f":"(B18/3)","v":1000000},{"$f":"((B18/6)*0.3)+(B18/6)","v":650000},{"$f":"((B18/15)*0.6)+(B18/15)","v":320000},{"$f":"(B18/2)","v":1500000},{"$f":"(G18/2)","v":750000},{"$f":"(G18/3)","v":500000},{"$f":"((G18/6)*0.3)+(G18/6)","v":325000},{"$f":"((G18/15)*0.6)+(G18/15)","v":160000},{"$f":"(B18/3)","v":1000000},{"$f":"(L18/2)","v":500000},{"$f":"(L18/3)","v":333333.33333333331},{"$f":"((L18/6)*0.3)+(L18/6)","v":216666.66666666666},{"$f":"((L18/15)*0.6)+(L18/15)","v":106666.66666666667},null,null,null,null,null,null,null,null,null,null,{"$f":"RIGHT(AA17, LEN(AA17)-7)","v":{"$error":"#REF!"}}]
["Quality 8",2600000,1300000,866666.66666666663,563333.33333333326,277333.33333333337,1300000,650000,433333.33333333331,281666.66666666663,138666.66666666669,866666.66666666663,433333.33333333331,288888.88888888888,187777.77777777775,92444.444444444438]
["Quality 7",2300000,1150000,766666.66666666663,498333.33333333331,245333.33333333334,1150000,575000,383333.33333333331,249166.66666666666,122666.66666666667,766666.66666666663,383333.33333333331,255555.55555555553,166111.11111111109,81777.777777777781]
["Quality 6",2000000,1000000,666666.66666666663,433333.33333333331,213333.33333333334,1000000,500000,333333.33333333331,216666.66666666666,106666.66666666667,666666.66666666663,333333.33333333331,222222.22222222222,144444.44444444444,71111.111111111109,null,null,null,null,null,null,null,"Storage In GB",{"$f":"INDEX($X$37:$AQ$37,MATCH(Y17,$X$27:$AQ$27,0))","v":{"$error":"#REF!"}}]
["Quality 5",1720000,860000,573333.33333333337,372666.66666666669,183466.66666666669,860000,430000,286666.66666666669,186333.33333333334,91733.333333333343,573333.33333333337,286666.66666666669,191111.11111111112,124222.22222222223,61155.555555555562,null,null,null,null,null,null,null,"Storage In TB",{"$f":"INDEX($X$38:$AQ$38,MATCH(Y17,$X$27:$AQ$27,0))","v":{"$error":"#REF!"}}]
["Quality 4",1560000,780000,520000,338000,166400,780000,390000,260000,169000,83200,520000,260000,173333.33333333334,112666.66666666667,55466.666666666657]
["Quality 3",1320000,660000,440000,286000,140800,660000,330000,220000,143000,70400,440000,220000,146666.66666666666,95333.333333333328,46933.333333333328,null,null,null,null,null,null,null,"Bandwidth In Mbps",{"$f":"INDEX($X$40:$AQ$40,MATCH(Y17,$X$27:$AQ$27,0))","v":{"$error":"#REF!"}}]
["Quality 2",1160000,580000,386666.66666666669,251333.33333333334,123733.33333333331,580000,290000,193333.33333333334,125666.66666666667,61866.666666666657,386666.66666666669,193333.33333333334,128888.88888888889,83777.777777777781,41244.444444444445,null,null,null,null,null,null,null,"Bandwidth in kbps",{"$f":"INDEX($X$41:$AQ$41,MATCH(Y17,$X$27:$AQ$27,0))","v":{"$error":"#REF!"}}]
["Quality 1",1000000,500000,333333.33333333331,216666.66666666666,106666.66666666667,500000,250000,166666.66666666666,108333.33333333333,53333.333333333336,333333.33333333331,166666.66666666666,111111.11111111111,72222.222222222219,35555.555555555555]
[null,1,2,3,4,5,6,7,8,9,10,11,12,13,14,15,16,17,18,19,20,"TOTAL",null,"Cameras1","Cameras2","Cameras3","Cameras4","Cameras5","Cameras6","Cameras7","Cameras8","Cameras9","Cameras10","Cameras11","Cameras12","Cameras13","Cameras14","Cameras15","Cameras16","Cameras17","Cameras18","Cameras19","Cameras20"]
["Days",{"$f":"#REF!","v":{"$error":"#REF!"}}]
["Res/fps",{"$f":"#REF!&#REF!","v":{"$error":"#REF!"}},{"$f":"#REF!&#REF!","v":{"$error":"#REF!"}},{"$f":"#REF!&#REF!","v":{"$error":"#REF!"}},{"$f":"#REF!&#REF!","v":{"$error":"#REF!"}},{"$f":"#REF!&#REF!","v":{"$error":"#REF!"}},{"$f":"#REF!&#REF!","v":{"$error":"#REF!"}},{"$f":"#REF!&#REF!","v":{"$error":"#REF!"}},{"$f":"#REF!&#REF!","v":{"$error":"#REF!"}},{"$f":"#REF!&#REF!","v":{"$error":"#REF!"}},{"$f":"#REF!&#REF!","v":{"$error":"#REF!"}},{"$f":"#REF!&#REF!","v":{"$error":"#REF!"}},{"$f":"#REF!&#REF!","v":{"$error":"#REF!"}},{"$f":"#REF!&#REF!","v":{"$error":"#REF!"}},{"$f":"#REF!&#REF!","v":{"$error":"#REF!"}},{"$f":"#REF!&#REF!","v":{"$error":"#REF!"}},{"$f":"#REF!&#REF!","v":{"$error":"#REF!"}},{"$f":"#REF!&#REF!","v":{"$error":"#REF!"}},{"$f":"#REF!&#REF!","v":{"$error":"#REF!"}},{"$f":"#REF!&#REF!","v":{"$error":"#REF!"}},{"$f":"#REF!&#REF!","v":{"$error":"#REF!"}}]
["Quality",{"$f":"#REF!&#REF!","v":{"$error":"#REF!"}},{"$f":"#REF!&#REF!","v":{"$error":"#REF!"}},{"$f":"#REF!&#REF!","v":{"$error":"#REF!"}},{"$f":"#REF!&#REF!","v":{"$error":"#REF!"}},{"$f":"#REF!&#REF!","v":{"$error":"#REF!"}},{"$f":"#REF!&#REF!","v":{"$error":"#REF!"}},{"$f":"#REF!&#REF!","v":{"$error":"#REF!"}},{"$f":"#REF!&#REF!","v":{"$error":"#REF!"}},{"$f":"#REF!&#REF!","v":{"$error":"#REF!"}},{"$f":"#REF!&#REF!","v":{"$error":"#REF!"}},{"$f":"#REF!&#REF!","v":{"$error":"#REF!"}},{"$f":"#REF!&#REF!","v":{"$error":"#REF!"}},{"$f":"#REF!&#REF!","v":{"$error":"#REF!"}},{"$f":"#REF!&#REF!","v":{"$error":"#REF!"}},{"$f":"#REF!&#REF!","v":{"$error":"#REF!"}},{"$f":"#REF!&#REF!","v":{"$error":"#REF!"}},{"$f":"#REF!&#REF!","v":{"$error":"#REF!"}},{"$f":"#REF!&#REF!","v":{"$error":"#REF!"}},{"$f":"#REF!&#REF!","v":{"$error":"#REF!"}},{"$f":"#REF!&#REF!","v":{"$error":"#REF!"}}]
["% Motion",{"$f":"#REF!","v":{"$error":"#REF!"}},{"$f":"#REF!","v":{"$error":"#REF!"}},{"$f":"#REF!","v":{"$error":"#REF!"}},{"$f":"#REF!","v":{"$error":"#REF!"}},{"$f":"#REF!","v":{"$error":"#REF!"}},{"$f":"#REF!","v":{"$error":"#REF!"}},{"$f":"#REF!","v":{"$error":"#REF!"}},{"$f":"#REF!","v":{"$error":"#REF!"}},{"$f":"#REF!","v":{"$error":"#REF!"}},{"$f":"#REF!","v":{"$error":"#REF!"}},{"$f":"#REF!","v":{"$error":"#REF!"}},{"$f":"#REF!","v":{"$error":"#REF!"}},{"$f":"#REF!","v":{"$error":"#REF!"}},{"$f":"#REF!","v":{"$error":"#REF!"}},{"$f":"#REF!","v":{"$error":"#REF!"}},{"$f":"#REF!","v":{"$error":"#REF!"}},{"$f":"#REF!","v":{"$error":"#REF!"}},{"$f":"#REF!","v":{"$error":"#REF!"}},{"$f":"#REF!","v":{"$error":"#REF!"}},{"$f":"#REF!","v":{"$error":"#REF!"}}]
[]
["Bitrate",{"$f":"INDEX($B$18:$P$26,MATCH(B30,$A$18:$A$26,0),MATCH(B29,$B$17:$P$17,0))","v":{"$error":"#REF!"}},{"$error":"#REF!"},{"$error":"#REF!"},{"$error":"#REF!"},{"$error":"#REF!"},{"$error":"#REF!"},{"$error":"#REF!"},{"$error":"#REF!"},{"$error":"#REF!"},{"$error":"#REF!"},{"$error":"#REF!"},{"$error":"#REF!"},{"$error":"#REF!"},{"$error":"#REF!"},{"$error":"#REF!"},{"$error":"#REF!"},{"$error":"#REF!"},{"$error":"#REF!"},{"$error":"#REF!"},{"$error":"#REF!"},{"$f":"SUM(B33:U33)","v":{"$error":"#REF!"}},"Bitrate",{"$f":"SUM(B33:B33)","v":{"$error":"#REF!"}},{"$f":"SUM(B33:C33)","v":{"$error":"#REF!"}},{"$f":"SUM(B33:D33)","v":{"$error":"#REF!"}},{"$f":"SUM(B33:E33)","v":{"$error":"#REF!"}},{"$f":"SUM(B33:F33)","v":{"$error":"#REF!"}},{"$f":"SUM(B33:G33)","v":{"$error":"#REF!"}},{"$f":"SUM(B33:H33)","v":{"$error":"#REF!"}},{"$f":"SUM(B33:I33)","v":{"$error":"#REF!"}},{"$f":"SUM(B33:J33)","v":{"$error":"#REF!"}},{"$f":"SUM(B33:K33)","v":{"$error":"#REF!"}},{"$f":"SUM(B33:L33)","v":{"$error":"#REF!"}},{"$f":"SUM(B33:M33)","v":{"$error":"#REF!"}},{"$f":"SUM(B33:N33)","v":{"$error":"#REF!"}},{"$f":"SUM(B33:O33)","v":{"$error":"#REF!"}},{"$f":"SUM(B33:P33)","v":{"$error":"#REF!"}},{"$f":"SUM(B33:Q33)","v":{"$error":"#REF!"}},{"$f":"SUM(B33:R33)","v":{"$error":"#REF!"}},{"$f":"SUM(B33:S33)","v":{"$error":"#REF!"}},{"$f":"SUM(B33:T33)","v":{"$error":"#REF!"}},{"$f":"SUM(B33:U33)","v":{"$error":"#REF!"}}]
["Bitrate with Overhead",{"$f":"B33*0.148+B33","v":{"$error":"#REF!"}},{"$error":"#REF!"},{"$error":"#REF!"},{"$error":"#REF!"},{"$error":"#REF!"},{"$error":"#REF!"},{"$error":"#REF!"},{"$error":"#REF!"},{"$error":"#REF!"},{"$error":"#REF!"},{"$error":"#REF!"},{"$error":"#REF!"},{"$error":"#REF!"},{"$error":"#REF!"},{"$error":"#REF!"},{"$error":"#REF!"},{"$error":"#REF!"},{"$error":"#REF!"},{"$error":"#REF!"},{"$error":"#REF!"},{"$f":"SUM(B34:U34)","v":{"$error":"#REF!"}},"Bitrate with Overhead",{"$f":"SUM(B34:B34)","v":{"$error":"#REF!"}},{"$f":"SUM(B34:C34)","v":{"$error":"#REF!"}},{"$f":"SUM(B34:D34)","v":{"$error":"#REF!"}},{"$f":"SUM(B34:E34)","v":{"$error":"#REF!"}},{"$f":"SUM(B34:F34)","v":{"$error":"#REF!"}},{"$f":"SUM(B34:G34)","v":{"$error":"#REF!"}},{"$f":"SUM(B34:H34)","v":{"$error":"#REF!"}},{"$f":"SUM(B34:I34)","v":{"$error":"#REF!"}},{"$f":"SUM(B34:J34)","v":{"$error":"#REF!"}},{"$f":"SUM(B34:K34)","v":{"$error":"#REF!"}},{"$f":"SUM(B34:L34)","v":{"$error":"#REF!"}},{"$f":"SUM(B34:M34)","v":{"$error":"#REF!"}},{"$f":"SUM(B34:N34)","v":{"$error":"#REF!"}},{"$f":"SUM(B34:O34)","v":{"$error":"#REF!"}},{"$f":"SUM(B34:P34)","v":{"$error":"#REF!"}},{"$f":"SUM(B34:Q34)","v":{"$error":"#REF!"}},{"$f":"SUM(B34:R34)","v":{"$error":"#REF!"}},{"$f":"SUM(B34:S34)","v":{"$error":"#REF!"}},{"$f":"SUM(B34:T34)","v":{"$error":"#REF!"}},{"$f":"SUM(B34:U34)","v":{"$error":"#REF!"}}]
["Storage",{"$f":"(((86400*B34)/8))*B28","v":{"$error":"#REF!"}},{"$f":"(((86400*C34)/8))*B28","v":{"$error":"#REF!"}},{"$f":"(((86400*D34)/8))*B28","v":{"$error":"#REF!"}},{"$f":"(((86400*E34)/8))*B28","v":{"$error":"#REF!"}},{"$f":"(((86400*F34)/8))*B28","v":{"$error":"#REF!"}},{"$f":"(((86400*G34)/8))*B28","v":{"$error":"#REF!"}},{"$f":"(((86400*H34)/8))*B28","v":{"$error":"#REF!"}},{"$f":"(((86400*I34)/8))*B28","v":{"$error":"#REF!"}},{"$f":"(((86400*J34)/8))*B28","v":{"$error":"#REF!"}},{"$f":"(((86400*K34)/8))*B28","v":{"$error":"#REF!"}},{"$f":"(((86400*L34)/8))*B28","v":{"$error":"#REF!"}},{"$f":"(((86400*M34)/8))*B28","v":{"$error":"#REF!"}},{"$f":"(((86400*N34)/8))*B28","v":{"$error":"#REF!"}},{"$f":"(((86400*O34)/8))*B28","v":{"$error":"#REF!"}},{"$f":"(((86400*P34)/8))*B28","v":{"$error":"#REF!"}},{"$f":"(((86400*Q34)/8))*B28","v":{"$error":"#REF!"}},{"$f":"(((86400*R34)/8))*B28","v":{"$error":"#REF!"}},{"$f":"(((86400*S34)/8))*B28","v":{"$error":"#REF!"}},{"$f":"(((86400*T34)/8))*B28","v":{"$error":"#REF!"}},{"$f":"(((86400*U34)/8))*B28","v":{"$error":"#REF!"}},{"$f":"SUM(B35:U35)","v":{"$error":"#REF!"}},"Storage",{"$f":"SUM(B35:B35)","v":{"$error":"#REF!"}},{"$f":"SUM(B35:C35)","v":{"$error":"#REF!"}},{"$f":"SUM(B35:D35)","v":{"$error":"#REF!"}},{"$f":"SUM(B35:E35)","v":{"$error":"#REF!"}},{"$f":"SUM(B35:F35)","v":{"$error":"#REF!"}},{"$f":"SUM(B35:G35)","v":{"$error":"#REF!"}},{"$f":"SUM(B35:H35)","v":{"$error":"#REF!"}},{"$f":"SUM(B35:I35)","v":{"$error":"#REF!"}},{"$f":"SUM(B35:J35)","v":{"$error":"#REF!"}},{"$f":"SUM(B35:K35)","v":{"$error":"#REF!"}},{"$f":"SUM(B35:L35)","v":{"$error":"#REF!"}},{"$f":"SUM(B35:M35)","v":{"$error":"#REF!"}},{"$f":"SUM(B35:N35)","v":{"$error":"#REF!"}},{"$f":"SUM(B35:O35)","v":{"$error":"#REF!"}},{"$f":"SUM(B35:P35)","v":{"$error":"#REF!"}},{"$f":"SUM(B35:Q35)","v":{"$error":"#REF!"}},{"$f":"SUM(B35:R35)","v":{"$error":"#REF!"}},{"$f":"SUM(B35:S35)","v":{"$error":"#REF!"}},{"$f":"SUM(B35:T35)","v":{"$error":"#REF!"}},{"$f":"SUM(B35:U35)","v":{"$error":"#REF!"}}]
["Storage with Motion",{"$f":"IF($B$31=0,B35,B35*$B$31)","v":{"$error":"#REF!"}},{"$f":"IF($C$31=0,C35,C35*$C$31)","v":{"$error":"#REF!"}},{"$f":"IF($D$31=0,D35,D35*$D$31)","v":{"$error":"#REF!"}},{"$f":"IF($E$31=0,E35,E35*$E$31)","v":{"$error":"#REF!"}},{"$f":"IF($F$31=0,F35,F35*$F$31)","v":{"$error":"#REF!"}},{"$f":"IF($G$31=0,G35,G35*$G$31)","v":{"$error":"#REF!"}},{"$f":"IF($H$31=0,H35,H35*$H$31)","v":{"$error":"#REF!"}},{"$f":"IF($I$31=0,I35,I35*$I$31)","v":{"$error":"#REF!"}},{"$f":"IF($J$31=0,J35,J35*$J$31)","v":{"$error":"#REF!"}},{"$f":"IF($K$31=0,K35,K35*$K$31)","v":{"$error":"#REF!"}},{"$f":"IF($L$31=0,L35,L35*$L$31)","v":{"$error":"#REF!"}},{"$f":"IF($M$31=0,M35,M35*$M$31)","v":{"$error":"#REF!"}},{"$f":"IF($N$31=0,N35,N35*$N$31)","v":{"$error":"#REF!"}},{"$f":"IF($O$31=0,O35,O35*$O$31)","v":{"$error":"#REF!"}},{"$f":"IF($P$31=0,P35,P35*$P$31)","v":{"$error":"#REF!"}},{"$f":"IF($Q$31=0,Q35,Q35*$Q$31)","v":{"$error":"#REF!"}},{"$f":"IF($R$31=0,R35,R35*$R$31)","v":{"$error":"#REF!"}},{"$f":"IF($S$31=0,S35,S35*$S$31)","v":{"$error":"#REF!"}},{"$f":"IF($S$31=0,T35,T35*$S$31)","v":{"$error":"#REF!"}},{"$f":"IF($S$31=0,U35,U35*$S$31)","v":{"$error":"#REF!"}},{"$f":"SUM(B36:U36)","v":{"$error":"#REF!"}},"Storage with Motion",{"$f":"SUM(B36:B36)","v":{"$error":"#REF!"}},{"$f":"SUM(B36:C36)","v":{"$error":"#REF!"}},{"$f":"SUM(B36:D36)","v":{"$error":"#REF!"}},{"$f":"SUM(B36:E36)","v":{"$error":"#REF!"}},{"$f":"SUM(B36:F36)","v":{"$error":"#REF!"}},{"$f":"SUM(B36:G36)","v":{"$error":"#REF!"}},{"$f":"SUM(B36:H36)","v":{"$error":"#REF!"}},{"$f":"SUM(B36:I36)","v":{"$error":"#REF!"}},{"$f":"SUM(B36:J36)","v":{"$error":"#REF!"}},{"$f":"SUM(B36:K36)","v":{"$error":"#REF!"}},{"$f":"SUM(B36:L36)","v":{"$error":"#REF!"}},{"$f":"SUM(B36:M36)","v":{"$error":"#REF!"}},{"$f":"SUM(B36:N36)","v":{"$error":"#REF!"}},{"$f":"SUM(B36:O36)","v":{"$error":"#REF!"}},{"$f":"SUM(B36:P36)","v":{"$error":"#REF!"}},{"$f":"SUM(B36:Q36)","v":{"$error":"#REF!"}},{"$f":"SUM(B36:R36)","v":{"$error":"#REF!"}},{"$f":"SUM(B36:S36)","v":{"$error":"#REF!"}},{"$f":"SUM(B36:T36)","v":{"$error":"#REF!"}},{"$f":"SUM(B36:U36)","v":{"$error":"#REF!"}}]
["Storage In GB",{"$f":"B36/1000000000","v":{"$error":"#REF!"}},{"$error":"#REF!"},{"$error":"#REF!"},{"$error":"#REF!"},{"$error":"#REF!"},{"$error":"#REF!"},{"$error":"#REF!"},{"$error":"#REF!"},{"$error":"#REF!"},{"$error":"#REF!"},{"$error":"#REF!"},{"$error":"#REF!"},{"$error":"#REF!"},{"$error":"#REF!"},{"$error":"#REF!"},{"$error":"#REF!"},{"$error":"#REF!"},{"$error":"#REF!"},{"$error":"#REF!"},{"$error":"#REF!"},{"$error":"#REF!"},"Storage In GB",{"$f":"X36/1000000000","v":{"$error":"#REF!"}},{"$error":"#REF!"},{"$error":"#REF!"},{"$error":"#REF!"},{"$error":"#REF!"},{"$error":"#REF!"},{"$error":"#REF!"},{"$error":"#REF!"},{"$error":"#REF!"},{"$error":"#REF!"},{"$error":"#REF!"},{"$error":"#REF!"},{"$error":"#REF!"},{"$error":"#REF!"},{"$error":"#REF!"},{"$error":"#REF!"},{"$error":"#REF!"},{"$error":"#REF!"},{"$error":"#REF!"},{"$error":"#REF!"}]
["Storage In TB",{"$f":"B36/1000000000000","v":{"$error":"#REF!"}},{"$error":"#REF!"},{"$error":"#REF!"},{"$error":"#REF!"},{"$error":"#REF!"},{"$error":"#REF!"},{"$error":"#REF!"},{"$error":"#REF!"},{"$error":"#REF!"},{"$error":"#REF!"},{"$error":"#REF!"},{"$error":"#REF!"},{"$error":"#REF!"},{"$error":"#REF!"},{"$error":"#REF!"},{"$error":"#REF!"},{"$error":"#REF!"},{"$error":"#REF!"},{"$error":"#REF!"},{"$error":"#REF!"},{"$error":"#REF!"},"Storage In TB",{"$f":"X36/1000000000000","v":{"$error":"#REF!"}},{"$error":"#REF!"},{"$error":"#REF!"},{"$error":"#REF!"},{"$error":"#REF!"},{"$error":"#REF!"},{"$error":"#REF!"},{"$error":"#REF!"},{"$error":"#REF!"},{"$error":"#REF!"},{"$error":"#REF!"},{"$error":"#REF!"},{"$error":"#REF!"},{"$error":"#REF!"},{"$error":"#REF!"},{"$error":"#REF!"},{"$error":"#REF!"},{"$error":"#REF!"},{"$error":"#REF!"},{"$error":"#REF!"}]
[]
["Bandwidth In Mbps",{"$f":"B34/1000000","v":{"$error":"#REF!"}},{"$error":"#REF!"},{"$error":"#REF!"},{"$error":"#REF!"},{"$error":"#REF!"},{"$error":"#REF!"},{"$error":"#REF!"},{"$error":"#REF!"},{"$error":"#REF!"},{"$error":"#REF!"},{"$error":"#REF!"},{"$error":"#REF!"},{"$error":"#REF!"},{"$error":"#REF!"},{"$error":"#REF!"},{"$error":"#REF!"},{"$error":"#REF!"},{"$error":"#REF!"},{"$error":"#REF!"},{"$error":"#REF!"},{"$error":"#REF!"},"Bandwidth In Mbps",{"$f":"X34/1000000","v":{"$error":"#REF!"}},{"$error":"#REF!"},{"$error":"#REF!"},{"$error":"#REF!"},{"$error":"#REF!"},{"$error":"#REF!"},{"$error":"#REF!"},{"$error":"#REF!"},{"$error":"#REF!"},{"$error":"#REF!"},{"$error":"#REF!"},{"$error":"#REF!"},{"$error":"#REF!"},{"$error":"#REF!"},{"$error":"#REF!"},{"$error":"#REF!"},{"$error":"#REF!"},{"$error":"#REF!"},{"$error":"#REF!"},{"$error":"#REF!"}]
["Bandwidth in kbps",{"$f":"B40*1000","v":{"$error":"#REF!"}},{"$error":"#REF!"},{"$error":"#REF!"},{"$error":"#REF!"},{"$error":"#REF!"},{"$error":"#REF!"},{"$error":"#REF!"},{"$error":"#REF!"},{"$error":"#REF!"},{"$error":"#REF!"},{"$error":"#REF!"},{"$error":"#REF!"},{"$error":"#REF!"},{"$error":"#REF!"},{"$error":"#REF!"},{"$error":"#REF!"},{"$error":"#REF!"},{"$error":"#REF!"},{"$error":"#REF!"},{"$error":"#REF!"},{"$error":"#REF!"},"Bandwidth in kbps",{"$f":"X40*1000","v":{"$error":"#REF!"}},{"$error":"#REF!"},{"$error":"#REF!"},{"$error":"#REF!"},{"$error":"#REF!"},{"$error":"#REF!"},{"$error":"#REF!"},{"$error":"#REF!"},{"$error":"#REF!"},{"$error":"#REF!"},{"$error":"#REF!"},{"$error":"#REF!"},{"$error":"#REF!"},{"$error":"#REF!"},{"$error":"#REF!"},{"$error":"#REF!"},{"$error":"#REF!"},{"$error":"#REF!"},{"$error":"#REF!"},{"$error":"#REF!"}]
[]
[]
[]
[]
["SymSafe PRO"]
[]
["NTSC","D1 Resolution",null,null,null,null,null,"2CIF Resolution",null,null,null,null,null,"CIF Resolution"]
[null,"Frame Rates Mbps",null,null,null,null,null,"Field Rates Mbps",null,null,null,null,null,"Field Rates Mbps"]
["Quality",30,15,10,7.5,5,2,30,15,10,7.5,5,2,30,15,10,7.5,5,2]
[6,3000000,{"$f":"(B51/2)","v":1500000},{"$f":"(B51/3)","v":1000000},{"$f":"B51/4","v":750000},{"$f":"((B51/6)*0.3)+(B51/6)","v":650000},{"$f":"((B51/15)*0.6)+(B51/15)","v":320000},{"$f":"(B51/2)","v":1500000},{"$f":"(H51/2)","v":750000},{"$f":"(H51/3)","v":500000},{"$f":"(H51/4)","v":375000},{"$f":"((H51/6)*0.3)+(H51/6)","v":325000},{"$f":"((H51/15)*0.6)+(H51/15)","v":160000},{"$f":"(B51/3)","v":1000000},{"$f":"(N51/2)","v":500000},{"$f":"(N51/3)","v":333333.33333333331},{"$f":"(N51/4)","v":250000},{"$f":"((N51/6)*0.3)+(N51/6)","v":216666.66666666666},{"$f":"((N51/15)*0.6)+(N51/15)","v":106666.66666666667}]
[5,2300000,1150000,766666.66666666663,575000,498333.33333333331,245333.33333333334,1150000,575000,383333.33333333331,287500,249166.66666666666,122666.66666666667,766666.66666666663,383333.33333333331,255555.55555555553,191666.66666666666,166111.11111111109,81777.777777777781]
[4,2000000,1000000,666666.66666666663,500000,433333.33333333331,213333.33333333334,1000000,500000,333333.33333333331,250000,216666.66666666666,106666.66666666667,666666.66666666663,333333.33333333331,222222.22222222222,166666.66666666666,144444.44444444444,71111.111111111109]
[3,1720000,860000,573333.33333333337,430000,372666.66666666669,183466.66666666669,860000,430000,286666.66666666669,215000,186333.33333333334,91733.333333333343,573333.33333333337,286666.66666666669,191111.11111111112,143333.33333333334,124222.22222222223,61155.555555555562]
[2,1320000,660000,440000,330000,286000,140800,660000,330000,220000,165000,143000,70400,440000,220000,146666.66666666666,110000,95333.333333333328,46933.333333333328]
[1,1160000,580000,386666.66666666669,290000,251333.33333333334,123733.33333333331,580000,290000,193333.33333333334,145000,125666.66666666667,61866.666666666657,386666.66666666669,193333.33333333334,128888.88888888889,96666.666666666672,83777.777777777781,41244.444444444445]
[]
["Days",{"$f":"#REF!","v":{"$error":"#REF!"}}]
["#of Camera",{"$f":"#REF!","v":{"$error":"#REF!"}},null,null,"D1","2CIF","CIF"]
[null,null,null,null,{"$f":"INDEX($C$51:$G$56,MATCH(B62,$A$51:$A$56,0),MATCH(B61,$C$50:$G$50,0))","v":{"$error":"#REF!"}},{"$f":"INDEX($H$51:$M$56,MATCH(B62,$A$51:$A$56,0),MATCH(B61,$H$50:$M$50,0))","v":{"$error":"#REF!"}},{"$f":"INDEX($N$51:$S$56,MATCH(B62,$A$51:$A$56,0),MATCH(B61,$N$50:$S$50,0))","v":{"$error":"#REF!"}}]
["Frame Per Second",{"$f":"#REF!","v":{"$error":"#REF!"}},null,"with overhead",{"$f":"E60*0.148+E60","v":{"$error":"#REF!"}},{"$f":"F60*0.148+F60","v":{"$error":"#REF!"}},{"$f":"G60*0.148+G60","v":{"$error":"#REF!"}}]
["Quality",{"$f":"#REF!","v":{"$error":"#REF!"}}]
["% Motion Detection",{"$f":"#REF!","v":{"$error":"#REF!"}}]
[null,null,null,"Total Storage",{"$f":"(((86400*E61)/8))*B58*B59","v":{"$error":"#REF!"}},{"$f":"(((86400*F61)/8))*B58*B59","v":{"$error":"#REF!"}},{"$f":"(((86400*G61)/8))*B58*B59","v":{"$error":"#REF!"}}]
[null,null,null,"w/motion",{"$f":"IF($B$63=0,E64,E64*$B$63)","v":{"$error":"#REF!"}},{"$f":"IF($B$63=0,F64,F64*$B$63)","v":{"$error":"#REF!"}},{"$f":"IF($B$63=0,G64,G64*$B$63)","v":{"$error":"#REF!"}}]
[]
[null,null,null,"with overhead",{"$f":"(((86400*E61)/8))*B58*B59","v":{"$error":"#REF!"}},{"$f":"(((86400*F61)/8))*B58*B59","v":{"$error":"#REF!"}},{"$f":"(((86400*G61)/8))*B58*B59","v":{"$error":"#REF!"}}]
[null,null,null,null,{"$f":"E65/1000000000","v":{"$error":"#REF!"}},{"$f":"F65/1000000000","v":{"$error":"#REF!"}},{"$f":"G65/1000000000","v":{"$error":"#REF!"}}]
[null,null,null,null,{"$f":"E65/1000000000000","v":{"$error":"#REF!"}},{"$f":"F65/1000000000000","v":{"$error":"#REF!"}},{"$f":"G65/1000000000000","v":{"$error":"#REF!"}},null,null,null,null,null,null,null,null,null,null,null,null,null,"TOTALS"]
[]
["NTSC","D1 Resolution",null,null,null,null,null,"2CIF Resolution",null,null,null,null,null,"CIF Resolution"]
[null,"Frame Rates Mbps",null,null,null,null,null,"Field Rates Mbps",null,null,null,null,null,"Field Rates Mbps",null,null,null,null,null,null,"# CHANNELS",{"$f":"#REF!","v":{"$error":"#REF!"}}]
["Quality",30,"D115","D110","D17.5","D15","D12","2CIF30","2CIF15","2CIF10","2CIF7.5","2CIF5","2CIF2","CIF30","CIF15","CIF10","CIF7.5","CIF5","CIF2"]
["Quality 6",3000000,{"$f":"(B74/2)","v":1500000},{"$f":"(B74/3)","v":1000000},{"$f":"B74/4","v":750000},{"$f":"((B74/6)*0.3)+(B74/6)","v":650000},{"$f":"((B74/15)*0.6)+(B74/15)","v":320000},{"$f":"(B74/2)","v":1500000},{"$f":"(H74/2)","v":750000},{"$f":"(H74/3)","v":500000},{"$f":"(H74/4)","v":375000},{"$f":"((H74/6)*0.3)+(H74/6)","v":325000},{"$f":"((H74/15)*0.6)+(H74/15)","v":160000},{"$f":"(B74/3)","v":1000000},{"$f":"(N74/2)","v":500000},{"$f":"(N74/3)","v":333333.33333333331},{"$f":"(N74/4)","v":250000},{"$f":"((N74/6)*0.3)+(N74/6)","v":216666.66666666666},{"$f":"((N74/15)*0.6)+(N74/15)","v":106666.66666666667}]
["Quality 5",2300000,1150000,766666.66666666663,575000,498333.33333333331,245333.33333333334,1150000,575000,383333.33333333331,287500,249166.66666666666,122666.66666666667,766666.66666666663,383333.33333333331,255555.55555555553,191666.66666666666,166111.11111111109,81777.777777777781]
["Quality 4",2000000,1000000,666666.66666666663,500000,433333.33333333331,213333.33333333334,1000000,500000,333333.33333333331,250000,216666.66666666666,106666.66666666667,666666.66666666663,333333.33333333331,222222.22222222222,166666.66666666666,144444.44444444444,71111.111111111109,null,"Storage In GB",{"$f":"INDEX($U$92:$AL$92,MATCH(V72,$U$82:$AL$82,0))","v":{"$error":"#REF!"}}]
["Quality 3",1720000,860000,573333.33333333337,430000,372666.66666666669,183466.66666666669,860000,430000,286666.66666666669,215000,186333.33333333334,91733.333333333343,573333.33333333337,286666.66666666669,191111.11111111112,143333.33333333334,124222.22222222223,61155.555555555562,null,"Storage In TB",{"$f":"INDEX($U$93:$AL$93,MATCH(V72,$U$82:$AL$82,0))","v":{"$error":"#REF!"}}]
["Quality 2",1320000,660000,440000,330000,286000,140800,660000,330000,220000,165000,143000,70400,440000,220000,146666.66666666666,110000,95333.333333333328,46933.333333333328]
["Quality 1",1160000,580000,386666.66666666669,290000,251333.33333333334,123733.33333333331,580000,290000,193333.33333333334,145000,125666.66666666667,61866.666666666657,386666.66666666669,193333.33333333334,128888.88888888889,96666.666666666672,83777.777777777781,41244.444444444445,null,"Bandwidth In Mbps",{"$f":"INDEX($U$95:$AL$95,MATCH(V72,$U$82:$AL$82,0))","v":{"$error":"#REF!"}}]
[null,null,null,null,null,null,null,null,null,null,null,null,null,null,null,null,null,null,null,null,"Bandwidth in kbps",{"$f":"INDEX($U$96:$AL$96,MATCH(V72,$U$72:$AL$72,0))","v":{"$error":"#REF!"}}]
[]
[null,1,2,3,4,5,6,7,8,9,10,11,12,13,14,15,16,17,18,null,1,2,3,4,5,6,7,8,9,10,11,12,13,14,15,16,17,18]
["Days",{"$f":"#REF!","v":{"$error":"#REF!"}}]
["Res/fps",{"$f":"#REF!&#REF!","v":{"$error":"#REF!"}},{"$f":"#REF!&#REF!","v":{"$error":"#REF!"}},{"$f":"#REF!&#REF!","v":{"$error":"#REF!"}},{"$f":"#REF!&#REF!","v":{"$error":"#REF!"}},{"$f":"#REF!&#REF!","v":{"$error":"#REF!"}},{"$f":"#REF!&#REF!","v":{"$error":"#REF!"}},{"$f":"#REF!&#REF!","v":{"$error":"#REF!"}},{"$f":"#REF!&#REF!","v":{"$error":"#REF!"}},{"$f":"#REF!&#REF!","v":{"$error":"#REF!"}},{"$f":"#REF!&#REF!","v":{"$error":"#REF!"}},{"$f":"#REF!&#REF!","v":{"$error":"#REF!"}},{"$f":"#REF!&#REF!","v":{"$error":"#REF!"}},{"$f":"#REF!&#REF!","v":{"$error":"#REF!"}},{"$f":"#REF!&#REF!","v":{"$error":"#REF!"}},{"$f":"#REF!&#REF!","v":{"$error":"#REF!"}},"cif15",{"$f":"#REF!&#REF!","v":{"$error":"#REF!"}},{"$f":"#REF!&#REF!","v":{"$error":"#REF!"}}]
["Quality",{"$f":"#REF!&#REF!","v":{"$error":"#REF!"}},{"$f":"#REF!&#REF!","v":{"$error":"#REF!"}},{"$f":"#REF!&#REF!","v":{"$error":"#REF!"}},{"$f":"#REF!&#REF!","v":{"$error":"#REF!"}},{"$f":"#REF!&#REF!","v":{"$error":"#REF!"}},{"$f":"#REF!&#REF!","v":{"$error":"#REF!"}},{"$f":"#REF!&#REF!","v":{"$error":"#REF!"}},{"$f":"#REF!&#REF!","v":{"$error":"#REF!"}},{"$f":"#REF!&#REF!","v":{"$error":"#REF!"}},{"$f":"#REF!&#REF!","v":{"$error":"#REF!"}},{"$f":"#REF!&#REF!","v":{"$error":"#REF!"}},{"$f":"#REF!&#REF!","v":{"$error":"#REF!"}},{"$f":"#REF!&#REF!","v":{"$error":"#REF!"}},{"$f":"#REF!&#REF!","v":{"$error":"#REF!"}},{"$f":"#REF!&#REF!","v":{"$error":"#REF!"}},{"$f":"#REF!&#REF!","v":{"$error":"#REF!"}},{"$f":"#REF!&#REF!","v":{"$error":"#REF!"}},{"$f":"#REF!&#REF!","v":{"$error":"#REF!"}}]
["% Motion",{"$f":"#REF!","v":{"$error":"#REF!"}},{"$f":"#REF!","v":{"$error":"#REF!"}},{"$f":"#REF!","v":{"$error":"#REF!"}},{"$f":"#REF!","v":{"$error":"#REF!"}},{"$f":"#REF!","v":{"$error":"#REF!"}},{"$f":"#REF!","v":{"$error":"#REF!"}},{"$f":"#REF!","v":{"$error":"#REF!"}},{"$f":"#REF!","v":{"$error":"#REF!"}},{"$f":"#REF!","v":{"$error":"#REF!"}},{"$f":"#REF!","v":{"$error":"#REF!"}},{"$f":"#REF!","v":{"$error":"#REF!"}},{"$f":"#REF!","v":{"$error":"#REF!"}},{"$f":"#REF!","v":{"$error":"#REF!"}},{"$f":"#REF!","v":{"$error":"#REF!"}},{"$f":"#REF!","v":{"$error":"#REF!"}},{"$f":"#REF!","v":{"$error":"#REF!"}},{"$f":"#REF!","v":{"$error":"#REF!"}},{"$f":"#REF!","v":{"$error":"#REF!"}}]
[]
["Bitrate",{"$f":"INDEX($C$74:$S$79,MATCH(B85,$A$74:$A$79,0),MATCH(B84,$C$73:$S$73,0))","v":{"$error":"#REF!"}},{"$f":"INDEX($C$74:$S$79,MATCH(C85,$A$74:$A$79,0),MATCH(C84,$C$73:$S$73,0))","v":{"$error":"#REF!"}},{"$error":"#REF!"},{"$error":"#REF!"},{"$error":"#REF!"},{"$error":"#REF!"},{"$error":"#REF!"},{"$error":"#REF!"},{"$error":"#REF!"},{"$error":"#REF!"},{"$error":"#REF!"},{"$error":"#REF!"},{"$error":"#REF!"},{"$error":"#REF!"},{"$error":"#REF!"},{"$error":"#REF!"},{"$error":"#REF!"},{"$error":"#REF!"},"Bitrate",{"$f":"SUM(B88:B88)","v":{"$error":"#REF!"}},{"$f":"SUM(B88:C88)","v":{"$error":"#REF!"}},{"$f":"SUM(B88:D88)","v":{"$error":"#REF!"}},{"$f":"SUM(B88:E88)","v":{"$error":"#REF!"}},{"$f":"SUM(B88:F88)","v":{"$error":"#REF!"}},{"$f":"SUM(B88:G88)","v":{"$error":"#REF!"}},{"$f":"SUM(B88:H88)","v":{"$error":"#REF!"}},{"$f":"SUM(B88:I88)","v":{"$error":"#REF!"}},{"$f":"SUM(B88:J88)","v":{"$error":"#REF!"}},{"$f":"SUM(B88:K88)","v":{"$error":"#REF!"}},{"$f":"SUM(B88:L88)","v":{"$error":"#REF!"}},{"$f":"SUM(B88:M88)","v":{"$error":"#REF!"}},{"$f":"SUM(B88:N88)","v":{"$error":"#REF!"}},{"$f":"SUM(B88:O88)","v":{"$error":"#REF!"}},{"$f":"SUM(B88:P88)","v":{"$error":"#REF!"}},{"$f":"SUM(B88:Q88)","v":{"$error":"#REF!"}},{"$f":"SUM(B88:R88)","v":{"$error":"#REF!"}},{"$f":"SUM(B88:S88)","v":{"$error":"#REF!"}}]
["Bitrate with Overhead",{"$f":"B88*0.148+B88","v":{"$error":"#REF!"}},{"$error":"#REF!"},{"$error":"#REF!"},{"$error":"#REF!"},{"$error":"#REF!"},{"$error":"#REF!"},{"$error":"#REF!"},{"$error":"#REF!"},{"$error":"#REF!"},{"$error":"#REF!"},{"$error":"#REF!"},{"$error":"#REF!"},{"$error":"#REF!"},{"$error":"#REF!"},{"$error":"#REF!"},{"$error":"#REF!"},{"$error":"#REF!"},{"$error":"#REF!"},"Bitrate with Overhead",{"$f":"SUM(B89:B89)","v":{"$error":"#REF!"}},{"$f":"SUM(B89:C89)","v":{"$error":"#REF!"}},{"$f":"SUM(B89:D89)","v":{"$error":"#REF!"}},{"$f":"SUM(B89:E89)","v":{"$error":"#REF!"}},{"$f":"SUM(B89:F89)","v":{"$error":"#REF!"}},{"$f":"SUM(B89:G89)","v":{"$error":"#REF!"}},{"$f":"SUM(B89:H89)","v":{"$error":"#REF!"}},{"$f":"SUM(B89:I89)","v":{"$error":"#REF!"}},{"$f":"SUM(B89:J89)","v":{"$error":"#REF!"}},{"$f":"SUM(B89:K89)","v":{"$error":"#REF!"}},{"$f":"SUM(B89:L89)","v":{"$error":"#REF!"}},{"$f":"SUM(B89:M89)","v":{"$error":"#REF!"}},{"$f":"SUM(B89:N89)","v":{"$error":"#REF!"}},{"$f":"SUM(B89:O89)","v":{"$error":"#REF!"}},{"$f":"SUM(B89:P89)","v":{"$error":"#REF!"}},{"$f":"SUM(B89:Q89)","v":{"$error":"#REF!"}},{"$f":"SUM(B89:R89)","v":{"$error":"#REF!"}},{"$f":"SUM(B89:S89)","v":{"$error":"#REF!"}}]
["Storage",{"$f":"(((86400*B89)/8))*B83","v":{"$error":"#REF!"}},{"$f":"(((86400*C89)/8))*B83","v":{"$error":"#REF!"}},{"$f":"(((86400*D89)/8))*B83","v":{"$error":"#REF!"}},{"$f":"(((86400*E89)/8))*B83","v":{"$error":"#REF!"}},{"$f":"(((86400*F89)/8))*B83","v":{"$error":"#REF!"}},{"$f":"(((86400*G89)/8))*B83","v":{"$error":"#REF!"}},{"$f":"(((86400*H89)/8))*B83","v":{"$error":"#REF!"}},{"$f":"(((86400*I89)/8))*B83","v":{"$error":"#REF!"}},{"$f":"(((86400*J89)/8))*B83","v":{"$error":"#REF!"}},{"$f":"(((86400*K89)/8))*B83","v":{"$error":"#REF!"}},{"$f":"(((86400*L89)/8))*B83","v":{"$error":"#REF!"}},{"$f":"(((86400*M89)/8))*B83","v":{"$error":"#REF!"}},{"$f":"(((86400*N89)/8))*B83","v":{"$error":"#REF!"}},{"$f":"(((86400*O89)/8))*B83","v":{"$error":"#REF!"}},{"$f":"(((86400*P89)/8))*B83","v":{"$error":"#REF!"}},{"$f":"(((86400*Q89)/8))*B83","v":{"$error":"#REF!"}},{"$f":"(((86400*R89)/8))*B83","v":{"$error":"#REF!"}},{"$f":"(((86400*S89)/8))*B83","v":{"$error":"#REF!"}},"Storage",{"$f":"SUM(B90:B90)","v":{"$error":"#REF!"}},{"$f":"SUM(B90:C90)","v":{"$error":"#REF!"}},{"$f":"SUM(B90:D90)","v":{"$error":"#REF!"}},{"$f":"SUM(B90:E90)","v":{"$error":"#REF!"}},{"$f":"SUM(B90:F90)","v":{"$error":"#REF!"}},{"$f":"SUM(B90:G90)","v":{"$error":"#REF!"}},{"$f":"SUM(B90:H90)","v":{"$error":"#REF!"}},{"$f":"SUM(B90:I90)","v":{"$error":"#REF!"}},{"$f":"SUM(B90:J90)","v":{"$error":"#REF!"}},{"$f":"SUM(B90:K90)","v":{"$error":"#REF!"}},{"$f":"SUM(B90:L90)","v":{"$error":"#REF!"}},{"$f":"SUM(B90:M90)","v":{"$error":"#REF!"}},{"$f":"SUM(B90:N90)","v":{"$error":"#REF!"}},{"$f":"SUM(B90:O90)","v":{"$error":"#REF!"}},{"$f":"SUM(B90:P90)","v":{"$error":"#REF!"}},{"$f":"SUM(B90:Q90)","v":{"$error":"#REF!"}},{"$f":"SUM(B90:R90)","v":{"$error":"#REF!"}},{"$f":"SUM(B90:S90)","v":{"$error":"#REF!"}}]
["Storage with Motion",{"$f":"IF($B$86=0,B90,B90*$B$86)","v":{"$error":"#REF!"}},{"$f":"IF($C$86=0,C90,C90*$C$86)","v":{"$error":"#REF!"}},{"$f":"IF($D$86=0,D90,D90*$D$86)","v":{"$error":"#REF!"}},{"$f":"IF($E$86=0,E90,E90*$E$86)","v":{"$error":"#REF!"}},{"$f":"IF($F$86=0,F90,F90*$F$86)","v":{"$error":"#REF!"}},{"$f":"IF($G$86=0,G90,G90*$G$86)","v":{"$error":"#REF!"}},{"$f":"IF($H$86=0,H90,H90*$H$86)","v":{"$error":"#REF!"}},{"$f":"IF($I$86=0,I90,I90*$I$86)","v":{"$error":"#REF!"}},{"$f":"IF($J$86=0,J90,J90*$J$86)","v":{"$error":"#REF!"}},{"$f":"IF($K$86=0,K90,K90*$K$86)","v":{"$error":"#REF!"}},{"$f":"IF($L$86=0,L90,L90*$L$86)","v":{"$error":"#REF!"}},{"$f":"IF($M$86=0,M90,M90*$M$86)","v":{"$error":"#REF!"}},{"$f":"IF($N$86=0,N90,N90*$N$86)","v":{"$error":"#REF!"}},{"$f":"IF($O$86=0,O90,O90*$O$86)","v":{"$error":"#REF!"}},{"$f":"IF($P$86=0,P90,P90*$P$86)","v":{"$error":"#REF!"}},{"$f":"IF($Q$86=0,Q90,Q90*$Q$86)","v":{"$error":"#REF!"}},{"$f":"IF($R$86=0,R90,R90*$R$86)","v":{"$error":"#REF!"}},{"$f":"IF($S$86=0,S90,S90*$S$86)","v":{"$error":"#REF!"}},"Storage with Motion",{"$f":"SUM(B91:B91)","v":{"$error":"#REF!"}},{"$f":"SUM(B91:C91)","v":{"$error":"#REF!"}},{"$f":"SUM(B91:D91)","v":{"$error":"#REF!"}},{"$f":"SUM(B91:E91)","v":{"$error":"#REF!"}},{"$f":"SUM(B91:F91)","v":{"$error":"#REF!"}},{"$f":"SUM(B91:G91)","v":{"$error":"#REF!"}},{"$f":"SUM(B91:H91)","v":{"$error":"#REF!"}},{"$f":"SUM(B91:I91)","v":{"$error":"#REF!"}},{"$f":"SUM(B91:J91)","v":{"$error":"#REF!"}},{"$f":"SUM(B91:K91)","v":{"$error":"#REF!"}},{"$f":"SUM(B91:L91)","v":{"$error":"#REF!"}},{"$f":"SUM(B91:M91)","v":{"$error":"#REF!"}},{"$f":"SUM(B91:N91)","v":{"$error":"#REF!"}},{"$f":"SUM(B91:O91)","v":{"$error":"#REF!"}},{"$f":"SUM(B91:P91)","v":{"$error":"#REF!"}},{"$f":"SUM(B91:Q91)","v":{"$error":"#REF!"}},{"$f":"SUM(B91:R91)","v":{"$error":"#REF!"}},{"$f":"SUM(B91:S91)","v":{"$error":"#REF!"}}]
["Storage In GB",{"$f":"B91/1000000000","v":{"$error":"#REF!"}},{"$error":"#REF!"},{"$error":"#REF!"},{"$error":"#REF!"},{"$error":"#REF!"},{"$error":"#REF!"},{"$error":"#REF!"},{"$error":"#REF!"},{"$error":"#REF!"},{"$error":"#REF!"},{"$error":"#REF!"},{"$error":"#REF!"},{"$error":"#REF!"},{"$error":"#REF!"},{"$error":"#REF!"},{"$error":"#REF!"},{"$error":"#REF!"},{"$error":"#REF!"},"Storage In GB",{"$f":"U91/1000000000","v":{"$error":"#REF!"}},{"$error":"#REF!"},{"$error":"#REF!"},{"$error":"#REF!"},{"$error":"#REF!"},{"$error":"#REF!"},{"$error":"#REF!"},{"$error":"#REF!"},{"$error":"#REF!"},{"$error":"#REF!"},{"$error":"#REF!"},{"$error":"#REF!"},{"$error":"#REF!"},{"$error":"#REF!"},{"$error":"#REF!"},{"$error":"#REF!"},{"$error":"#REF!"},{"$error":"#REF!"}]
["Storage In TB",{"$f":"B91/1000000000000","v":{"$error":"#REF!"}},{"$error":"#REF!"},{"$error":"#REF!"},{"$error":"#REF!"},{"$error":"#REF!"},{"$error":"#REF!"},{"$error":"#REF!"},{"$error":"#REF!"},{"$error":"#REF!"},{"$error":"#REF!"},{"$error":"#REF!"},{"$error":"#REF!"},{"$error":"#REF!"},{"$error":"#REF!"},{"$error":"#REF!"},{"$error":"#REF!"},{"$error":"#REF!"},{"$error":"#REF!"},"Storage In TB",{"$f":"U91/1000000000000","v":{"$error":"#REF!"}},{"$error":"#REF!"},{"$error":"#REF!"},{"$error":"#REF!"},{"$error":"#REF!"},{"$error":"#REF!"},{"$error":"#REF!"},{"$error":"#REF!"},{"$error":"#REF!"},{"$error":"#REF!"},{"$error":"#REF!"},{"$error":"#REF!"},{"$error":"#REF!"},{"$error":"#REF!"},{"$error":"#REF!"},{"$error":"#REF!"},{"$error":"#REF!"},{"$error":"#REF!"}]
[]
["Bandwidth In Mbps",{"$f":"B89/1000000","v":{"$error":"#REF!"}},{"$error":"#REF!"},{"$error":"#REF!"},{"$error":"#REF!"},{"$error":"#REF!"},{"$error":"#REF!"},{"$error":"#REF!"},{"$error":"#REF!"},{"$error":"#REF!"},{"$error":"#REF!"},{"$error":"#REF!"},{"$error":"#REF!"},{"$error":"#REF!"},{"$error":"#REF!"},{"$error":"#REF!"},{"$error":"#REF!"},{"$error":"#REF!"},{"$error":"#REF!"},"Bandwidth In Mbps",{"$f":"U89/1000000","v":{"$error":"#REF!"}},{"$error":"#REF!"},{"$error":"#REF!"},{"$error":"#REF!"},{"$error":"#REF!"},{"$error":"#REF!"},{"$error":"#REF!"},{"$error":"#REF!"},{"$error":"#REF!"},{"$error":"#REF!"},{"$error":"#REF!"},{"$error":"#REF!"},{"$error":"#REF!"},{"$error":"#REF!"},{"$error":"#REF!"},{"$error":"#REF!"},{"$error":"#REF!"},{"$error":"#REF!"}]
["Bandwidth in kbps",{"$f":"B95*1000","v":{"$error":"#REF!"}},{"$error":"#REF!"},{"$error":"#REF!"},{"$error":"#REF!"},{"$error":"#REF!"},{"$error":"#REF!"},{"$error":"#REF!"},{"$error":"#REF!"},{"$error":"#REF!"},{"$error":"#REF!"},{"$error":"#REF!"},{"$error":"#REF!"},{"$error":"#REF!"},{"$error":"#REF!"},{"$error":"#REF!"},{"$error":"#REF!"},{"$error":"#REF!"},{"$error":"#REF!"},"Bandwidth in kbps",{"$f":"U95*1000","v":{"$error":"#REF!"}},{"$error":"#REF!"},{"$error":"#REF!"},{"$error":"#REF!"},{"$error":"#REF!"},{"$error":"#REF!"},{"$error":"#REF!"},{"$error":"#REF!"},{"$error":"#REF!"},{"$error":"#REF!"},{"$error":"#REF!"},{"$error":"#REF!"},{"$error":"#REF!"},{"$error":"#REF!"},{"$error":"#REF!"},{"$error":"#REF!"},{"$error":"#REF!"},{"$error":"#REF!"}]
[]
[]
[]
["SymSafe"]
[]
["NTSC","D1 Resolution",null,null,null,null,null,"2CIF Resolution",null,null,null,null,null,"CIF Resolution"]
[null,"Frame Rates Mbps",null,null,null,null,null,"Field Rates Mbps",null,null,null,null,null,"Field Rates Mbps"]
["Quality",30,15,10,7.5,5,2,30,15,10,7.5,5,2,30,15,10,7.5,5,2]
[6,3000000,{"$f":"(B105/2)","v":1500000},{"$f":"(B105/3)","v":1000000},{"$f":"B105/4","v":750000},{"$f":"((B105/6)*0.3)+(B105/6)","v":650000},{"$f":"((B105/15)*0.6)+(B105/15)","v":320000},{"$f":"(B105/2)","v":1500000},{"$f":"(H105/2)","v":750000},{"$f":"(H105/3)","v":500000},{"$f":"(H105/4)","v":375000},{"$f":"((H105/6)*0.3)+(H105/6)","v":325000},{"$f":"((H105/15)*0.6)+(H105/15)","v":160000},{"$f":"(B105/3)","v":1000000},{"$f":"(N105/2)","v":500000},{"$f":"(N105/3)","v":333333.33333333331},{"$f":"(N105/4)","v":250000},{"$f":"((N105/6)*0.3)+(N105/6)","v":216666.66666666666},{"$f":"((N105/15)*0.6)+(N105/15)","v":106666.66666666667}]
[5,2300000,1150000,766666.66666666663,575000,498333.33333333331,245333.33333333334,1150000,575000,383333.33333333331,287500,249166.66666666666,122666.66666666667,766666.66666666663,383333.33333333331,255555.55555555553,191666.66666666666,166111.11111111109,81777.777777777781]
[4,2000000,1000000,666666.66666666663,500000,433333.33333333331,213333.33333333334,1000000,500000,333333.33333333331,250000,216666.66666666666,106666.66666666667,666666.66666666663,333333.33333333331,222222.22222222222,166666.66666666666,144444.44444444444,71111.111111111109]
[3,1720000,860000,573333.33333333337,430000,372666.66666666669,183466.66666666669,860000,430000,286666.66666666669,215000,186333.33333333334,91733.333333333343,573333.33333333337,286666.66666666669,191111.11111111112,143333.33333333334,124222.22222222223,61155.555555555562]
[2,1320000,660000,440000,330000,286000,140800,660000,330000,220000,165000,143000,70400,440000,220000,146666.66666666666,110000,95333.333333333328,46933.333333333328]
[1,1160000,580000,386666.66666666669,290000,251333.33333333334,123733.33333333331,580000,290000,193333.33333333334,145000,125666.66666666667,61866.666666666657,386666.66666666669,193333.33333333334,128888.88888888889,96666.666666666672,83777.777777777781,41244.444444444445]
[]
["Days",{"$f":"#REF!","v":{"$error":"#REF!"}}]
["#of Camera",{"$f":"#REF!","v":{"$error":"#REF!"}},null,null,"D1","2CIF","CIF"]
[null,null,null,null,{"$f":"INDEX($D$105:$G$110,MATCH(B116,$A$105:$A$110,0),MATCH(B115,$D$104:$G$104,0))","v":{"$error":"#REF!"}},{"$f":"INDEX($I$105:$M$110,MATCH(B116,$A$105:$A$110,0),MATCH(B115,$I$104:$M$104,0))","v":{"$error":"#REF!"}},{"$f":"INDEX($N$105:$S$110,MATCH(B116,$A$105:$A$110,0),MATCH(B115,$N$104:$S$104,0))","v":{"$error":"#REF!"}}]
["Frame Per Second",{"$f":"#REF!","v":{"$error":"#REF!"}},null,"with overhead",{"$f":"E114*0.148+E114","v":{"$error":"#REF!"}},{"$f":"F114*0.148+F114","v":{"$error":"#REF!"}},{"$f":"G114*0.148+G114","v":{"$error":"#REF!"}}]
["Quality",{"$f":"#REF!","v":{"$error":"#REF!"}}]
["% Motion Detection",{"$f":"#REF!","v":{"$error":"#REF!"}}]
[null,null,null,"Total Storage",{"$f":"(((86400*E115)/8))*B112*B113","v":{"$error":"#REF!"}},{"$f":"(((86400*F115)/8))*B112*B113","v":{"$error":"#REF!"}},{"$f":"(((86400*G115)/8))*B112*B113","v":{"$error":"#REF!"}}]
[null,null,null,"w/motion",{"$f":"IF($B$117=0,E118,E118*$B$117)","v":{"$error":"#REF!"}},{"$f":"IF($B$117=0,F118,F118*$B$117)","v":{"$error":"#REF!"}},{"$f":"IF($B$117=0,G118,G118*$B$117)","v":{"$error":"#REF!"}}]
[]
[null,null,null,"with overhead",{"$f":"(((86400*E115)/8))*B112*B113","v":{"$error":"#REF!"}},{"$f":"(((86400*F115)/8))*B112*B113","v":{"$error":"#REF!"}},{"$f":"(((86400*G115)/8))*B112*B113","v":{"$error":"#REF!"}}]
[null,null,null,null,{"$f":"E119/1000000000","v":{"$error":"#REF!"}},{"$f":"F119/1000000000","v":{"$error":"#REF!"}},{"$f":"G119/1000000000","v":{"$error":"#REF!"}}]
[null,null,null,null,{"$f":"E119/1000000000000","v":{"$error":"#REF!"}},{"$f":"F119/1000000000000","v":{"$error":"#REF!"}},{"$f":"G119/1000000000000","v":{"$error":"#REF!"}},null,null,null,null,null,null,null,null,null,null,null,null,null,"TOTALS"]
[]
["NTSC","D1 Resolution",null,null,null,null,null,"2CIF Resolution",null,null,null,null,null,"CIF Resolution"]
[null,"Frame Rates Mbps",null,null,null,null,null,"Field Rates Mbps",null,null,null,null,null,"Field Rates Mbps",null,null,null,null,null,null,"# CHANNELS",{"$f":"#REF!","v":{"$error":"#REF!"}}]
["Quality",30,15,"D110","D17.5","D15","D12",30,"2CIF15","2CIF10","2CIF7.5","2CIF5","2CIF2","CIF30","CIF15","CIF10","CIF7.5","CIF5","CIF2"]
["Quality 6",3000000,{"$f":"(B128/2)","v":1500000},{"$f":"(B128/3)","v":1000000},{"$f":"B128/4","v":750000},{"$f":"((B128/6)*0.3)+(B128/6)","v":650000},{"$f":"((B128/15)*0.6)+(B128/15)","v":320000},{"$f":"(B128/2)","v":1500000},{"$f":"(H128/2)","v":750000},{"$f":"(H128/3)","v":500000},{"$f":"(H128/4)","v":375000},{"$f":"((H128/6)*0.3)+(H128/6)","v":325000},{"$f":"((H128/15)*0.6)+(H128/15)","v":160000},{"$f":"(B128/3)","v":1000000},{"$f":"(N128/2)","v":500000},{"$f":"(N128/3)","v":333333.33333333331},{"$f":"(N128/4)","v":250000},{"$f":"((N128/6)*0.3)+(N128/6)","v":216666.66666666666},{"$f":"((N128/15)*0.6)+(N128/15)","v":106666.66666666667}]
["Quality 5",2300000,1150000,766666.66666666663,575000,498333.33333333331,245333.33333333334,1150000,575000,383333.33333333331,287500,249166.66666666666,122666.66666666667,766666.66666666663,383333.33333333331,255555.55555555553,191666.66666666666,166111.11111111109,81777.777777777781]
["Quality 4",2000000,1000000,666666.66666666663,500000,433333.33333333331,213333.33333333334,1000000,500000,333333.33333333331,250000,216666.66666666666,106666.66666666667,666666.66666666663,333333.33333333331,222222.22222222222,166666.66666666666,144444.44444444444,71111.111111111109,null,"Storage In GB",{"$f":"INDEX($U$146:$AL$146,MATCH(V126,$U$136:$AL$136,0))","v":{"$error":"#REF!"}}]
["Quality 3",1720000,860000,573333.33333333337,430000,372666.66666666669,183466.66666666669,860000,430000,286666.66666666669,215000,186333.33333333334,91733.333333333343,573333.33333333337,286666.66666666669,191111.11111111112,143333.33333333334,124222.22222222223,61155.555555555562,null,"Storage In TB",{"$f":"INDEX($U$147:$AL$147,MATCH(V126,$U$136:$AL$136,0))","v":{"$error":"#REF!"}}]
["Quality 2",1320000,660000,440000,330000,286000,140800,660000,330000,220000,165000,143000,70400,440000,220000,146666.66666666666,110000,95333.333333333328,46933.333333333328]
["Quality 1",1160000,580000,386666.66666666669,290000,251333.33333333334,123733.33333333331,580000,290000,193333.33333333334,145000,125666.66666666667,61866.666666666657,386666.66666666669,193333.33333333334,128888.88888888889,96666.666666666672,83777.777777777781,41244.444444444445,null,"Bandwidth In Mbps",{"$f":"INDEX($U$149:$AL$149,MATCH(V126,$U$136:$AL$136,0))","v":{"$error":"#REF!"}}]
[null,null,null,null,null,null,null,null,null,null,null,null,null,null,null,null,null,null,null,null,"Bandwidth in kbps",{"$f":"INDEX($U$150:$AL$150,MATCH(V126,$U$136:$AL$136,0))","v":{"$error":"#REF!"}}]
[]
[null,1,2,3,4,5,6,7,8,9,10,11,12,13,14,15,16,17,18,null,1,2,3,4,5,6,7,8,9,10,11,12,13,14,15,16,17,18]
["Days",{"$f":"#REF!","v":{"$error":"#REF!"}},null,{"$f":"#REF!","v":{"$error":"#REF!"}}]
["Res/fps",{"$f":"#REF!&#REF!","v":{"$error":"#REF!"}},{"$f":"#REF!&#REF!","v":{"$error":"#REF!"}},{"$f":"#REF!&#REF!","v":{"$error":"#REF!"}},{"$f":"#REF!&#REF!","v":{"$error":"#REF!"}},{"$f":"#REF!&#REF!","v":{"$error":"#REF!"}},{"$f":"#REF!&#REF!","v":{"$error":"#REF!"}},{"$f":"#REF!&#REF!","v":{"$error":"#REF!"}},{"$f":"#REF!&#REF!","v":{"$error":"#REF!"}},{"$f":"#REF!&#REF!","v":{"$error":"#REF!"}},{"$f":"#REF!&#REF!","v":{"$error":"#REF!"}},{"$f":"#REF!&#REF!","v":{"$error":"#REF!"}},{"$f":"#REF!&#REF!","v":{"$error":"#REF!"}},{"$f":"#REF!&#REF!","v":{"$error":"#REF!"}},{"$f":"#REF!&#REF!","v":{"$error":"#REF!"}},{"$f":"#REF!&#REF!","v":{"$error":"#REF!"}},{"$f":"#REF!&#REF!","v":{"$error":"#REF!"}},{"$f":"#REF!&#REF!","v":{"$error":"#REF!"}},{"$f":"#REF!&#REF!","v":{"$error":"#REF!"}}]
["Quality",{"$f":"#REF!&#REF!","v":{"$error":"#REF!"}},{"$f":"#REF!&#REF!","v":{"$error":"#REF!"}},{"$f":"#REF!&#REF!","v":{"$error":"#REF!"}},{"$f":"#REF!&#REF!","v":{"$error":"#REF!"}},{"$f":"#REF!&#REF!","v":{"$error":"#REF!"}},{"$f":"#REF!&#REF!","v":{"$error":"#REF!"}},{"$f":"#REF!&#REF!","v":{"$error":"#REF!"}},{"$f":"#REF!&#REF!","v":{"$error":"#REF!"}},{"$f":"#REF!&#REF!","v":{"$error":"#REF!"}},{"$f":"#REF!&#REF!","v":{"$error":"#REF!"}},{"$f":"#REF!&#REF!","v":{"$error":"#REF!"}},{"$f":"#REF!&#REF!","v":{"$error":"#REF!"}},{"$f":"#REF!&#REF!","v":{"$error":"#REF!"}},{"$f":"#REF!&#REF!","v":{"$error":"#REF!"}},{"$f":"#REF!&#REF!","v":{"$error":"#REF!"}},{"$f":"#REF!&#REF!","v":{"$error":"#REF!"}},{"$f":"#REF!&#REF!","v":{"$error":"#REF!"}},{"$f":"#REF!&#REF!","v":{"$error":"#REF!"}}]
["% Motion",{"$f":"#REF!","v":{"$error":"#REF!"}},{"$f":"#REF!","v":{"$error":"#REF!"}},{"$f":"#REF!","v":{"$error":"#REF!"}},{"$f":"#REF!","v":{"$error":"#REF!"}},{"$f":"#REF!","v":{"$error":"#REF!"}},{"$f":"#REF!","v":{"$error":"#REF!"}},{"$f":"#REF!","v":{"$error":"#REF!"}},{"$f":"#REF!","v":{"$error":"#REF!"}},{"$f":"#REF!","v":{"$error":"#REF!"}},{"$f":"#REF!","v":{"$error":"#REF!"}},{"$f":"#REF!","v":{"$error":"#REF!"}},{"$f":"#REF!","v":{"$error":"#REF!"}},{"$f":"#REF!","v":{"$error":"#REF!"}},{"$f":"#REF!","v":{"$error":"#REF!"}},{"$f":"#REF!","v":{"$error":"#REF!"}},{"$f":"#REF!","v":{"$error":"#REF!"}},{"$f":"#REF!","v":{"$error":"#REF!"}},{"$f":"#REF!","v":{"$error":"#REF!"}}]
[]
["Bitrate",{"$f":"INDEX($D$128:$S$133,MATCH(B139,$A$128:$A$133,0),MATCH(B138,$D$127:$S$127,0))","v":{"$error":"#REF!"}},{"$error":"#REF!"},{"$error":"#REF!"},{"$error":"#REF!"},{"$error":"#REF!"},{"$error":"#REF!"},{"$error":"#REF!"},{"$error":"#REF!"},{"$error":"#REF!"},{"$error":"#REF!"},{"$error":"#REF!"},{"$error":"#REF!"},{"$error":"#REF!"},{"$error":"#REF!"},{"$error":"#REF!"},{"$error":"#REF!"},{"$error":"#REF!"},{"$error":"#REF!"},"Bitrate",{"$f":"SUM(B142:B142)","v":{"$error":"#REF!"}},{"$f":"SUM(B142:C142)","v":{"$error":"#REF!"}},{"$f":"SUM(B142:D142)","v":{"$error":"#REF!"}},{"$f":"SUM(B142:E142)","v":{"$error":"#REF!"}},{"$f":"SUM(B142:F142)","v":{"$error":"#REF!"}},{"$f":"SUM(B142:G142)","v":{"$error":"#REF!"}},{"$f":"SUM(B142:H142)","v":{"$error":"#REF!"}},{"$f":"SUM(B142:I142)","v":{"$error":"#REF!"}},{"$f":"SUM(B142:J142)","v":{"$error":"#REF!"}},{"$f":"SUM(B142:K142)","v":{"$error":"#REF!"}},{"$f":"SUM(B142:L142)","v":{"$error":"#REF!"}},{"$f":"SUM(B142:M142)","v":{"$error":"#REF!"}},{"$f":"SUM(B142:N142)","v":{"$error":"#REF!"}},{"$f":"SUM(B142:O142)","v":{"$error":"#REF!"}},{"$f":"SUM(B142:P142)","v":{"$error":"#REF!"}},{"$f":"SUM(B142:Q142)","v":{"$error":"#REF!"}},{"$f":"SUM(B142:R142)","v":{"$error":"#REF!"}},{"$f":"SUM(B142:S142)","v":{"$error":"#REF!"}}]
["Bitrate with Overhead",{"$f":"B142*0.148+B142","v":{"$error":"#REF!"}},{"$error":"#REF!"},{"$error":"#REF!"},{"$error":"#REF!"},{"$error":"#REF!"},{"$error":"#REF!"},{"$error":"#REF!"},{"$error":"#REF!"},{"$error":"#REF!"},{"$error":"#REF!"},{"$error":"#REF!"},{"$error":"#REF!"},{"$error":"#REF!"},{"$error":"#REF!"},{"$error":"#REF!"},{"$error":"#REF!"},{"$error":"#REF!"},{"$error":"#REF!"},"Bitrate with Overhead",{"$f":"SUM(B143:B143)","v":{"$error":"#REF!"}},{"$f":"SUM(B143:C143)","v":{"$error":"#REF!"}},{"$f":"SUM(B143:D143)","v":{"$error":"#REF!"}},{"$f":"SUM(B143:E143)","v":{"$error":"#REF!"}},{"$f":"SUM(B143:F143)","v":{"$error":"#REF!"}},{"$f":"SUM(B143:G143)","v":{"$error":"#REF!"}},{"$f":"SUM(B143:H143)","v":{"$error":"#REF!"}},{"$f":"SUM(B143:I143)","v":{"$error":"#REF!"}},{"$f":"SUM(B143:J143)","v":{"$error":"#REF!"}},{"$f":"SUM(B143:K143)","v":{"$error":"#REF!"}},{"$f":"SUM(B143:L143)","v":{"$error":"#REF!"}},{"$f":"SUM(B143:M143)","v":{"$error":"#REF!"}},{"$f":"SUM(B143:N143)","v":{"$error":"#REF!"}},{"$f":"SUM(B143:O143)","v":{"$error":"#REF!"}},{"$f":"SUM(B143:P143)","v":{"$error":"#REF!"}},{"$f":"SUM(B143:Q143)","v":{"$error":"#REF!"}},{"$f":"SUM(B143:R143)","v":{"$error":"#REF!"}},{"$f":"SUM(B143:S143)","v":{"$error":"#REF!"}}]
["Storage",{"$f":"(((86400*B143)/8))*B137","v":{"$error":"#REF!"}},{"$f":"(((86400*C143)/8))*B137","v":{"$error":"#REF!"}},{"$f":"(((86400*D143)/8))*B137","v":{"$error":"#REF!"}},{"$f":"(((86400*E143)/8))*B137","v":{"$error":"#REF!"}},{"$f":"(((86400*F143)/8))*B137","v":{"$error":"#REF!"}},{"$f":"(((86400*G143)/8))*B137","v":{"$error":"#REF!"}},{"$f":"(((86400*H143)/8))*B137","v":{"$error":"#REF!"}},{"$f":"(((86400*I143)/8))*B137","v":{"$error":"#REF!"}},{"$f":"(((86400*J143)/8))*B137","v":{"$error":"#REF!"}},{"$f":"(((86400*K143)/8))*B137","v":{"$error":"#REF!"}},{"$f":"(((86400*L143)/8))*B137","v":{"$error":"#REF!"}},{"$f":"(((86400*M143)/8))*B137","v":{"$error":"#REF!"}},{"$f":"(((86400*N143)/8))*B137","v":{"$error":"#REF!"}},{"$f":"(((86400*O143)/8))*B137","v":{"$error":"#REF!"}},{"$f":"(((86400*P143)/8))*B137","v":{"$error":"#REF!"}},{"$f":"(((86400*Q143)/8))*B137","v":{"$error":"#REF!"}},{"$f":"(((86400*R143)/8))*B137","v":{"$error":"#REF!"}},{"$f":"(((86400*S143)/8))*B137","v":{"$error":"#REF!"}},"Storage",{"$f":"SUM(B144:B144)","v":{"$error":"#REF!"}},{"$f":"SUM(B144:C144)","v":{"$error":"#REF!"}},{"$f":"SUM(B144:D144)","v":{"$error":"#REF!"}},{"$f":"SUM(B144:E144)","v":{"$error":"#REF!"}},{"$f":"SUM(B144:F144)","v":{"$error":"#REF!"}},{"$f":"SUM(B144:G144)","v":{"$error":"#REF!"}},{"$f":"SUM(B144:H144)","v":{"$error":"#REF!"}},{"$f":"SUM(B144:I144)","v":{"$error":"#REF!"}},{"$f":"SUM(B144:J144)","v":{"$error":"#REF!"}},{"$f":"SUM(B144:K144)","v":{"$error":"#REF!"}},{"$f":"SUM(B144:L144)","v":{"$error":"#REF!"}},{"$f":"SUM(B144:M144)","v":{"$error":"#REF!"}},{"$f":"SUM(B144:N144)","v":{"$error":"#REF!"}},{"$f":"SUM(B144:O144)","v":{"$error":"#REF!"}},{"$f":"SUM(B144:P144)","v":{"$error":"#REF!"}},{"$f":"SUM(B144:Q144)","v":{"$error":"#REF!"}},{"$f":"SUM(B144:R144)","v":{"$error":"#REF!"}},{"$f":"SUM(B144:S144)","v":{"$error":"#REF!"}}]
["Storage with Motion",{"$f":"IF($B$140=0,B144,B144*$B$140)","v":{"$error":"#REF!"}},{"$f":"IF($C$86=0,C144,C144*$C$86)","v":{"$error":"#REF!"}},{"$f":"IF($D$86=0,D144,D144*$D$86)","v":{"$error":"#REF!"}},{"$f":"IF($E$86=0,E144,E144*$E$86)","v":{"$error":"#REF!"}},{"$f":"IF($F$86=0,F144,F144*$F$86)","v":{"$error":"#REF!"}},{"$f":"IF($G$86=0,G144,G144*$G$86)","v":{"$error":"#REF!"}},{"$f":"IF($H$86=0,H144,H144*$H$86)","v":{"$error":"#REF!"}},{"$f":"IF($I$86=0,I144,I144*$I$86)","v":{"$error":"#REF!"}},{"$f":"IF($J$86=0,J144,J144*$J$86)","v":{"$error":"#REF!"}},{"$f":"IF($K$86=0,K144,K144*$K$86)","v":{"$error":"#REF!"}},{"$f":"IF($L$86=0,L144,L144*$L$86)","v":{"$error":"#REF!"}},{"$f":"IF($M$86=0,M144,M144*$M$86)","v":{"$error":"#REF!"}},{"$f":"IF($N$86=0,N144,N144*$N$86)","v":{"$error":"#REF!"}},{"$f":"IF($O$86=0,O144,O144*$O$86)","v":{"$error":"#REF!"}},{"$f":"IF($P$86=0,P144,P144*$P$86)","v":{"$error":"#REF!"}},{"$f":"IF($Q$86=0,Q144,Q144*$Q$86)","v":{"$error":"#REF!"}},{"$f":"IF($R$86=0,R144,R144*$R$86)","v":{"$error":"#REF!"}},{"$f":"IF($S$86=0,S144,S144*$S$86)","v":{"$error":"#REF!"}},"Storage with Motion",{"$f":"SUM(B145:B145)","v":{"$error":"#REF!"}},{"$f":"SUM(B145:C145)","v":{"$error":"#REF!"}},{"$f":"SUM(B145:D145)","v":{"$error":"#REF!"}},{"$f":"SUM(B145:E145)","v":{"$error":"#REF!"}},{"$f":"SUM(B145:F145)","v":{"$error":"#REF!"}},{"$f":"SUM(B145:G145)","v":{"$error":"#REF!"}},{"$f":"SUM(B145:H145)","v":{"$error":"#REF!"}},{"$f":"SUM(B145:I145)","v":{"$error":"#REF!"}},{"$f":"SUM(B145:J145)","v":{"$error":"#REF!"}},{"$f":"SUM(B145:K145)","v":{"$error":"#REF!"}},{"$f":"SUM(B145:L145)","v":{"$error":"#REF!"}},{"$f":"SUM(B145:M145)","v":{"$error":"#REF!"}},{"$f":"SUM(B145:N145)","v":{"$error":"#REF!"}},{"$f":"SUM(B145:O145)","v":{"$error":"#REF!"}},{"$f":"SUM(B145:P145)","v":{"$error":"#REF!"}},{"$f":"SUM(B145:Q145)","v":{"$error":"#REF!"}},{"$f":"SUM(B145:R145)","v":{"$error":"#REF!"}},{"$f":"SUM(B145:S145)","v":{"$error":"#REF!"}}]
["Storage In GB",{"$f":"B145/1000000000","v":{"$error":"#REF!"}},{"$error":"#REF!"},{"$error":"#REF!"},{"$error":"#REF!"},{"$error":"#REF!"},{"$error":"#REF!"},{"$error":"#REF!"},{"$error":"#REF!"},{"$error":"#REF!"},{"$error":"#REF!"},{"$error":"#REF!"},{"$error":"#REF!"},{"$error":"#REF!"},{"$error":"#REF!"},{"$error":"#REF!"},{"$error":"#REF!"},{"$error":"#REF!"},{"$error":"#REF!"},"Storage In GB",{"$f":"U145/1000000000","v":{"$error":"#REF!"}},{"$error":"#REF!"},{"$error":"#REF!"},{"$error":"#REF!"},{"$error":"#REF!"},{"$error":"#REF!"},{"$error":"#REF!"},{"$error":"#REF!"},{"$error":"#REF!"},{"$error":"#REF!"},{"$error":"#REF!"},{"$error":"#REF!"},{"$error":"#REF!"},{"$error":"#REF!"},{"$error":"#REF!"},{"$error":"#REF!"},{"$error":"#REF!"},{"$error":"#REF!"}]
["Storage In TB",{"$f":"B145/1000000000000","v":{"$error":"#REF!"}},{"$error":"#REF!"},{"$error":"#REF!"},{"$error":"#REF!"},{"$error":"#REF!"},{"$error":"#REF!"},{"$error":"#REF!"},{"$error":"#REF!"},{"$error":"#REF!"},{"$error":"#REF!"},{"$error":"#REF!"},{"$error":"#REF!"},{"$error":"#REF!"},{"$error":"#REF!"},{"$error":"#REF!"},{"$error":"#REF!"},{"$error":"#REF!"},{"$error":"#REF!"},"Storage In TB",{"$f":"U145/1000000000000","v":{"$error":"#REF!"}},{"$error":"#REF!"},{"$error":"#REF!"},{"$error":"#REF!"},{"$error":"#REF!"},{"$error":"#REF!"},{"$error":"#REF!"},{"$error":"#REF!"},{"$error":"#REF!"},{"$error":"#REF!"},{"$error":"#REF!"},{"$error":"#REF!"},{"$error":"#REF!"},{"$error":"#REF!"},{"$error":"#REF!"},{"$error":"#REF!"},{"$error":"#REF!"},{"$error":"#REF!"}]
[]
["Bandwidth In Mbps",{"$f":"B143/1000000","v":{"$error":"#REF!"}},{"$error":"#REF!"},{"$error":"#REF!"},{"$error":"#REF!"},{"$error":"#REF!"},{"$error":"#REF!"},{"$error":"#REF!"},{"$error":"#REF!"},{"$error":"#REF!"},{"$error":"#REF!"},{"$error":"#REF!"},{"$error":"#REF!"},{"$error":"#REF!"},{"$error":"#REF!"},{"$error":"#REF!"},{"$error":"#REF!"},{"$error":"#REF!"},{"$error":"#REF!"},"Bandwidth In Mbps",{"$f":"U143/1000000","v":{"$error":"#REF!"}},{"$error":"#REF!"},{"$error":"#REF!"},{"$error":"#REF!"},{"$error":"#REF!"},{"$error":"#REF!"},{"$error":"#REF!"},{"$error":"#REF!"},{"$error":"#REF!"},{"$error":"#REF!"},{"$error":"#REF!"},{"$error":"#REF!"},{"$error":"#REF!"},{"$error":"#REF!"},{"$error":"#REF!"},{"$error":"#REF!"},{"$error":"#REF!"},{"$error":"#REF!"}]
["Bandwidth in kbps",{"$f":"B149*1000","v":{"$error":"#REF!"}},{"$error":"#REF!"},{"$error":"#REF!"},{"$error":"#REF!"},{"$error":"#REF!"},{"$error":"#REF!"},{"$error":"#REF!"},{"$error":"#REF!"},{"$error":"#REF!"},{"$error":"#REF!"},{"$error":"#REF!"},{"$error":"#REF!"},{"$error":"#REF!"},{"$error":"#REF!"},{"$error":"#REF!"},{"$error":"#REF!"},{"$error":"#REF!"},{"$error":"#REF!"},"Bandwidth in kbps",{"$f":"U149*1000","v":{"$error":"#REF!"}},{"$error":"#REF!"},{"$error":"#REF!"},{"$error":"#REF!"},{"$error":"#REF!"},{"$error":"#REF!"},{"$error":"#REF!"},{"$error":"#REF!"},{"$error":"#REF!"},{"$error":"#REF!"},{"$error":"#REF!"},{"$error":"#REF!"},{"$error":"#REF!"},{"$error":"#REF!"},{"$error":"#REF!"},{"$error":"#REF!"},{"$error":"#REF!"},{"$error":"#REF!"}]
[]
[]
["SymDec16 PAL"]
[]
[]
["NTSC","D1 Resolution",null,null,null,null,"2CIF Resolution",null,null,null,null,"CIF Resolution"]
[null,"Frame Rates Mbps",null,null,null,null,"Field Rates Mbps",null,null,null,null,"Field Rates Mbps"]
["Quality",25,12.5,8.3000000000000007,5,2.1,25,12.5,8.3000000000000007,5,2.1,25,12.5,8.3000000000000007,5,2.1]
[9,3000000,{"$f":"(B159/2)","v":1500000},{"$f":"(B159/3)","v":1000000},{"$f":"((B159/5)*0.3)+(B159/5)","v":780000},{"$f":"((B159/12)*0.6)+(B159/12)","v":400000},{"$f":"(B159/2)","v":1500000},{"$f":"(G159/2)","v":750000},{"$f":"(G159/3)","v":500000},{"$f":"((G159/5)*0.3)+(G159/5)","v":390000},{"$f":"((G159/12)*0.6)+(G159/12)","v":200000},{"$f":"(B159/3)","v":1000000},{"$f":"(L159/2)","v":500000},{"$f":"(L159/3)","v":333333.33333333331},{"$f":"((L159/5)*0.3)+(L159/5)","v":260000},{"$f":"((L159/12)*0.6)+(L159/12)","v":133333.33333333331}]
[8,2600000,1300000,866666.66666666663,676000,346666.66666666663,1300000,650000,433333.33333333331,338000,173333.33333333331,866666.66666666663,433333.33333333331,288888.88888888888,225333.33333333331,115555.55555555555]
[7,2300000,1150000,766666.66666666663,598000,306666.66666666663,1150000,575000,383333.33333333331,299000,153333.33333333331,766666.66666666663,383333.33333333331,255555.55555555553,199333.33333333331,102222.22222222222]
[6,2000000,1000000,666666.66666666663,520000,266666.66666666663,1000000,500000,333333.33333333331,260000,133333.33333333331,666666.66666666663,333333.33333333331,222222.22222222222,173333.33333333331,88888.888888888876]
[5,1720000,860000,573333.33333333337,447200,229333.33333333334,860000,430000,286666.66666666669,223600,114666.66666666667,573333.33333333337,286666.66666666669,191111.11111111112,149066.66666666669,76444.444444444453]
[4,1560000,780000,520000,405600,208000,780000,390000,260000,202800,104000,520000,260000,173333.33333333334,135200,69333.333333333343]
[3,1320000,660000,440000,343200,176000,660000,330000,220000,171600,88000,440000,220000,146666.66666666666,114400,58666.666666666657]
[2,1160000,580000,386666.66666666669,301600,154666.66666666669,580000,290000,193333.33333333334,150800,77333.333333333343,386666.66666666669,193333.33333333334,128888.88888888889,100533.33333333334,51555.555555555555]
[1,1000000,500000,333333.33333333331,260000,133333.33333333331,500000,250000,166666.66666666666,130000,66666.666666666657,333333.33333333331,166666.66666666666,111111.11111111111,86666.666666666657,44444.444444444438]
[]
["Days",{"$f":"#REF!","v":{"$error":"#REF!"}}]
["#of Camera",{"$f":"#REF!","v":{"$error":"#REF!"}},null,null,"D1","2CIF","CIF"]
[null,null,null,null,{"$f":"INDEX($B$159:$F$167,MATCH(B173,$A$159:$A$167,0),MATCH(B172,$B$158:$F$158,0))","v":{"$error":"#REF!"}},{"$f":"INDEX($G$159:$K$167,MATCH(B173,$A$159:$A$167,0),MATCH(B172,$G$158:$K$158,0))","v":{"$error":"#REF!"}},{"$f":"INDEX($L$159:$P$167,MATCH(B173,$A$159:$A$167,0),MATCH(B172,$L$158:$P$158,0))","v":{"$error":"#REF!"}}]
["Frame Per Second",{"$f":"#REF!","v":{"$error":"#REF!"}},null,"with overhead",{"$f":"E171*0.148+E171","v":{"$error":"#REF!"}},{"$f":"F171*0.148+F171","v":{"$error":"#REF!"}},{"$f":"G171*0.148+G171","v":{"$error":"#REF!"}}]
["Quality",{"$f":"#REF!","v":{"$error":"#REF!"}}]
["% Motion Detection",{"$f":"#REF!","v":{"$error":"#REF!"}}]
[null,null,null,"Total Storage",{"$f":"(((86400*E172)/8))*B169*B170","v":{"$error":"#REF!"}},{"$f":"(((86400*F172)/8))*B169*B170","v":{"$error":"#REF!"}},{"$f":"(((86400*G172)/8))*B169*B170","v":{"$error":"#REF!"}}]
[null,null,null,"w/motion",{"$f":"IF($B$174=0,E175,E175*$B$174)","v":{"$error":"#REF!"}},{"$f":"IF($B$174=0,F175,F175*$B$174)","v":{"$error":"#REF!"}},{"$f":"IF($B$174=0,G175,G175*$B$174)","v":{"$error":"#REF!"}}]
[]
[null,null,null,"with overhead",{"$f":"(((86400*E172)/8))*B169*B170","v":{"$error":"#REF!"}},{"$f":"(((86400*F172)/8))*B169*B170","v":{"$error":"#REF!"}},{"$f":"(((86400*G172)/8))*B169*B170","v":{"$error":"#REF!"}}]
[null,null,null,null,{"$f":"E176/1000000000","v":{"$error":"#REF!"}},{"$f":"F176/1000000000","v":{"$error":"#REF!"}},{"$f":"G176/1000000000","v":{"$error":"#REF!"}}]
[null,null,null,null,{"$f":"E176/1000000000000","v":{"$error":"#REF!"}},{"$f":"F176/1000000000000","v":{"$error":"#REF!"}},{"$f":"G176/1000000000000","v":{"$error":"#REF!"}}]
[]
["NTSC","D1 Resolution",null,null,null,null,"2CIF Resolution",null,null,null,null,"CIF Resolution"]
[null,"Frame Rates Mbps",null,null,null,null,"Field Rates Mbps",null,null,null,null,"Field Rates Mbps",null,null,null,null,null,null,null,null,null,null,null,"TOTALS"]
["Quality","D125","D112.5","D18.3","D15","D12.1","2CIF25","2CIF12.5","2CIF8.3","2CIF5","2CIF2.1","CIF25","CIF12.5","CIF8.3","CIF5","CIF2.1"]
["Quality 9",3000000,{"$f":"(B185/2)","v":1500000},{"$f":"(B185/3)","v":1000000},{"$f":"((B185/5)*0.3)+(B185/5)","v":780000},{"$f":"((B185/12)*0.6)+(B185/12)","v":400000},{"$f":"(B185/2)","v":1500000},{"$f":"(G185/2)","v":750000},{"$f":"(G185/3)","v":500000},{"$f":"((G185/5)*0.3)+(G185/5)","v":390000},{"$f":"((G185/12)*0.6)+(G185/12)","v":200000},{"$f":"(B185/3)","v":1000000},{"$f":"(L185/2)","v":500000},{"$f":"(L185/3)","v":333333.33333333331},{"$f":"((L185/5)*0.3)+(L185/5)","v":260000},{"$f":"((L185/12)*0.6)+(L185/12)","v":133333.33333333331}]
["Quality 8",2600000,1300000,866666.66666666663,676000,346666.66666666663,1300000,650000,433333.33333333331,338000,173333.33333333331,866666.66666666663,433333.33333333331,288888.88888888888,225333.33333333331,115555.55555555555,null,null,null,null,null,null,null,"# CHANNELS",{"$f":"#REF!","v":{"$error":"#REF!"}}]
["Quality 7",2300000,1150000,766666.66666666663,598000,306666.66666666663,1150000,575000,383333.33333333331,299000,153333.33333333331,766666.66666666663,383333.33333333331,255555.55555555553,199333.33333333331,102222.22222222222]
["Quality 6",2000000,1000000,666666.66666666663,520000,266666.66666666663,1000000,500000,333333.33333333331,260000,133333.33333333331,666666.66666666663,333333.33333333331,222222.22222222222,173333.33333333331,88888.888888888876]
["Quality 5",1720000,860000,573333.33333333337,447200,229333.33333333334,860000,430000,286666.66666666669,223600,114666.66666666667,573333.33333333337,286666.66666666669,191111.11111111112,149066.66666666669,76444.444444444453]
["Quality 4",1560000,780000,520000,405600,208000,780000,390000,260000,202800,104000,520000,260000,173333.33333333334,135200,69333.333333333343,null,null,null,null,null,null,null,"Storage In GB",{"$f":"INDEX($X$206:$AQ$206,MATCH(Y186,$X$196:$AQ$196,0))","v":{"$error":"#REF!"}}]
["Quality 3",1320000,660000,440000,343200,176000,660000,330000,220000,171600,88000,440000,220000,146666.66666666666,114400,58666.666666666657,null,null,null,null,null,null,null,"Storage In TB",{"$f":"INDEX($X$207:$AQ$207,MATCH(Y186,$X$196:$AQ$196,0))","v":{"$error":"#REF!"}}]
["Quality 2",1160000,580000,386666.66666666669,301600,154666.66666666669,580000,290000,193333.33333333334,150800,77333.333333333343,386666.66666666669,193333.33333333334,128888.88888888889,100533.33333333334,51555.555555555555]
["Quality 1",1000000,500000,333333.33333333331,260000,133333.33333333331,500000,250000,166666.66666666666,130000,66666.666666666657,333333.33333333331,166666.66666666666,111111.11111111111,86666.666666666657,44444.444444444438,null,null,null,null,null,null,null,"Bandwidth In Mbps",{"$f":"INDEX($X$209:$AQ$209,MATCH(Y186,$X$196:$AQ$196,0))","v":{"$error":"#REF!"}}]
[null,null,null,null,null,null,null,null,null,null,null,null,null,null,null,null,null,null,null,null,null,null,null,"Bandwidth in kbps",{"$f":"INDEX($X$210:$AQ$210,MATCH(Y186,$X$196:$AQ$196,0))","v":{"$error":"#REF!"}}]
[]
[null,1,2,3,4,5,6,7,8,9,10,11,12,13,14,15,16,17,18,19,20,null,null,1,2,3,4,5,6,7,8,9,10,11,12,13,14,15,16,17,18,19,20]
["Days",{"$f":"#REF!","v":{"$error":"#REF!"}}]
["Res/fps",{"$f":"#REF!&#REF!","v":{"$error":"#REF!"}},{"$f":"#REF!&#REF!","v":{"$error":"#REF!"}},{"$f":"#REF!&#REF!","v":{"$error":"#REF!"}},{"$f":"#REF!&#REF!","v":{"$error":"#REF!"}},{"$f":"#REF!&#REF!","v":{"$error":"#REF!"}},{"$f":"#REF!&#REF!","v":{"$error":"#REF!"}},{"$f":"#REF!&#REF!","v":{"$error":"#REF!"}},{"$f":"#REF!&#REF!","v":{"$error":"#REF!"}},{"$f":"#REF!&#REF!","v":{"$error":"#REF!"}},{"$f":"#REF!&#REF!","v":{"$error":"#REF!"}},{"$f":"#REF!&#REF!","v":{"$error":"#REF!"}},{"$f":"#REF!&#REF!","v":{"$error":"#REF!"}},{"$f":"#REF!&#REF!","v":{"$error":"#REF!"}},{"$f":"#REF!&#REF!","v":{"$error":"#REF!"}},{"$f":"#REF!&#REF!","v":{"$error":"#REF!"}},{"$f":"#REF!&#REF!","v":{"$error":"#REF!"}},{"$f":"#REF!&#REF!","v":{"$error":"#REF!"}},{"$f":"#REF!&#REF!","v":{"$error":"#REF!"}},{"$f":"#REF!&#REF!","v":{"$error":"#REF!"}},{"$f":"#REF!&#REF!","v":{"$error":"#REF!"}}]
["Quality",{"$f":"#REF!&#REF!","v":{"$error":"#REF!"}},{"$f":"#REF!&#REF!","v":{"$error":"#REF!"}},{"$f":"#REF!&#REF!","v":{"$error":"#REF!"}},{"$f":"#REF!&#REF!","v":{"$error":"#REF!"}},{"$f":"#REF!&#REF!","v":{"$error":"#REF!"}},{"$f":"#REF!&#REF!","v":{"$error":"#REF!"}},{"$f":"#REF!&#REF!","v":{"$error":"#REF!"}},{"$f":"#REF!&#REF!","v":{"$error":"#REF!"}},{"$f":"#REF!&#REF!","v":{"$error":"#REF!"}},{"$f":"#REF!&#REF!","v":{"$error":"#REF!"}},{"$f":"#REF!&#REF!","v":{"$error":"#REF!"}},{"$f":"#REF!&#REF!","v":{"$error":"#REF!"}},{"$f":"#REF!&#REF!","v":{"$error":"#REF!"}},{"$f":"#REF!&#REF!","v":{"$error":"#REF!"}},{"$f":"#REF!&#REF!","v":{"$error":"#REF!"}},{"$f":"#REF!&#REF!","v":{"$error":"#REF!"}},{"$f":"#REF!&#REF!","v":{"$error":"#REF!"}},{"$f":"#REF!&#REF!","v":{"$error":"#REF!"}},{"$f":"#REF!&#REF!","v":{"$error":"#REF!"}},{"$f":"#REF!&#REF!","v":{"$error":"#REF!"}}]
["% Motion",{"$f":"#REF!","v":{"$error":"#REF!"}},{"$f":"#REF!","v":{"$error":"#REF!"}},{"$f":"#REF!","v":{"$error":"#REF!"}},{"$f":"#REF!","v":{"$error":"#REF!"}},{"$f":"#REF!","v":{"$error":"#REF!"}},{"$f":"#REF!","v":{"$error":"#REF!"}},{"$f":"#REF!","v":{"$error":"#REF!"}},{"$f":"#REF!","v":{"$error":"#REF!"}},{"$f":"#REF!","v":{"$error":"#REF!"}},{"$f":"#REF!","v":{"$error":"#REF!"}},{"$f":"#REF!","v":{"$error":"#REF!"}},{"$f":"#REF!","v":{"$error":"#REF!"}},{"$f":"#REF!","v":{"$error":"#REF!"}},{"$f":"#REF!","v":{"$error":"#REF!"}},{"$f":"#REF!","v":{"$error":"#REF!"}},{"$f":"#REF!","v":{"$error":"#REF!"}},{"$f":"#REF!","v":{"$error":"#REF!"}},{"$f":"#REF!","v":{"$error":"#REF!"}},{"$f":"#REF!","v":{"$error":"#REF!"}},{"$f":"#REF!","v":{"$error":"#REF!"}}]
[]
["Bitrate",{"$f":"INDEX($B$185:$P$193,MATCH(B199,$A$185:$A$193,0),MATCH(B198,$B$184:$P$184,0))","v":{"$error":"#REF!"}},{"$error":"#REF!"},{"$error":"#REF!"},{"$error":"#REF!"},{"$error":"#REF!"},{"$error":"#REF!"},{"$error":"#REF!"},{"$error":"#REF!"},{"$error":"#REF!"},{"$error":"#REF!"},{"$error":"#REF!"},{"$error":"#REF!"},{"$error":"#REF!"},{"$error":"#REF!"},{"$error":"#REF!"},{"$error":"#REF!"},{"$error":"#REF!"},{"$error":"#REF!"},{"$error":"#REF!"},{"$error":"#REF!"},null,"Bitrate",{"$f":"SUM(B202:B202)","v":{"$error":"#REF!"}},{"$f":"SUM(B202:C202)","v":{"$error":"#REF!"}},{"$f":"SUM(B202:D202)","v":{"$error":"#REF!"}},{"$f":"SUM(B202:E202)","v":{"$error":"#REF!"}},{"$f":"SUM(B202:F202)","v":{"$error":"#REF!"}},{"$f":"SUM(B202:G202)","v":{"$error":"#REF!"}},{"$f":"SUM(B202:H202)","v":{"$error":"#REF!"}},{"$f":"SUM(B202:I202)","v":{"$error":"#REF!"}},{"$f":"SUM(B202:J202)","v":{"$error":"#REF!"}},{"$f":"SUM(B202:K202)","v":{"$error":"#REF!"}},{"$f":"SUM(B202:L202)","v":{"$error":"#REF!"}},{"$f":"SUM(B202:M202)","v":{"$error":"#REF!"}},{"$f":"SUM(B202:N202)","v":{"$error":"#REF!"}},{"$f":"SUM(B202:O202)","v":{"$error":"#REF!"}},{"$f":"SUM(B202:P202)","v":{"$error":"#REF!"}},{"$f":"SUM(B202:Q202)","v":{"$error":"#REF!"}},{"$f":"SUM(B202:R202)","v":{"$error":"#REF!"}},{"$f":"SUM(B202:S202)","v":{"$error":"#REF!"}},{"$f":"SUM(B202:T202)","v":{"$error":"#REF!"}},{"$f":"SUM(B202:U202)","v":{"$error":"#REF!"}}]
["Bitrate with Overhead",{"$f":"B202*0.148+B202","v":{"$error":"#REF!"}},{"$error":"#REF!"},{"$error":"#REF!"},{"$error":"#REF!"},{"$error":"#REF!"},{"$error":"#REF!"},{"$error":"#REF!"},{"$error":"#REF!"},{"$error":"#REF!"},{"$error":"#REF!"},{"$error":"#REF!"},{"$error":"#REF!"},{"$error":"#REF!"},{"$error":"#REF!"},{"$error":"#REF!"},{"$error":"#REF!"},{"$error":"#REF!"},{"$error":"#REF!"},{"$error":"#REF!"},{"$error":"#REF!"},null,"Bitrate with Overhead",{"$f":"SUM(B203:B203)","v":{"$error":"#REF!"}},{"$f":"SUM(B203:C203)","v":{"$error":"#REF!"}},{"$f":"SUM(B203:D203)","v":{"$error":"#REF!"}},{"$f":"SUM(B203:E203)","v":{"$error":"#REF!"}},{"$f":"SUM(B203:F203)","v":{"$error":"#REF!"}},{"$f":"SUM(B203:G203)","v":{"$error":"#REF!"}},{"$f":"SUM(B203:H203)","v":{"$error":"#REF!"}},{"$f":"SUM(B203:I203)","v":{"$error":"#REF!"}},{"$f":"SUM(B203:J203)","v":{"$error":"#REF!"}},{"$f":"SUM(B203:K203)","v":{"$error":"#REF!"}},{"$f":"SUM(B203:L203)","v":{"$error":"#REF!"}},{"$f":"SUM(B203:M203)","v":{"$error":"#REF!"}},{"$f":"SUM(B203:N203)","v":{"$error":"#REF!"}},{"$f":"SUM(B203:O203)","v":{"$error":"#REF!"}},{"$f":"SUM(B203:P203)","v":{"$error":"#REF!"}},{"$f":"SUM(B203:Q203)","v":{"$error":"#REF!"}},{"$f":"SUM(B203:R203)","v":{"$error":"#REF!"}},{"$f":"SUM(B203:S203)","v":{"$error":"#REF!"}},{"$f":"SUM(B203:T203)","v":{"$error":"#REF!"}},{"$f":"SUM(B203:U203)","v":{"$error":"#REF!"}}]
["Storage",{"$f":"(((86400*B203)/8))*B197","v":{"$error":"#REF!"}},{"$f":"(((86400*C203)/8))*B197","v":{"$error":"#REF!"}},{"$f":"(((86400*D203)/8))*B197","v":{"$error":"#REF!"}},{"$f":"(((86400*E203)/8))*B197","v":{"$error":"#REF!"}},{"$f":"(((86400*F203)/8))*B197","v":{"$error":"#REF!"}},{"$f":"(((86400*G203)/8))*B197","v":{"$error":"#REF!"}},{"$f":"(((86400*H203)/8))*B197","v":{"$error":"#REF!"}},{"$f":"(((86400*I203)/8))*B197","v":{"$error":"#REF!"}},{"$f":"(((86400*J203)/8))*B197","v":{"$error":"#REF!"}},{"$f":"(((86400*K203)/8))*B197","v":{"$error":"#REF!"}},{"$f":"(((86400*L203)/8))*B197","v":{"$error":"#REF!"}},{"$f":"(((86400*M203)/8))*B197","v":{"$error":"#REF!"}},{"$f":"(((86400*N203)/8))*B197","v":{"$error":"#REF!"}},{"$f":"(((86400*O203)/8))*B197","v":{"$error":"#REF!"}},{"$f":"(((86400*P203)/8))*B197","v":{"$error":"#REF!"}},{"$f":"(((86400*Q203)/8))*B197","v":{"$error":"#REF!"}},{"$f":"(((86400*R203)/8))*B197","v":{"$error":"#REF!"}},{"$f":"(((86400*S203)/8))*B197","v":{"$error":"#REF!"}},{"$f":"(((86400*T203)/8))*B197","v":{"$error":"#REF!"}},{"$f":"(((86400*U203)/8))*B197","v":{"$error":"#REF!"}},null,"Storage",{"$f":"SUM(B204:B204)","v":{"$error":"#REF!"}},{"$f":"SUM(B204:C204)","v":{"$error":"#REF!"}},{"$f":"SUM(B204:D204)","v":{"$error":"#REF!"}},{"$f":"SUM(B204:E204)","v":{"$error":"#REF!"}},{"$f":"SUM(B204:F204)","v":{"$error":"#REF!"}},{"$f":"SUM(B204:G204)","v":{"$error":"#REF!"}},{"$f":"SUM(B204:H204)","v":{"$error":"#REF!"}},{"$f":"SUM(B204:I204)","v":{"$error":"#REF!"}},{"$f":"SUM(B204:J204)","v":{"$error":"#REF!"}},{"$f":"SUM(B204:K204)","v":{"$error":"#REF!"}},{"$f":"SUM(B204:L204)","v":{"$error":"#REF!"}},{"$f":"SUM(B204:M204)","v":{"$error":"#REF!"}},{"$f":"SUM(B204:N204)","v":{"$error":"#REF!"}},{"$f":"SUM(B204:O204)","v":{"$error":"#REF!"}},{"$f":"SUM(B204:P204)","v":{"$error":"#REF!"}},{"$f":"SUM(B204:Q204)","v":{"$error":"#REF!"}},{"$f":"SUM(B204:R204)","v":{"$error":"#REF!"}},{"$f":"SUM(B204:S204)","v":{"$error":"#REF!"}},{"$f":"SUM(B204:T204)","v":{"$error":"#REF!"}},{"$f":"SUM(B204:U204)","v":{"$error":"#REF!"}}]
["Storage with Motion",{"$f":"IF($B$200=0,B204,B204*$B$200)","v":{"$error":"#REF!"}},{"$f":"IF($C$200=0,C204,C204*$C$200)","v":{"$error":"#REF!"}},{"$f":"IF($D$200=0,D204,D204*$D$200)","v":{"$error":"#REF!"}},{"$f":"IF($E$200=0,E204,E204*$E$200)","v":{"$error":"#REF!"}},{"$f":"IF($F$200=0,F204,F204*$F$200)","v":{"$error":"#REF!"}},{"$f":"IF($G$200=0,G204,G204*$G$200)","v":{"$error":"#REF!"}},{"$f":"IF($H$200=0,H204,H204*$H$200)","v":{"$error":"#REF!"}},{"$f":"IF($I$200=0,I204,I204*$I$200)","v":{"$error":"#REF!"}},{"$f":"IF($J$200=0,J204,J204*$J$200)","v":{"$error":"#REF!"}},{"$f":"IF($K$200=0,K204,K204*$K$200)","v":{"$error":"#REF!"}},{"$f":"IF($L$200=0,L204,L204*$L$200)","v":{"$error":"#REF!"}},{"$f":"IF($M$200=0,M204,M204*$M$200)","v":{"$error":"#REF!"}},{"$f":"IF($N$200=0,N204,N204*$N$200)","v":{"$error":"#REF!"}},{"$f":"IF($O$200=0,O204,O204*$O$200)","v":{"$error":"#REF!"}},{"$f":"IF($P$200=0,P204,P204*$P$200)","v":{"$error":"#REF!"}},{"$f":"IF($Q$200=0,Q204,Q204*$Q$200)","v":{"$error":"#REF!"}},{"$f":"IF($R$200=0,R204,R204*$R$200)","v":{"$error":"#REF!"}},{"$f":"IF($S$200=0,S204,S204*$S$200)","v":{"$error":"#REF!"}},{"$f":"IF($T$200=0,T204,T204*$T$200)","v":{"$error":"#REF!"}},{"$f":"IF($U$200=0,U204,U204*$U$200)","v":{"$error":"#REF!"}},null,"Storage with Motion",{"$f":"SUM(B205:B205)","v":{"$error":"#REF!"}},{"$f":"SUM(B205:C205)","v":{"$error":"#REF!"}},{"$f":"SUM(B205:D205)","v":{"$error":"#REF!"}},{"$f":"SUM(B205:E205)","v":{"$error":"#REF!"}},{"$f":"SUM(B205:F205)","v":{"$error":"#REF!"}},{"$f":"SUM(B205:G205)","v":{"$error":"#REF!"}},{"$f":"SUM(B205:H205)","v":{"$error":"#REF!"}},{"$f":"SUM(B205:I205)","v":{"$error":"#REF!"}},{"$f":"SUM(B205:J205)","v":{"$error":"#REF!"}},{"$f":"SUM(B205:K205)","v":{"$error":"#REF!"}},{"$f":"SUM(B205:L205)","v":{"$error":"#REF!"}},{"$f":"SUM(B205:M205)","v":{"$error":"#REF!"}},{"$f":"SUM(B205:N205)","v":{"$error":"#REF!"}},{"$f":"SUM(B205:O205)","v":{"$error":"#REF!"}},{"$f":"SUM(B205:P205)","v":{"$error":"#REF!"}},{"$f":"SUM(B205:Q205)","v":{"$error":"#REF!"}},{"$f":"SUM(B205:R205)","v":{"$error":"#REF!"}},{"$f":"SUM(B205:S205)","v":{"$error":"#REF!"}},{"$f":"SUM(B205:T205)","v":{"$error":"#REF!"}},{"$f":"SUM(B205:U205)","v":{"$error":"#REF!"}}]
["Storage In GB",{"$f":"B205/1000000000","v":{"$error":"#REF!"}},{"$error":"#REF!"},{"$error":"#REF!"},{"$error":"#REF!"},{"$error":"#REF!"},{"$error":"#REF!"},{"$error":"#REF!"},{"$error":"#REF!"},{"$error":"#REF!"},{"$error":"#REF!"},{"$error":"#REF!"},{"$error":"#REF!"},{"$error":"#REF!"},{"$error":"#REF!"},{"$error":"#REF!"},{"$error":"#REF!"},{"$error":"#REF!"},{"$error":"#REF!"},{"$error":"#REF!"},{"$error":"#REF!"},null,"Storage In GB",{"$f":"X205/1000000000","v":{"$error":"#REF!"}},{"$error":"#REF!"},{"$error":"#REF!"},{"$error":"#REF!"},{"$error":"#REF!"},{"$error":"#REF!"},{"$error":"#REF!"},{"$error":"#REF!"},{"$error":"#REF!"},{"$error":"#REF!"},{"$error":"#REF!"},{"$error":"#REF!"},{"$error":"#REF!"},{"$error":"#REF!"},{"$error":"#REF!"},{"$error":"#REF!"},{"$error":"#REF!"},{"$error":"#REF!"},{"$error":"#REF!"},{"$error":"#REF!"}]
["Storage In TB",{"$f":"B205/1000000000000","v":{"$error":"#REF!"}},{"$error":"#REF!"},{"$error":"#REF!"},{"$error":"#REF!"},{"$error":"#REF!"},{"$error":"#REF!"},{"$error":"#REF!"},{"$error":"#REF!"},{"$error":"#REF!"},{"$error":"#REF!"},{"$error":"#REF!"},{"$error":"#REF!"},{"$error":"#REF!"},{"$error":"#REF!"},{"$error":"#REF!"},{"$error":"#REF!"},{"$error":"#REF!"},{"$error":"#REF!"},{"$error":"#REF!"},{"$error":"#REF!"},null,"Storage In TB",{"$f":"X205/1000000000000","v":{"$error":"#REF!"}},{"$error":"#REF!"},{"$error":"#REF!"},{"$error":"#REF!"},{"$error":"#REF!"},{"$error":"#REF!"},{"$error":"#REF!"},{"$error":"#REF!"},{"$error":"#REF!"},{"$error":"#REF!"},{"$error":"#REF!"},{"$error":"#REF!"},{"$error":"#REF!"},{"$error":"#REF!"},{"$error":"#REF!"},{"$error":"#REF!"},{"$error":"#REF!"},{"$error":"#REF!"},{"$error":"#REF!"},{"$error":"#REF!"}]
[]
["Bandwidth In Mbps",{"$f":"B203/1000000","v":{"$error":"#REF!"}},{"$error":"#REF!"},{"$error":"#REF!"},{"$error":"#REF!"},{"$error":"#REF!"},{"$error":"#REF!"},{"$error":"#REF!"},{"$error":"#REF!"},{"$error":"#REF!"},{"$error":"#REF!"},{"$error":"#REF!"},{"$error":"#REF!"},{"$error":"#REF!"},{"$error":"#REF!"},{"$error":"#REF!"},{"$error":"#REF!"},{"$error":"#REF!"},{"$error":"#REF!"},{"$error":"#REF!"},{"$error":"#REF!"},null,"Bandwidth In Mbps",{"$f":"X203/1000000","v":{"$error":"#REF!"}},{"$error":"#REF!"},{"$error":"#REF!"},{"$error":"#REF!"},{"$error":"#REF!"},{"$error":"#REF!"},{"$error":"#REF!"},{"$error":"#REF!"},{"$error":"#REF!"},{"$error":"#REF!"},{"$error":"#REF!"},{"$error":"#REF!"},{"$error":"#REF!"},{"$error":"#REF!"},{"$error":"#REF!"},{"$error":"#REF!"},{"$error":"#REF!"},{"$error":"#REF!"},{"$error":"#REF!"},{"$error":"#REF!"}]
["Bandwidth in kbps",{"$f":"B209*1000","v":{"$error":"#REF!"}},{"$error":"#REF!"},{"$error":"#REF!"},{"$error":"#REF!"},{"$error":"#REF!"},{"$error":"#REF!"},{"$error":"#REF!"},{"$error":"#REF!"},{"$error":"#REF!"},{"$error":"#REF!"},{"$error":"#REF!"},{"$error":"#REF!"},{"$error":"#REF!"},{"$error":"#REF!"},{"$error":"#REF!"},{"$error":"#REF!"},{"$error":"#REF!"},{"$error":"#REF!"},{"$error":"#REF!"},{"$error":"#REF!"},null,"Bandwidth in kbps",{"$f":"X209*1000","v":{"$error":"#REF!"}},{"$error":"#REF!"},{"$error":"#REF!"},{"$error":"#REF!"},{"$error":"#REF!"},{"$error":"#REF!"},{"$error":"#REF!"},{"$error":"#REF!"},{"$error":"#REF!"},{"$error":"#REF!"},{"$error":"#REF!"},{"$error":"#REF!"},{"$error":"#REF!"},{"$error":"#REF!"},{"$error":"#REF!"},{"$error":"#REF!"},{"$error":"#REF!"},{"$error":"#REF!"},{"$error":"#REF!"},{"$error":"#REF!"}]
[]
[]
["SymSafe PRO (PAL)"]
[]
["NTSC","D1 Resolution",null,null,null,null,"2CIF Resolution",null,null,null,null,"CIF Resolution"]
[null,"Frame Rates Mbps",null,null,null,null,"Field Rates Mbps",null,null,null,null,"Field Rates Mbps"]
["Quality",25,12.5,8.3000000000000007,5,2.1,25,12.5,8.3000000000000007,5,2.1,25,12.5,8.3000000000000007,5,2.1]
[6,3000000,{"$f":"(B218/2)","v":1500000},{"$f":"(B218/3)","v":1000000},{"$f":"((B218/5)*0.3)+(B218/5)","v":780000},{"$f":"((B218/12)*0.6)+(B218/12)","v":400000},{"$f":"(B218/2)","v":1500000},{"$f":"(G218/2)","v":750000},{"$f":"(G218/3)","v":500000},{"$f":"((G218/5)*0.3)+(G218/5)","v":390000},{"$f":"((G218/12)*0.6)+(G218/12)","v":200000},{"$f":"(B218/3)","v":1000000},{"$f":"(L218/2)","v":500000},{"$f":"(L218/3)","v":333333.33333333331},{"$f":"((L218/5)*0.3)+(L218/5)","v":260000},{"$f":"((L218/12)*0.6)+(L218/12)","v":133333.33333333331}]
[5,2300000,1150000,766666.66666666663,598000,306666.66666666663,1150000,575000,383333.33333333331,299000,153333.33333333331,766666.66666666663,383333.33333333331,255555.55555555553,199333.33333333331,102222.22222222222]
[4,2000000,1000000,666666.66666666663,520000,266666.66666666663,1000000,500000,333333.33333333331,260000,133333.33333333331,666666.66666666663,333333.33333333331,222222.22222222222,173333.33333333331,88888.888888888876]
[3,1720000,860000,573333.33333333337,447200,229333.33333333334,860000,430000,286666.66666666669,223600,114666.66666666667,573333.33333333337,286666.66666666669,191111.11111111112,149066.66666666669,76444.444444444453]
[2,1320000,660000,440000,343200,176000,660000,330000,220000,171600,88000,440000,220000,146666.66666666666,114400,58666.666666666657]
[1,1160000,580000,386666.66666666669,301600,154666.66666666669,580000,290000,193333.33333333334,150800,77333.333333333343,386666.66666666669,193333.33333333334,128888.88888888889,100533.33333333334,51555.555555555555]
[]
["Days",{"$f":"#REF!","v":{"$error":"#REF!"}}]
["#of Camera",{"$f":"#REF!","v":{"$error":"#REF!"}},null,null,"D1","2CIF","CIF"]
[null,null,null,null,{"$f":"INDEX($C$218:$F$223,MATCH(B229,$A$218:$A$223,0),MATCH(B228,$C$217:$F$217,0))","v":{"$error":"#REF!"}},{"$f":"INDEX($G$218:$K$223,MATCH(B229,$A$218:$A$223,0),MATCH(B228,$G$217:$K$217,0))","v":{"$error":"#REF!"}},{"$f":"INDEX($L$218:$P$223,MATCH(B229,$A$218:$A$223,0),MATCH(B228,$L$217:$P$217,0))","v":{"$error":"#REF!"}}]
["Frame Per Second",{"$f":"#REF!","v":{"$error":"#REF!"}},null,"with overhead",{"$f":"E227*0.148+E227","v":{"$error":"#REF!"}},{"$f":"F227*0.148+F227","v":{"$error":"#REF!"}},{"$f":"G227*0.148+G227","v":{"$error":"#REF!"}}]
["Quality",{"$f":"#REF!","v":{"$error":"#REF!"}}]
["% Motion Detection",{"$f":"#REF!","v":{"$error":"#REF!"}}]
[null,null,null,"Total Storage",{"$f":"(((86400*E228)/8))*B225*B226","v":{"$error":"#REF!"}},{"$f":"(((86400*F228)/8))*B225*B226","v":{"$error":"#REF!"}},{"$f":"(((86400*G228)/8))*B225*B226","v":{"$error":"#REF!"}}]
[null,null,null,"w/motion",{"$f":"IF($B$230=0,E231,E231*$B$230)","v":{"$error":"#REF!"}},{"$f":"IF($B$230=0,F231,F231*$B$230)","v":{"$error":"#REF!"}},{"$f":"IF($B$230=0,G231,G231*$B$230)","v":{"$error":"#REF!"}}]
[]
[null,null,null,"with overhead",{"$f":"(((86400*E228)/8))*B225*B226","v":{"$error":"#REF!"}},{"$f":"(((86400*F228)/8))*B225*B226","v":{"$error":"#REF!"}},{"$f":"(((86400*G228)/8))*B225*B226","v":{"$error":"#REF!"}}]
[null,null,null,null,{"$f":"E232/1000000000","v":{"$error":"#REF!"}},{"$f":"F232/1000000000","v":{"$error":"#REF!"}},{"$f":"G232/1000000000","v":{"$error":"#REF!"}}]
[null,null,null,null,{"$f":"E232/1000000000000","v":{"$error":"#REF!"}},{"$f":"F232/1000000000000","v":{"$error":"#REF!"}},{"$f":"G232/1000000000000","v":{"$error":"#REF!"}},null,null,null,null,null,null,null,null,null,null,null,null,null,"TOTALS"]
[]
["NTSC","D1 Resolution",null,null,null,null,"2CIF Resolution",null,null,null,null,"CIF Resolution"]
[null,"Frame Rates Mbps",null,null,null,null,"Field Rates Mbps",null,null,null,null,"Field Rates Mbps",null,null,null,null,null,null,null,null,"# CHANNELS",{"$f":"#REF!","v":{"$error":"#REF!"}}]
["Quality",25,"D112.5","D18.3","D15","D12.1","2CIF25","2CIF12.5","2CIF8.3","2CIF5","2CIF2.1","CIF25","CIF12.5","CIF8.3","CIF5","CIF2.1"]
["Quality 6",3000000,{"$f":"(B241/2)","v":1500000},{"$f":"(B241/3)","v":1000000},{"$f":"((B241/5)*0.3)+(B241/5)","v":780000},{"$f":"((B241/12)*0.6)+(B241/12)","v":400000},{"$f":"(B241/2)","v":1500000},{"$f":"(G241/2)","v":750000},{"$f":"(G241/3)","v":500000},{"$f":"((G241/5)*0.3)+(G241/5)","v":390000},{"$f":"((G241/12)*0.6)+(G241/12)","v":200000},{"$f":"(B241/3)","v":1000000},{"$f":"(L241/2)","v":500000},{"$f":"(L241/3)","v":333333.33333333331},{"$f":"((L241/5)*0.3)+(L241/5)","v":260000},{"$f":"((L241/12)*0.6)+(L241/12)","v":133333.33333333331}]
["Quality 5",2300000,1150000,766666.66666666663,598000,306666.66666666663,1150000,575000,383333.33333333331,299000,153333.33333333331,766666.66666666663,383333.33333333331,255555.55555555553,199333.33333333331,102222.22222222222]
["Quality 4",2000000,1000000,666666.66666666663,520000,266666.66666666663,1000000,500000,333333.33333333331,260000,133333.33333333331,666666.66666666663,333333.33333333331,222222.22222222222,173333.33333333331,88888.888888888876,null,null,null,null,"Storage In GB",{"$f":"INDEX($U$259:$AL$259,MATCH(V239,$U$249:$AL$249,0))","v":{"$error":"#REF!"}}]
["Quality 3",1720000,860000,573333.33333333337,447200,229333.33333333334,860000,430000,286666.66666666669,223600,114666.66666666667,573333.33333333337,286666.66666666669,191111.11111111112,149066.66666666669,76444.444444444453,null,null,null,null,"Storage In TB",{"$f":"INDEX($U$260:$AL$260,MATCH(V239,$U$249:$AL$249,0))","v":{"$error":"#REF!"}}]
["Quality 2",1320000,660000,440000,343200,176000,660000,330000,220000,171600,88000,440000,220000,146666.66666666666,114400,58666.666666666657]
["Quality 1",1160000,580000,386666.66666666669,301600,154666.66666666669,580000,290000,193333.33333333334,150800,77333.333333333343,386666.66666666669,193333.33333333334,128888.88888888889,100533.33333333334,51555.555555555555,null,null,null,null,"Bandwidth In Mbps",{"$f":"INDEX($U$262:$AL$262,MATCH(V239,$U$249:$AL$249,0))","v":{"$error":"#REF!"}}]
[null,null,null,null,null,null,null,null,null,null,null,null,null,null,null,null,null,null,null,null,"Bandwidth in kbps",{"$f":"INDEX($U$263:$AL$263,MATCH(V239,$U$249:$AL$249,0))","v":{"$error":"#REF!"}}]
[]
[null,1,2,3,4,5,6,7,8,9,10,11,12,13,14,15,16,17,18,null,1,2,3,4,5,6,7,8,9,10,11,12,13,14,15,16,17,18]
["Days",{"$f":"#REF!","v":{"$error":"#REF!"}}]
["Res/fps",{"$f":"#REF!&#REF!","v":{"$error":"#REF!"}},{"$f":"#REF!&#REF!","v":{"$error":"#REF!"}},{"$f":"#REF!&#REF!","v":{"$error":"#REF!"}},{"$f":"#REF!&#REF!","v":{"$error":"#REF!"}},{"$f":"#REF!&#REF!","v":{"$error":"#REF!"}},{"$f":"#REF!&#REF!","v":{"$error":"#REF!"}},{"$f":"#REF!&#REF!","v":{"$error":"#REF!"}},{"$f":"#REF!&#REF!","v":{"$error":"#REF!"}},{"$f":"#REF!&#REF!","v":{"$error":"#REF!"}},{"$f":"#REF!&#REF!","v":{"$error":"#REF!"}},{"$f":"#REF!&#REF!","v":{"$error":"#REF!"}},{"$f":"#REF!&#REF!","v":{"$error":"#REF!"}},{"$f":"#REF!&#REF!","v":{"$error":"#REF!"}},{"$f":"#REF!&#REF!","v":{"$error":"#REF!"}},{"$f":"#REF!&#REF!","v":{"$error":"#REF!"}},{"$f":"#REF!&#REF!","v":{"$error":"#REF!"}},{"$f":"#REF!&#REF!","v":{"$error":"#REF!"}},{"$f":"#REF!&#REF!","v":{"$error":"#REF!"}}]
["Quality",{"$f":"#REF!&#REF!","v":{"$error":"#REF!"}},{"$f":"#REF!&#REF!","v":{"$error":"#REF!"}},{"$f":"#REF!&#REF!","v":{"$error":"#REF!"}},{"$f":"#REF!&#REF!","v":{"$error":"#REF!"}},{"$f":"#REF!&#REF!","v":{"$error":"#REF!"}},{"$f":"#REF!&#REF!","v":{"$error":"#REF!"}},{"$f":"#REF!&#REF!","v":{"$error":"#REF!"}},{"$f":"#REF!&#REF!","v":{"$error":"#REF!"}},{"$f":"#REF!&#REF!","v":{"$error":"#REF!"}},{"$f":"#REF!&#REF!","v":{"$error":"#REF!"}},{"$f":"#REF!&#REF!","v":{"$error":"#REF!"}},{"$f":"#REF!&#REF!","v":{"$error":"#REF!"}},{"$f":"#REF!&#REF!","v":{"$error":"#REF!"}},{"$f":"#REF!&#REF!","v":{"$error":"#REF!"}},{"$f":"#REF!&#REF!","v":{"$error":"#REF!"}},{"$f":"#REF!&#REF!","v":{"$error":"#REF!"}},{"$f":"#REF!&#REF!","v":{"$error":"#REF!"}},{"$f":"#REF!&#REF!","v":{"$error":"#REF!"}}]
["% Motion",{"$f":"#REF!","v":{"$error":"#REF!"}},{"$f":"#REF!","v":{"$error":"#REF!"}},{"$f":"#REF!","v":{"$error":"#REF!"}},{"$f":"#REF!","v":{"$error":"#REF!"}},{"$f":"#REF!","v":{"$error":"#REF!"}},{"$f":"#REF!","v":{"$error":"#REF!"}},{"$f":"#REF!","v":{"$error":"#REF!"}},{"$f":"#REF!","v":{"$error":"#REF!"}},{"$f":"#REF!","v":{"$error":"#REF!"}},{"$f":"#REF!","v":{"$error":"#REF!"}},{"$f":"#REF!","v":{"$error":"#REF!"}},{"$f":"#REF!","v":{"$error":"#REF!"}},{"$f":"#REF!","v":{"$error":"#REF!"}},{"$f":"#REF!","v":{"$error":"#REF!"}},{"$f":"#REF!","v":{"$error":"#REF!"}},{"$f":"#REF!","v":{"$error":"#REF!"}},{"$f":"#REF!","v":{"$error":"#REF!"}},{"$f":"#REF!","v":{"$error":"#REF!"}}]
[]
["Bitrate",{"$f":"INDEX($C$241:$P$246,MATCH(B252,$A$241:$A$246,0),MATCH(B251,$C$240:$P$240,0))","v":{"$error":"#REF!"}},{"$error":"#REF!"},{"$error":"#REF!"},{"$error":"#REF!"},{"$error":"#REF!"},{"$error":"#REF!"},{"$error":"#REF!"},{"$error":"#REF!"},{"$error":"#REF!"},{"$error":"#REF!"},{"$error":"#REF!"},{"$error":"#REF!"},{"$error":"#REF!"},{"$error":"#REF!"},{"$error":"#REF!"},{"$error":"#REF!"},{"$error":"#REF!"},{"$error":"#REF!"},"Bitrate",{"$f":"SUM(B255:B255)","v":{"$error":"#REF!"}},{"$f":"SUM(B255:C255)","v":{"$error":"#REF!"}},{"$f":"SUM(B255:D255)","v":{"$error":"#REF!"}},{"$f":"SUM(B255:E255)","v":{"$error":"#REF!"}},{"$f":"SUM(B255:F255)","v":{"$error":"#REF!"}},{"$f":"SUM(B255:G255)","v":{"$error":"#REF!"}},{"$f":"SUM(B255:H255)","v":{"$error":"#REF!"}},{"$f":"SUM(B255:I255)","v":{"$error":"#REF!"}},{"$f":"SUM(B255:J255)","v":{"$error":"#REF!"}},{"$f":"SUM(B255:K255)","v":{"$error":"#REF!"}},{"$f":"SUM(B255:L255)","v":{"$error":"#REF!"}},{"$f":"SUM(B255:M255)","v":{"$error":"#REF!"}},{"$f":"SUM(B255:N255)","v":{"$error":"#REF!"}},{"$f":"SUM(B255:O255)","v":{"$error":"#REF!"}},{"$f":"SUM(B255:P255)","v":{"$error":"#REF!"}},{"$f":"SUM(B255:Q255)","v":{"$error":"#REF!"}},{"$f":"SUM(B255:R255)","v":{"$error":"#REF!"}},{"$f":"SUM(B255:S255)","v":{"$error":"#REF!"}}]
["Bitrate with Overhead",{"$f":"B255*0.148+B255","v":{"$error":"#REF!"}},{"$error":"#REF!"},{"$error":"#REF!"},{"$error":"#REF!"},{"$error":"#REF!"},{"$error":"#REF!"},{"$error":"#REF!"},{"$error":"#REF!"},{"$error":"#REF!"},{"$error":"#REF!"},{"$error":"#REF!"},{"$error":"#REF!"},{"$error":"#REF!"},{"$error":"#REF!"},{"$error":"#REF!"},{"$error":"#REF!"},{"$error":"#REF!"},{"$error":"#REF!"},"Bitrate with Overhead",{"$f":"SUM(B256:B256)","v":{"$error":"#REF!"}},{"$f":"SUM(B256:C256)","v":{"$error":"#REF!"}},{"$f":"SUM(B256:D256)","v":{"$error":"#REF!"}},{"$f":"SUM(B256:E256)","v":{"$error":"#REF!"}},{"$f":"SUM(B256:F256)","v":{"$error":"#REF!"}},{"$f":"SUM(B256:G256)","v":{"$error":"#REF!"}},{"$f":"SUM(B256:H256)","v":{"$error":"#REF!"}},{"$f":"SUM(B256:I256)","v":{"$error":"#REF!"}},{"$f":"SUM(B256:J256)","v":{"$error":"#REF!"}},{"$f":"SUM(B256:K256)","v":{"$error":"#REF!"}},{"$f":"SUM(B256:L256)","v":{"$error":"#REF!"}},{"$f":"SUM(B256:M256)","v":{"$error":"#REF!"}},{"$f":"SUM(B256:N256)","v":{"$error":"#REF!"}},{"$f":"SUM(B256:O256)","v":{"$error":"#REF!"}},{"$f":"SUM(B256:P256)","v":{"$error":"#REF!"}},{"$f":"SUM(B256:Q256)","v":{"$error":"#REF!"}},{"$f":"SUM(B256:R256)","v":{"$error":"#REF!"}},{"$f":"SUM(B256:S256)","v":{"$error":"#REF!"}}]
["Storage",{"$f":"(((86400*B256)/8))*B250","v":{"$error":"#REF!"}},{"$f":"(((86400*C256)/8))*B250","v":{"$error":"#REF!"}},{"$f":"(((86400*D256)/8))*B250","v":{"$error":"#REF!"}},{"$f":"(((86400*E256)/8))*B250","v":{"$error":"#REF!"}},{"$f":"(((86400*F256)/8))*B250","v":{"$error":"#REF!"}},{"$f":"(((86400*G256)/8))*B250","v":{"$error":"#REF!"}},{"$f":"(((86400*H256)/8))*B250","v":{"$error":"#REF!"}},{"$f":"(((86400*I256)/8))*B250","v":{"$error":"#REF!"}},{"$f":"(((86400*J256)/8))*B250","v":{"$error":"#REF!"}},{"$f":"(((86400*K256)/8))*B250","v":{"$error":"#REF!"}},{"$f":"(((86400*L256)/8))*B250","v":{"$error":"#REF!"}},{"$f":"(((86400*M256)/8))*B250","v":{"$error":"#REF!"}},{"$f":"(((86400*N256)/8))*B250","v":{"$error":"#REF!"}},{"$f":"(((86400*O256)/8))*B250","v":{"$error":"#REF!"}},{"$f":"(((86400*P256)/8))*B250","v":{"$error":"#REF!"}},{"$f":"(((86400*Q256)/8))*B250","v":{"$error":"#REF!"}},{"$f":"(((86400*R256)/8))*B250","v":{"$error":"#REF!"}},{"$f":"(((86400*S256)/8))*B250","v":{"$error":"#REF!"}},"Storage",{"$f":"SUM(B257:B257)","v":{"$error":"#REF!"}},{"$f":"SUM(B257:C257)","v":{"$error":"#REF!"}},{"$f":"SUM(B257:D257)","v":{"$error":"#REF!"}},{"$f":"SUM(B257:E257)","v":{"$error":"#REF!"}},{"$f":"SUM(B257:F257)","v":{"$error":"#REF!"}},{"$f":"SUM(B257:G257)","v":{"$error":"#REF!"}},{"$f":"SUM(B257:H257)","v":{"$error":"#REF!"}},{"$f":"SUM(B257:I257)","v":{"$error":"#REF!"}},{"$f":"SUM(B257:J257)","v":{"$error":"#REF!"}},{"$f":"SUM(B257:K257)","v":{"$error":"#REF!"}},{"$f":"SUM(B257:L257)","v":{"$error":"#REF!"}},{"$f":"SUM(B257:M257)","v":{"$error":"#REF!"}},{"$f":"SUM(B257:N257)","v":{"$error":"#REF!"}},{"$f":"SUM(B257:O257)","v":{"$error":"#REF!"}},{"$f":"SUM(B257:P257)","v":{"$error":"#REF!"}},{"$f":"SUM(B257:Q257)","v":{"$error":"#REF!"}},{"$f":"SUM(B257:R257)","v":{"$error":"#REF!"}},{"$f":"SUM(B257:S257)","v":{"$error":"#REF!"}}]
["Storage with Motion",{"$f":"IF($B$253=0,B257,B257*$B$253)","v":{"$error":"#REF!"}},{"$f":"IF($C$253=0,C257,C257*$C$253)","v":{"$error":"#REF!"}},{"$f":"IF($D$253=0,D257,D257*$D$253)","v":{"$error":"#REF!"}},{"$f":"IF($E$253=0,E257,E257*$E$253)","v":{"$error":"#REF!"}},{"$f":"IF($F$253=0,F257,F257*$F$253)","v":{"$error":"#REF!"}},{"$f":"IF($G$253=0,G257,G257*$G$253)","v":{"$error":"#REF!"}},{"$f":"IF($H$253=0,H257,H257*$H$253)","v":{"$error":"#REF!"}},{"$f":"IF($I$253=0,I257,I257*$I$253)","v":{"$error":"#REF!"}},{"$f":"IF($J$253=0,J257,J257*$J$253)","v":{"$error":"#REF!"}},{"$f":"IF($K$253=0,K257,K257*$K$253)","v":{"$error":"#REF!"}},{"$f":"IF($L$253=0,L257,L257*$L$253)","v":{"$error":"#REF!"}},{"$f":"IF($M$253=0,M257,M257*$M$253)","v":{"$error":"#REF!"}},{"$f":"IF($N$253=0,N257,N257*$N$253)","v":{"$error":"#REF!"}},{"$f":"IF($O$253=0,O257,O257*$O$253)","v":{"$error":"#REF!"}},{"$f":"IF($P$253=0,P257,P257*$P$253)","v":{"$error":"#REF!"}},{"$f":"IF($Q$253=0,Q257,Q257*$Q$253)","v":{"$error":"#REF!"}},{"$f":"IF($R$253=0,R257,R257*$R$253)","v":{"$error":"#REF!"}},{"$f":"IF($S$253=0,S257,S257*$S$253)","v":{"$error":"#REF!"}},"Storage with Motion",{"$f":"SUM(B258:B258)","v":{"$error":"#REF!"}},{"$f":"SUM(B258:C258)","v":{"$error":"#REF!"}},{"$f":"SUM(B258:D258)","v":{"$error":"#REF!"}},{"$f":"SUM(B258:E258)","v":{"$error":"#REF!"}},{"$f":"SUM(B258:F258)","v":{"$error":"#REF!"}},{"$f":"SUM(B258:G258)","v":{"$error":"#REF!"}},{"$f":"SUM(B258:H258)","v":{"$error":"#REF!"}},{"$f":"SUM(B258:I258)","v":{"$error":"#REF!"}},{"$f":"SUM(B258:J258)","v":{"$error":"#REF!"}},{"$f":"SUM(B258:K258)","v":{"$error":"#REF!"}},{"$f":"SUM(B258:L258)","v":{"$error":"#REF!"}},{"$f":"SUM(B258:M258)","v":{"$error":"#REF!"}},{"$f":"SUM(B258:N258)","v":{"$error":"#REF!"}},{"$f":"SUM(B258:O258)","v":{"$error":"#REF!"}},{"$f":"SUM(B258:P258)","v":{"$error":"#REF!"}},{"$f":"SUM(B258:Q258)","v":{"$error":"#REF!"}},{"$f":"SUM(B258:R258)","v":{"$error":"#REF!"}},{"$f":"SUM(B258:S258)","v":{"$error":"#REF!"}}]
["Storage In GB",{"$f":"B258/1000000000","v":{"$error":"#REF!"}},{"$error":"#REF!"},{"$error":"#REF!"},{"$error":"#REF!"},{"$error":"#REF!"},{"$error":"#REF!"},{"$error":"#REF!"},{"$error":"#REF!"},{"$error":"#REF!"},{"$error":"#REF!"},{"$error":"#REF!"},{"$error":"#REF!"},{"$error":"#REF!"},{"$error":"#REF!"},{"$error":"#REF!"},{"$error":"#REF!"},{"$error":"#REF!"},{"$error":"#REF!"},"Storage In GB",{"$f":"U258/1000000000","v":{"$error":"#REF!"}},{"$error":"#REF!"},{"$error":"#REF!"},{"$error":"#REF!"},{"$error":"#REF!"},{"$error":"#REF!"},{"$error":"#REF!"},{"$error":"#REF!"},{"$error":"#REF!"},{"$error":"#REF!"},{"$error":"#REF!"},{"$error":"#REF!"},{"$error":"#REF!"},{"$error":"#REF!"},{"$error":"#REF!"},{"$error":"#REF!"},{"$error":"#REF!"},{"$error":"#REF!"}]
["Storage In TB",{"$f":"B258/1000000000000","v":{"$error":"#REF!"}},{"$error":"#REF!"},{"$error":"#REF!"},{"$error":"#REF!"},{"$error":"#REF!"},{"$error":"#REF!"},{"$error":"#REF!"},{"$error":"#REF!"},{"$error":"#REF!"},{"$error":"#REF!"},{"$error":"#REF!"},{"$error":"#REF!"},{"$error":"#REF!"},{"$error":"#REF!"},{"$error":"#REF!"},{"$error":"#REF!"},{"$error":"#REF!"},{"$error":"#REF!"},"Storage In TB",{"$f":"U258/1000000000000","v":{"$error":"#REF!"}},{"$error":"#REF!"},{"$error":"#REF!"},{"$error":"#REF!"},{"$error":"#REF!"},{"$error":"#REF!"},{"$error":"#REF!"},{"$error":"#REF!"},{"$error":"#REF!"},{"$error":"#REF!"},{"$error":"#REF!"},{"$error":"#REF!"},{"$error":"#REF!"},{"$error":"#REF!"},{"$error":"#REF!"},{"$error":"#REF!"},{"$error":"#REF!"},{"$error":"#REF!"}]
[]
["Bandwidth In Mbps",{"$f":"B256/1000000","v":{"$error":"#REF!"}},{"$error":"#REF!"},{"$error":"#REF!"},{"$error":"#REF!"},{"$error":"#REF!"},{"$error":"#REF!"},{"$error":"#REF!"},{"$error":"#REF!"},{"$error":"#REF!"},{"$error":"#REF!"},{"$error":"#REF!"},{"$error":"#REF!"},{"$error":"#REF!"},{"$error":"#REF!"},{"$error":"#REF!"},{"$error":"#REF!"},{"$error":"#REF!"},{"$error":"#REF!"},"Bandwidth In Mbps",{"$f":"U256/1000000","v":{"$error":"#REF!"}},{"$error":"#REF!"},{"$error":"#REF!"},{"$error":"#REF!"},{"$error":"#REF!"},{"$error":"#REF!"},{"$error":"#REF!"},{"$error":"#REF!"},{"$error":"#REF!"},{"$error":"#REF!"},{"$error":"#REF!"},{"$error":"#REF!"},{"$error":"#REF!"},{"$error":"#REF!"},{"$error":"#REF!"},{"$error":"#REF!"},{"$error":"#REF!"},{"$error":"#REF!"}]
["Bandwidth in kbps",{"$f":"B262*1000","v":{"$error":"#REF!"}},{"$error":"#REF!"},{"$error":"#REF!"},{"$error":"#REF!"},{"$error":"#REF!"},{"$error":"#REF!"},{"$error":"#REF!"},{"$error":"#REF!"},{"$error":"#REF!"},{"$error":"#REF!"},{"$error":"#REF!"},{"$error":"#REF!"},{"$error":"#REF!"},{"$error":"#REF!"},{"$error":"#REF!"},{"$error":"#REF!"},{"$error":"#REF!"},{"$error":"#REF!"},"Bandwidth in kbps",{"$f":"U262*1000","v":{"$error":"#REF!"}},{"$error":"#REF!"},{"$error":"#REF!"},{"$error":"#REF!"},{"$error":"#REF!"},{"$error":"#REF!"},{"$error":"#REF!"},{"$error":"#REF!"},{"$error":"#REF!"},{"$error":"#REF!"},{"$error":"#REF!"},{"$error":"#REF!"},{"$error":"#REF!"},{"$error":"#REF!"},{"$error":"#REF!"},{"$error":"#REF!"},{"$error":"#REF!"},{"$error":"#REF!"}]
[]
[]
[]
["SymSafe (PAL)"]
[]
["NTSC","D1 Resolution",null,null,null,null,"2CIF Resolution",null,null,null,null,"CIF Resolution"]
[null,"Frame Rates Mbps",null,null,null,null,"Field Rates Mbps",null,null,null,null,"Field Rates Mbps"]
["Quality",25,12.5,8.3000000000000007,5,2.1,25,12.5,8.3000000000000007,5,2.1,25,12.5,8.3000000000000007,5,2.1]
[6,3000000,{"$f":"(B272/2)","v":1500000},{"$f":"(B272/3)","v":1000000},{"$f":"((B272/5)*0.3)+(B272/5)","v":780000},{"$f":"((B272/12)*0.6)+(B272/12)","v":400000},{"$f":"(B272/2)","v":1500000},{"$f":"(G272/2)","v":750000},{"$f":"(G272/3)","v":500000},{"$f":"((G272/5)*0.3)+(G272/5)","v":390000},{"$f":"((G272/12)*0.6)+(G272/12)","v":200000},{"$f":"(B272/3)","v":1000000},{"$f":"(L272/2)","v":500000},{"$f":"(L272/3)","v":333333.33333333331},{"$f":"((L272/5)*0.3)+(L272/5)","v":260000},{"$f":"((L272/12)*0.6)+(L272/12)","v":133333.33333333331}]
[5,2300000,1150000,766666.66666666663,598000,306666.66666666663,1150000,575000,383333.33333333331,299000,153333.33333333331,766666.66666666663,383333.33333333331,255555.55555555553,199333.33333333331,102222.22222222222]
[4,2000000,1000000,666666.66666666663,520000,266666.66666666663,1000000,500000,333333.33333333331,260000,133333.33333333331,666666.66666666663,333333.33333333331,222222.22222222222,173333.33333333331,88888.888888888876]
[3,1720000,860000,573333.33333333337,447200,229333.33333333334,860000,430000,286666.66666666669,223600,114666.66666666667,573333.33333333337,286666.66666666669,191111.11111111112,149066.66666666669,76444.444444444453]
[2,1320000,660000,440000,343200,176000,660000,330000,220000,171600,88000,440000,220000,146666.66666666666,114400,58666.666666666657]
[1,1160000,580000,386666.66666666669,301600,154666.66666666669,580000,290000,193333.33333333334,150800,77333.333333333343,386666.66666666669,193333.33333333334,128888.88888888889,100533.33333333334,51555.555555555555]
[]
["Days",{"$f":"#REF!","v":{"$error":"#REF!"}}]
["#of Camera",{"$f":"#REF!","v":{"$error":"#REF!"}},null,null,"D1","2CIF","CIF"]
[null,null,null,null,{"$f":"INDEX($D$272:$F$277,MATCH(B283,$A$272:$A$277,0),MATCH(B282,$D$271:$F$271,0))","v":{"$error":"#REF!"}},{"$f":"INDEX($H$272:$K$277,MATCH(B283,$A$272:$A$277,0),MATCH(B282,$H$271:$K$271,0))","v":{"$error":"#REF!"}},{"$f":"INDEX($L$272:$P$277,MATCH(B283,$A$272:$A$277,0),MATCH(B282,$L$271:$P$271,0))","v":{"$error":"#REF!"}}]
["Frame Per Second",{"$f":"#REF!","v":{"$error":"#REF!"}},null,"with overhead",{"$f":"E281*0.148+E281","v":{"$error":"#REF!"}},{"$f":"F281*0.148+F281","v":{"$error":"#REF!"}},{"$f":"G281*0.148+G281","v":{"$error":"#REF!"}}]
["Quality",{"$f":"#REF!","v":{"$error":"#REF!"}}]
["% Motion Detection",{"$f":"#REF!","v":{"$error":"#REF!"}}]
[null,null,null,"Total Storage",{"$f":"(((86400*E282)/8))*B279*B280","v":{"$error":"#REF!"}},{"$f":"(((86400*F282)/8))*B279*B280","v":{"$error":"#REF!"}},{"$f":"(((86400*G282)/8))*B279*B280","v":{"$error":"#REF!"}}]
[null,null,null,"w/motion",{"$f":"IF($B$284=0,E285,E285*$B$284)","v":{"$error":"#REF!"}},{"$f":"IF($B$284=0,F285,F285*$B$284)","v":{"$error":"#REF!"}},{"$f":"IF($B$284=0,G285,G285*$B$284)","v":{"$error":"#REF!"}}]
[]
[null,null,null,"with overhead",{"$f":"(((86400*E282)/8))*B279*B280","v":{"$error":"#REF!"}},{"$f":"(((86400*F282)/8))*B279*B280","v":{"$error":"#REF!"}},{"$f":"(((86400*G282)/8))*B279*B280","v":{"$error":"#REF!"}}]
[null,null,null,null,{"$f":"E286/1000000000","v":{"$error":"#REF!"}},{"$f":"F286/1000000000","v":{"$error":"#REF!"}},{"$f":"G286/1000000000","v":{"$error":"#REF!"}}]
[null,null,null,null,{"$f":"E286/1000000000000","v":{"$error":"#REF!"}},{"$f":"F286/1000000000000","v":{"$error":"#REF!"}},{"$f":"G286/1000000000000","v":{"$error":"#REF!"}},null,null,null,null,null,null,null,null,null,null,null,null,null,"TOTALS"]
[]
["NTSC","D1 Resolution",null,null,null,null,"2CIF Resolution",null,null,null,null,"CIF Resolution"]
[null,"Frame Rates Mbps",null,null,null,null,"Field Rates Mbps",null,null,null,null,"Field Rates Mbps",null,null,null,null,null,null,null,null,"# CHANNELS",{"$f":"#REF!","v":{"$error":"#REF!"}}]
["Quality",25,"D112.5","D18.3","D15","D12.1","2CIF25","2CIF12.5","2CIF8.3","2CIF5","2CIF2.1","CIF25","CIF12.5","CIF8.3","CIF5","CIF2.1"]
["Quality 6",3000000,{"$f":"(B295/2)","v":1500000},{"$f":"(B295/3)","v":1000000},{"$f":"((B295/5)*0.3)+(B295/5)","v":780000},{"$f":"((B295/12)*0.6)+(B295/12)","v":400000},{"$f":"(B295/2)","v":1500000},{"$f":"(G295/2)","v":750000},{"$f":"(G295/3)","v":500000},{"$f":"((G295/5)*0.3)+(G295/5)","v":390000},{"$f":"((G295/12)*0.6)+(G295/12)","v":200000},{"$f":"(B295/3)","v":1000000},{"$f":"(L295/2)","v":500000},{"$f":"(L295/3)","v":333333.33333333331},{"$f":"((L295/5)*0.3)+(L295/5)","v":260000},{"$f":"((L295/12)*0.6)+(L295/12)","v":133333.33333333331}]
["Quality 5",2300000,1150000,766666.66666666663,598000,306666.66666666663,1150000,575000,383333.33333333331,299000,153333.33333333331,766666.66666666663,383333.33333333331,255555.55555555553,199333.33333333331,102222.22222222222]
["Quality 4",2000000,1000000,666666.66666666663,520000,266666.66666666663,1000000,500000,333333.33333333331,260000,133333.33333333331,666666.66666666663,333333.33333333331,222222.22222222222,173333.33333333331,88888.888888888876,null,null,null,null,"Storage In GB",{"$f":"INDEX($U$313:$AL$313,MATCH(V293,$U$303:$AL$303,0))","v":{"$error":"#REF!"}}]
["Quality 3",1720000,860000,573333.33333333337,447200,229333.33333333334,860000,430000,286666.66666666669,223600,114666.66666666667,573333.33333333337,286666.66666666669,191111.11111111112,149066.66666666669,76444.444444444453,null,null,null,null,"Storage In TB",{"$f":"INDEX($U$314:$AL$314,MATCH(V293,$U$303:$AL$303,0))","v":{"$error":"#REF!"}}]
["Quality 2",1320000,660000,440000,343200,176000,660000,330000,220000,171600,88000,440000,220000,146666.66666666666,114400,58666.666666666657]
["Quality 1",1160000,580000,386666.66666666669,301600,154666.66666666669,580000,290000,193333.33333333334,150800,77333.333333333343,386666.66666666669,193333.33333333334,128888.88888888889,100533.33333333334,51555.555555555555,null,null,null,null,"Bandwidth In Mbps",{"$f":"INDEX($U$316:$AL$316,MATCH(V293,$U$303:$AL$303,0))","v":{"$error":"#REF!"}}]
[null,null,null,null,null,null,null,null,null,null,null,null,null,null,null,null,null,null,null,null,"Bandwidth in kbps",{"$f":"INDEX($U$317:$AL$317,MATCH(V293,$U$303:$AL$303,0))","v":{"$error":"#REF!"}}]
[]
[null,1,2,3,4,5,6,7,8,9,10,11,12,13,14,15,16,17,18,null,1,2,3,4,5,6,7,8,9,10,11,12,13,14,15,16,17,18]
["Days",{"$f":"#REF!","v":{"$error":"#REF!"}}]
["Res/fps",{"$f":"#REF!&#REF!","v":{"$error":"#REF!"}},{"$f":"#REF!&#REF!","v":{"$error":"#REF!"}},{"$f":"#REF!&#REF!","v":{"$error":"#REF!"}},{"$f":"#REF!&#REF!","v":{"$error":"#REF!"}},{"$f":"#REF!&#REF!","v":{"$error":"#REF!"}},{"$f":"#REF!&#REF!","v":{"$error":"#REF!"}},{"$f":"#REF!&#REF!","v":{"$error":"#REF!"}},{"$f":"#REF!&#REF!","v":{"$error":"#REF!"}},{"$f":"#REF!&#REF!","v":{"$error":"#REF!"}},{"$f":"#REF!&#REF!","v":{"$error":"#REF!"}},{"$f":"#REF!&#REF!","v":{"$error":"#REF!"}},{"$f":"#REF!&#REF!","v":{"$error":"#REF!"}},{"$f":"#REF!&#REF!","v":{"$error":"#REF!"}},{"$f":"#REF!&#REF!","v":{"$error":"#REF!"}},{"$f":"#REF!&#REF!","v":{"$error":"#REF!"}},{"$f":"#REF!&#REF!","v":{"$error":"#REF!"}},{"$f":"#REF!&#REF!","v":{"$error":"#REF!"}},{"$f":"#REF!&#REF!","v":{"$error":"#REF!"}}]
["Quality",{"$f":"#REF!&#REF!","v":{"$error":"#REF!"}},{"$f":"#REF!&#REF!","v":{"$error":"#REF!"}},{"$f":"#REF!&#REF!","v":{"$error":"#REF!"}},{"$f":"#REF!&#REF!","v":{"$error":"#REF!"}},{"$f":"#REF!&#REF!","v":{"$error":"#REF!"}},{"$f":"#REF!&#REF!","v":{"$error":"#REF!"}},{"$f":"#REF!&#REF!","v":{"$error":"#REF!"}},{"$f":"#REF!&#REF!","v":{"$error":"#REF!"}},{"$f":"#REF!&#REF!","v":{"$error":"#REF!"}},{"$f":"#REF!&#REF!","v":{"$error":"#REF!"}},{"$f":"#REF!&#REF!","v":{"$error":"#REF!"}},{"$f":"#REF!&#REF!","v":{"$error":"#REF!"}},{"$f":"#REF!&#REF!","v":{"$error":"#REF!"}},{"$f":"#REF!&#REF!","v":{"$error":"#REF!"}},{"$f":"#REF!&#REF!","v":{"$error":"#REF!"}},{"$f":"#REF!&#REF!","v":{"$error":"#REF!"}},{"$f":"#REF!&#REF!","v":{"$error":"#REF!"}},{"$f":"#REF!&#REF!","v":{"$error":"#REF!"}}]
["% Motion",{"$f":"#REF!","v":{"$error":"#REF!"}},{"$f":"#REF!","v":{"$error":"#REF!"}},{"$f":"#REF!","v":{"$error":"#REF!"}},{"$f":"#REF!","v":{"$error":"#REF!"}},{"$f":"#REF!","v":{"$error":"#REF!"}},{"$f":"#REF!","v":{"$error":"#REF!"}},{"$f":"#REF!","v":{"$error":"#REF!"}},{"$f":"#REF!","v":{"$error":"#REF!"}},{"$f":"#REF!","v":{"$error":"#REF!"}},{"$f":"#REF!","v":{"$error":"#REF!"}},{"$f":"#REF!","v":{"$error":"#REF!"}},{"$f":"#REF!","v":{"$error":"#REF!"}},{"$f":"#REF!","v":{"$error":"#REF!"}},{"$f":"#REF!","v":{"$error":"#REF!"}},{"$f":"#REF!","v":{"$error":"#REF!"}},{"$f":"#REF!","v":{"$error":"#REF!"}},{"$f":"#REF!","v":{"$error":"#REF!"}},{"$f":"#REF!","v":{"$error":"#REF!"}}]
[]
["Bitrate",{"$f":"INDEX($D$295:$P$300,MATCH(B306,$A$295:$A$300,0),MATCH(B305,$D$294:$P$294,0))","v":{"$error":"#REF!"}},{"$error":"#REF!"},{"$error":"#REF!"},{"$error":"#REF!"},{"$error":"#REF!"},{"$error":"#REF!"},{"$error":"#REF!"},{"$error":"#REF!"},{"$error":"#REF!"},{"$error":"#REF!"},{"$error":"#REF!"},{"$error":"#REF!"},{"$error":"#REF!"},{"$error":"#REF!"},{"$error":"#REF!"},{"$error":"#REF!"},{"$error":"#REF!"},{"$error":"#REF!"},"Bitrate",{"$f":"SUM(B309:B309)","v":{"$error":"#REF!"}},{"$f":"SUM(B309:C309)","v":{"$error":"#REF!"}},{"$f":"SUM(B309:D309)","v":{"$error":"#REF!"}},{"$f":"SUM(B309:E309)","v":{"$error":"#REF!"}},{"$f":"SUM(B309:F309)","v":{"$error":"#REF!"}},{"$f":"SUM(B309:G309)","v":{"$error":"#REF!"}},{"$f":"SUM(B309:H309)","v":{"$error":"#REF!"}},{"$f":"SUM(B309:I309)","v":{"$error":"#REF!"}},{"$f":"SUM(B309:J309)","v":{"$error":"#REF!"}},{"$f":"SUM(B309:K309)","v":{"$error":"#REF!"}},{"$f":"SUM(B309:L309)","v":{"$error":"#REF!"}},{"$f":"SUM(B309:M309)","v":{"$error":"#REF!"}},{"$f":"SUM(B309:N309)","v":{"$error":"#REF!"}},{"$f":"SUM(B309:O309)","v":{"$error":"#REF!"}},{"$f":"SUM(B309:P309)","v":{"$error":"#REF!"}},{"$f":"SUM(B309:Q309)","v":{"$error":"#REF!"}},{"$f":"SUM(B309:R309)","v":{"$error":"#REF!"}},{"$f":"SUM(B309:S309)","v":{"$error":"#REF!"}}]
["Bitrate with Overhead",{"$f":"B309*0.148+B309","v":{"$error":"#REF!"}},{"$error":"#REF!"},{"$error":"#REF!"},{"$error":"#REF!"},{"$error":"#REF!"},{"$error":"#REF!"},{"$error":"#REF!"},{"$error":"#REF!"},{"$error":"#REF!"},{"$error":"#REF!"},{"$error":"#REF!"},{"$error":"#REF!"},{"$error":"#REF!"},{"$error":"#REF!"},{"$error":"#REF!"},{"$error":"#REF!"},{"$error":"#REF!"},{"$error":"#REF!"},"Bitrate with Overhead",{"$f":"SUM(B310:B310)","v":{"$error":"#REF!"}},{"$f":"SUM(B310:C310)","v":{"$error":"#REF!"}},{"$f":"SUM(B310:D310)","v":{"$error":"#REF!"}},{"$f":"SUM(B310:E310)","v":{"$error":"#REF!"}},{"$f":"SUM(B310:F310)","v":{"$error":"#REF!"}},{"$f":"SUM(B310:G310)","v":{"$error":"#REF!"}},{"$f":"SUM(B310:H310)","v":{"$error":"#REF!"}},{"$f":"SUM(B310:I310)","v":{"$error":"#REF!"}},{"$f":"SUM(B310:J310)","v":{"$error":"#REF!"}},{"$f":"SUM(B310:K310)","v":{"$error":"#REF!"}},{"$f":"SUM(B310:L310)","v":{"$error":"#REF!"}},{"$f":"SUM(B310:M310)","v":{"$error":"#REF!"}},{"$f":"SUM(B310:N310)","v":{"$error":"#REF!"}},{"$f":"SUM(B310:O310)","v":{"$error":"#REF!"}},{"$f":"SUM(B310:P310)","v":{"$error":"#REF!"}},{"$f":"SUM(B310:Q310)","v":{"$error":"#REF!"}},{"$f":"SUM(B310:R310)","v":{"$error":"#REF!"}},{"$f":"SUM(B310:S310)","v":{"$error":"#REF!"}}]
["Storage",{"$f":"(((86400*B310)/8))*B304","v":{"$error":"#REF!"}},{"$f":"(((86400*C310)/8))*B304","v":{"$error":"#REF!"}},{"$f":"(((86400*D310)/8))*B304","v":{"$error":"#REF!"}},{"$f":"(((86400*E310)/8))*B304","v":{"$error":"#REF!"}},{"$f":"(((86400*F310)/8))*B304","v":{"$error":"#REF!"}},{"$f":"(((86400*G310)/8))*B304","v":{"$error":"#REF!"}},{"$f":"(((86400*H310)/8))*B304","v":{"$error":"#REF!"}},{"$f":"(((86400*I310)/8))*B304","v":{"$error":"#REF!"}},{"$f":"(((86400*J310)/8))*B304","v":{"$error":"#REF!"}},{"$f":"(((86400*K310)/8))*B304","v":{"$error":"#REF!"}},{"$f":"(((86400*L310)/8))*B304","v":{"$error":"#REF!"}},{"$f":"(((86400*M310)/8))*B304","v":{"$error":"#REF!"}},{"$f":"(((86400*N310)/8))*B304","v":{"$error":"#REF!"}},{"$f":"(((86400*O310)/8))*B304","v":{"$error":"#REF!"}},{"$f":"(((86400*P310)/8))*B304","v":{"$error":"#REF!"}},{"$f":"(((86400*Q310)/8))*B304","v":{"$error":"#REF!"}},{"$f":"(((86400*R310)/8))*B304","v":{"$error":"#REF!"}},{"$f":"(((86400*S310)/8))*B304","v":{"$error":"#REF!"}},"Storage",{"$f":"SUM(B311:B311)","v":{"$error":"#REF!"}},{"$f":"SUM(B311:C311)","v":{"$error":"#REF!"}},{"$f":"SUM(B311:D311)","v":{"$error":"#REF!"}},{"$f":"SUM(B311:E311)","v":{"$error":"#REF!"}},{"$f":"SUM(B311:F311)","v":{"$error":"#REF!"}},{"$f":"SUM(B311:G311)","v":{"$error":"#REF!"}},{"$f":"SUM(B311:H311)","v":{"$error":"#REF!"}},{"$f":"SUM(B311:I311)","v":{"$error":"#REF!"}},{"$f":"SUM(B311:J311)","v":{"$error":"#REF!"}},{"$f":"SUM(B311:K311)","v":{"$error":"#REF!"}},{"$f":"SUM(B311:L311)","v":{"$error":"#REF!"}},{"$f":"SUM(B311:M311)","v":{"$error":"#REF!"}},{"$f":"SUM(B311:N311)","v":{"$error":"#REF!"}},{"$f":"SUM(B311:O311)","v":{"$error":"#REF!"}},{"$f":"SUM(B311:P311)","v":{"$error":"#REF!"}},{"$f":"SUM(B311:Q311)","v":{"$error":"#REF!"}},{"$f":"SUM(B311:R311)","v":{"$error":"#REF!"}},{"$f":"SUM(B311:S311)","v":{"$error":"#REF!"}}]
["Storage with Motion",{"$f":"IF($B$307=0,B311,B311*$B$307)","v":{"$error":"#REF!"}},{"$f":"IF($C$307=0,C311,C311*$C$307)","v":{"$error":"#REF!"}},{"$f":"IF($D$307=0,D311,D311*$D$307)","v":{"$error":"#REF!"}},{"$f":"IF($E$307=0,E311,E311*$E$307)","v":{"$error":"#REF!"}},{"$f":"IF($F$307=0,F311,F311*$F$307)","v":{"$error":"#REF!"}},{"$f":"IF($G$307=0,G311,G311*$G$307)","v":{"$error":"#REF!"}},{"$f":"IF($H$307=0,H311,H311*$H$307)","v":{"$error":"#REF!"}},{"$f":"IF($I$307=0,I311,I311*$I$307)","v":{"$error":"#REF!"}},{"$f":"IF($J$307=0,J311,J311*$J$307)","v":{"$error":"#REF!"}},{"$f":"IF($K$307=0,K311,K311*$K$307)","v":{"$error":"#REF!"}},{"$f":"IF($L$307=0,L311,L311*$L$307)","v":{"$error":"#REF!"}},{"$f":"IF($M$307=0,M311,M311*$M$307)","v":{"$error":"#REF!"}},{"$f":"IF($N$307=0,N311,N311*$N$307)","v":{"$error":"#REF!"}},{"$f":"IF($O$307=0,O311,O311*$O$307)","v":{"$error":"#REF!"}},{"$f":"IF($P$307=0,P311,P311*$P$307)","v":{"$error":"#REF!"}},{"$f":"IF($Q$307=0,Q311,Q311*$Q$307)","v":{"$error":"#REF!"}},{"$f":"IF($R$307=0,R311,R311*$R$307)","v":{"$error":"#REF!"}},{"$f":"IF($S$307=0,S311,S311*$S$307)","v":{"$error":"#REF!"}},"Storage with Motion",{"$f":"SUM(B312:B312)","v":{"$error":"#REF!"}},{"$f":"SUM(B312:C312)","v":{"$error":"#REF!"}},{"$f":"SUM(B312:D312)","v":{"$error":"#REF!"}},{"$f":"SUM(B312:E312)","v":{"$error":"#REF!"}},{"$f":"SUM(B312:F312)","v":{"$error":"#REF!"}},{"$f":"SUM(B312:G312)","v":{"$error":"#REF!"}},{"$f":"SUM(B312:H312)","v":{"$error":"#REF!"}},{"$f":"SUM(B312:I312)","v":{"$error":"#REF!"}},{"$f":"SUM(B312:J312)","v":{"$error":"#REF!"}},{"$f":"SUM(B312:K312)","v":{"$error":"#REF!"}},{"$f":"SUM(B312:L312)","v":{"$error":"#REF!"}},{"$f":"SUM(B312:M312)","v":{"$error":"#REF!"}},{"$f":"SUM(B312:N312)","v":{"$error":"#REF!"}},{"$f":"SUM(B312:O312)","v":{"$error":"#REF!"}},{"$f":"SUM(B312:P312)","v":{"$error":"#REF!"}},{"$f":"SUM(B312:Q312)","v":{"$error":"#REF!"}},{"$f":"SUM(B312:R312)","v":{"$error":"#REF!"}},{"$f":"SUM(B312:S312)","v":{"$error":"#REF!"}}]
["Storage In GB",{"$f":"B312/1000000000","v":{"$error":"#REF!"}},{"$error":"#REF!"},{"$error":"#REF!"},{"$error":"#REF!"},{"$error":"#REF!"},{"$error":"#REF!"},{"$error":"#REF!"},{"$error":"#REF!"},{"$error":"#REF!"},{"$error":"#REF!"},{"$error":"#REF!"},{"$error":"#REF!"},{"$error":"#REF!"},{"$error":"#REF!"},{"$error":"#REF!"},{"$error":"#REF!"},{"$error":"#REF!"},{"$error":"#REF!"},"Storage In GB",{"$f":"U312/1000000000","v":{"$error":"#REF!"}},{"$error":"#REF!"},{"$error":"#REF!"},{"$error":"#REF!"},{"$error":"#REF!"},{"$error":"#REF!"},{"$error":"#REF!"},{"$error":"#REF!"},{"$error":"#REF!"},{"$error":"#REF!"},{"$error":"#REF!"},{"$error":"#REF!"},{"$error":"#REF!"},{"$error":"#REF!"},{"$error":"#REF!"},{"$error":"#REF!"},{"$error":"#REF!"},{"$error":"#REF!"}]
["Storage In TB",{"$f":"B312/1000000000000","v":{"$error":"#REF!"}},{"$error":"#REF!"},{"$error":"#REF!"},{"$error":"#REF!"},{"$error":"#REF!"},{"$error":"#REF!"},{"$error":"#REF!"},{"$error":"#REF!"},{"$error":"#REF!"},{"$error":"#REF!"},{"$error":"#REF!"},{"$error":"#REF!"},{"$error":"#REF!"},{"$error":"#REF!"},{"$error":"#REF!"},{"$error":"#REF!"},{"$error":"#REF!"},{"$error":"#REF!"},"Storage In TB",{"$f":"U312/1000000000000","v":{"$error":"#REF!"}},{"$error":"#REF!"},{"$error":"#REF!"},{"$error":"#REF!"},{"$error":"#REF!"},{"$error":"#REF!"},{"$error":"#REF!"},{"$error":"#REF!"},{"$error":"#REF!"},{"$error":"#REF!"},{"$error":"#REF!"},{"$error":"#REF!"},{"$error":"#REF!"},{"$error":"#REF!"},{"$error":"#REF!"},{"$error":"#REF!"},{"$error":"#REF!"},{"$error":"#REF!"}]
[]
["Bandwidth In Mbps",{"$f":"B310/1000000","v":{"$error":"#REF!"}},{"$error":"#REF!"},{"$error":"#REF!"},{"$error":"#REF!"},{"$error":"#REF!"},{"$error":"#REF!"},{"$error":"#REF!"},{"$error":"#REF!"},{"$error":"#REF!"},{"$error":"#REF!"},{"$error":"#REF!"},{"$error":"#REF!"},{"$error":"#REF!"},{"$error":"#REF!"},{"$error":"#REF!"},{"$error":"#REF!"},{"$error":"#REF!"},{"$error":"#REF!"},"Bandwidth In Mbps",{"$f":"U310/1000000","v":{"$error":"#REF!"}},{"$error":"#REF!"},{"$error":"#REF!"},{"$error":"#REF!"},{"$error":"#REF!"},{"$error":"#REF!"},{"$error":"#REF!"},{"$error":"#REF!"},{"$error":"#REF!"},{"$error":"#REF!"},{"$error":"#REF!"},{"$error":"#REF!"},{"$error":"#REF!"},{"$error":"#REF!"},{"$error":"#REF!"},{"$error":"#REF!"},{"$error":"#REF!"},{"$error":"#REF!"}]
["Bandwidth in kbps",{"$f":"B316*1000","v":{"$error":"#REF!"}},{"$error":"#REF!"},{"$error":"#REF!"},{"$error":"#REF!"},{"$error":"#REF!"},{"$error":"#REF!"},{"$error":"#REF!"},{"$error":"#REF!"},{"$error":"#REF!"},{"$error":"#REF!"},{"$error":"#REF!"},{"$error":"#REF!"},{"$error":"#REF!"},{"$error":"#REF!"},{"$error":"#REF!"},{"$error":"#REF!"},{"$error":"#REF!"},{"$error":"#REF!"},"Bandwidth in kbps",{"$f":"U316*1000","v":{"$error":"#REF!"}},{"$error":"#REF!"},{"$error":"#REF!"},{"$error":"#REF!"},{"$error":"#REF!"},{"$error":"#REF!"},{"$error":"#REF!"},{"$error":"#REF!"},{"$error":"#REF!"},{"$error":"#REF!"},{"$error":"#REF!"},{"$error":"#REF!"},{"$error":"#REF!"},{"$error":"#REF!"},{"$error":"#REF!"},{"$error":"#REF!"},{"$error":"#REF!"},{"$error":"#REF!"}]
[]
[]
["Digia II (NTSC)"]
[]
["Supported Resolution/FrameRate"]
["D1 - 30"]
["2CIF - 60"]
["CIF - 120"]
["*Note bitrate is based on a 10 second average of bitrate bandwidth"]
[]
["COLOR STILL (video was measured with a color bar test pattern (WYCGMRBLBK)"]
["NTSC",null,null,null,null,"D1"]
["QUALITY",30,20,15,10,7.5,6,5,4,3,2,1]
[6,1624537,{"$f":"B331/1.5","v":1083024.6666666667},{"$f":"B331/2","v":812268.5},{"$f":"B331/3","v":541512.33333333337},{"$f":"B331/4","v":406134.25},{"$f":"B331/5","v":324907.40000000002},{"$f":"B331/6","v":270756.16666666669},{"$f":"B331/7.5","v":216604.93333333332},{"$f":"B331/10","v":162453.70000000001},{"$f":"B331/15","v":108302.46666666666},{"$f":"B331/30","v":54151.23333333333}]
[5,1549181,1032787.3333333334,774590.5,516393.66666666669,387295.25,309836.2,258196.83333333334,206557.46666666667,154918.1,103278.73333333334,51639.366666666669]
[4,1314248,876165.33333333337,657124,438082.66666666669,328562,262849.59999999998,219041.33333333334,175233.06666666668,131424.79999999999,87616.53333333334,43808.26666666667]
[3,1199503,799668.66666666663,599751.5,399834.33333333331,299875.75,239900.6,199917.16666666666,159933.73333333334,119950.3,79966.866666666669,39983.433333333334]
[2,1027352,684901.33333333337,513676,342450.66666666669,256838,205470.4,171225.33333333334,136980.26666666666,102735.2,68490.133333333331,34245.066666666666]
[1,989789.9,659859.93333333335,494894.95,329929.96666666667,247447.47500000001,197957.98,164964.98333333334,131971.98666666666,98978.99,65985.993333333332,32992.996666666666]
[]
[]
["Days",{"$f":"#REF!","v":{"$error":"#REF!"}},null,null,"D1"]
["#of Camera",{"$f":"#REF!","v":{"$error":"#REF!"}},null,null,{"$f":"INDEX($B$331:$L$336,MATCH(B343,$A$331:$A$336,0),MATCH(B342,$B$330:$L$330,0))","v":{"$error":"#REF!"}}]
[]
["Frame Per Second",{"$f":"#REF!","v":{"$error":"#REF!"}}]
["Quality",{"$f":"#REF!","v":{"$error":"#REF!"}}]
["% Motion Detection",{"$f":"#REF!","v":{"$error":"#REF!"}},null,"Total Storage",{"$f":"(((86400*E340)/8))*B339*B340","v":{"$error":"#REF!"}},{"$f":"(((86400*F341)/8))*B338*B339","v":{"$error":"#REF!"}},{"$f":"(((86400*G341)/8))*B338*B339","v":{"$error":"#REF!"}}]
[null,null,null,"w/motion",{"$f":"IF($B$344=0,E344,E344*$B$344)","v":{"$error":"#REF!"}},{"$f":"IF($B$284=0,F344,F344*$B$284)","v":{"$error":"#REF!"}},{"$f":"IF($B$284=0,G344,G344*$B$284)","v":{"$error":"#REF!"}}]
[null,null,null,null,{"$f":"E345/1000000000","v":{"$error":"#REF!"}},{"$f":"F345/1000000000","v":{"$error":"#REF!"}},{"$f":"G345/1000000000","v":{"$error":"#REF!"}}]
[null,null,null,null,{"$f":"E345/1000000000000","v":{"$error":"#REF!"}},{"$f":"F345/1000000000000","v":{"$error":"#REF!"}},{"$f":"G345/1000000000000","v":{"$error":"#REF!"}}]
[]
[]
["COLOR STILL (video was measured with a color bar test pattern (WYCGMRBLBK)"]
["NTSC",null,null,null,null,"2CIF"]
["QUALITY",30,20,15,10,7.5,6,5,4,3,2,1]
[6,1098777,{"$f":"B353/1.5","v":732518},{"$f":"B353/2","v":549388.5},{"$f":"B353/3","v":366259},{"$f":"B353/4","v":274694.25},{"$f":"B353/5","v":219755.4},{"$f":"B353/6","v":183129.5},{"$f":"B353/7.5","v":146503.6},{"$f":"B353/10","v":109877.7},{"$f":"B353/15","v":73251.8},{"$f":"B353/30","v":36625.9}]
[5,1053999,702666,526999.5,351333,263499.75,210799.8,175666.5,140533.20000000001,105399.9,70266.600000000006,35133.300000000003]
[4,986553.8,657702.53333333333,493276.9,328851.26666666666,246638.45,197310.76,164425.63333333333,131540.50666666668,98655.38,65770.253333333341,32885.126666666671]
[3,867119.5,578079.66666666663,433559.75,289039.83333333331,216779.875,173423.9,144519.91666666666,115615.93333333333,86711.95,57807.966666666667,28903.983333333334]
[2,806484.1,537656.06666666665,403242.05,268828.03333333333,201621.02499999999,161296.82,134414.01666666666,107531.21333333333,80648.41,53765.606666666667,26882.803333333333]
[1,765241.8,510161.2,382620.9,255080.6,191310.45,153048.36000000002,127540.3,102032.24,76524.180000000008,51016.12,25508.06]
[]
[]
["Days",{"$f":"#REF!","v":{"$error":"#REF!"}},null,null,"2CIF"]
["#of Camera",{"$f":"#REF!","v":{"$error":"#REF!"}},null,null,{"$f":"INDEX($B$353:$L$358,MATCH(B365,$A$353:$A$358,0),MATCH(B364,$B$352:$L$352,0))","v":{"$error":"#REF!"}}]
[]
["Frame Per Second",{"$f":"#REF!","v":{"$error":"#REF!"}}]
["Quality",{"$f":"#REF!","v":{"$error":"#REF!"}}]
["% Motion Detection",{"$f":"#REF!","v":{"$error":"#REF!"}},null,"Total Storage",{"$f":"(((86400*E362)/8))*B361*B362","v":{"$error":"#REF!"}},{"$f":"(((86400*F363)/8))*B360*B361","v":{"$error":"#REF!"}},{"$f":"(((86400*G363)/8))*B360*B361","v":{"$error":"#REF!"}}]
[null,null,null,"w/motion",{"$f":"IF($B$366=0,E366,E366*$B$366)","v":{"$error":"#REF!"}},{"$f":"IF($B$284=0,F366,F366*$B$284)","v":{"$error":"#REF!"}},{"$f":"IF($B$284=0,G366,G366*$B$284)","v":{"$error":"#REF!"}}]
[null,null,null,null,{"$f":"E367/1000000000","v":{"$error":"#REF!"}},{"$f":"F367/1000000000","v":{"$error":"#REF!"}},{"$f":"G367/1000000000","v":{"$error":"#REF!"}}]
[null,null,null,null,{"$f":"E367/1000000000000","v":{"$error":"#REF!"}},{"$f":"F367/1000000000000","v":{"$error":"#REF!"}},{"$f":"G367/1000000000000","v":{"$error":"#REF!"}}]
[]
["COLOR STILL (video was measured with a color bar test pattern (WYCGMRBLBK)"]
["NTSC",null,null,null,null,"CIF"]
["QUALITY",30,20,15,10,7.5,6,5,4,3,2,1]
[6,741523.1,{"$f":"B374/1.5","v":494348.73333333334},{"$f":"B374/2","v":370761.55},{"$f":"B374/3","v":247174.36666666667},{"$f":"B374/4","v":185380.77499999999},{"$f":"B374/5","v":148304.62},{"$f":"B374/6","v":123587.18333333333},{"$f":"B374/7.5","v":98869.746666666659},{"$f":"B374/10","v":74152.31},{"$f":"B374/15","v":49434.873333333329},{"$f":"B374/30","v":24717.436666666665}]
[5,665501.9,443667.93333333335,332750.95,221833.96666666667,166375.47500000001,133100.38,110916.98333333334,88733.58666666667,66550.19,44366.793333333335,22183.396666666667]
[4,621038.5,414025.66666666669,310519.25,207012.83333333334,155259.625,124207.7,103506.41666666667,82805.133333333331,62103.85,41402.566666666666,20701.283333333333]
[3,573933.4,382622.26666666666,286966.7,191311.13333333333,143483.35,114786.68000000001,95655.566666666666,76524.453333333338,57393.340000000004,38262.226666666669,19131.113333333335]
[2,544137.30000000005,362758.2,272068.65000000002,181379.1,136034.32500000001,108827.46,90689.55,72551.64,54413.73,36275.82,18137.91]
[1,516093.9,344062.60000000003,258046.95,172031.30000000002,129023.47500000001,103218.78,86015.650000000009,68812.52,51609.39,34406.26,17203.13]
[]
[]
["Days",{"$f":"#REF!","v":{"$error":"#REF!"}},null,null,"CIF"]
["#of Camera",{"$f":"#REF!","v":{"$error":"#REF!"}},null,null,{"$f":"INDEX($B$374:$L$379,MATCH(B386,$A$374:$A$379,0),MATCH(B385,$B$373:$L$373,0))","v":{"$error":"#REF!"}}]
[]
["Frame Per Second",{"$f":"#REF!","v":{"$error":"#REF!"}}]
["Quality",{"$f":"#REF!","v":{"$error":"#REF!"}}]
["% Motion Detection",{"$f":"#REF!","v":{"$error":"#REF!"}},null,"Total Storage",{"$f":"(((86400*E383)/8))*B382*B383","v":{"$error":"#REF!"}},{"$f":"(((86400*F384)/8))*B381*B382","v":{"$error":"#REF!"}},{"$f":"(((86400*G384)/8))*B381*B382","v":{"$error":"#REF!"}}]
[null,null,null,"w/motion",{"$f":"IF($B$387=0,E387,E387*$B$387)","v":{"$error":"#REF!"}},{"$f":"IF($B$284=0,F387,F387*$B$284)","v":{"$error":"#REF!"}},{"$f":"IF($B$284=0,G387,G387*$B$284)","v":{"$error":"#REF!"}}]
[null,null,null,null,{"$f":"E388/1000000000","v":{"$error":"#REF!"}},{"$f":"F388/1000000000","v":{"$error":"#REF!"}},{"$f":"G388/1000000000","v":{"$error":"#REF!"}}]
[null,null,null,null,{"$f":"E388/1000000000000","v":{"$error":"#REF!"}},{"$f":"F388/1000000000000","v":{"$error":"#REF!"}},{"$f":"G388/1000000000000","v":{"$error":"#REF!"}}]
[]
[]
[]
["COLOR MOVEMENT (video was measured with a AVEC WRB Text scroll pattern)"]
["NTSC",null,null,null,null,"D1"]
["QUALITY",30,20,15,10,7.5,6,5,4,3,2,1]
[6,6648647,{"$f":"B397/1.5","v":4432431.333333333},{"$f":"B397/2","v":3324323.5},{"$f":"B397/3","v":2216215.6666666665},{"$f":"B397/4","v":1662161.75},{"$f":"B397/5","v":1329729.3999999999},{"$f":"B397/6","v":1108107.8333333333},{"$f":"B397/7.5","v":886486.26666666672},{"$f":"B397/10","v":664864.69999999995},{"$f":"B397/15","v":443243.13333333336},{"$f":"B397/30","v":221621.56666666668}]
[5,4545159,3030106,2272579.5,1515053,1136289.75,909031.8,757526.5,606021.19999999995,454515.9,303010.59999999998,151505.29999999999]
[4,3436389,2290926,1718194.5,1145463,859097.25,687277.8,572731.5,458185.2,343638.9,229092.6,114546.3]
[3,2718892,1812594.6666666667,1359446,906297.33333333337,679723,543778.4,453148.66666666669,362518.93333333335,271889.2,181259.46666666667,90629.733333333337]
[2,2588147,1725431.3333333333,1294073.5,862715.66666666663,647036.75,517629.4,431357.83333333331,345086.26666666666,258814.7,172543.13333333333,86271.566666666666]
[1,2019138,1346092,1009569,673046,504784.5,403827.6,336523,269218.40000000002,201913.8,134609.20000000001,67304.600000000006]
[]
[]
["Days",{"$f":"#REF!","v":{"$error":"#REF!"}},null,null,"D1"]
["#of Camera",{"$f":"#REF!","v":{"$error":"#REF!"}},null,null,{"$f":"INDEX($B$397:$L$402,MATCH(B409,$A$397:$A$402,0),MATCH(B408,$B$396:$L$396,0))","v":{"$error":"#REF!"}}]
[]
["Frame Per Second",{"$f":"#REF!","v":{"$error":"#REF!"}}]
["Quality",{"$f":"#REF!","v":{"$error":"#REF!"}}]
["% Motion Detection",{"$f":"#REF!","v":{"$error":"#REF!"}},null,"Total Storage",{"$f":"(((86400*E406)/8))*B405*B406","v":{"$error":"#REF!"}},{"$f":"(((86400*F407)/8))*B404*B405","v":{"$error":"#REF!"}},{"$f":"(((86400*G407)/8))*B404*B405","v":{"$error":"#REF!"}}]
[null,null,null,"w/motion",{"$f":"IF($B$410=0,E410,E410*$B$410)","v":{"$error":"#REF!"}},{"$f":"IF($B$284=0,F410,F410*$B$284)","v":{"$error":"#REF!"}},{"$f":"IF($B$284=0,G410,G410*$B$284)","v":{"$error":"#REF!"}}]
[null,null,null,null,{"$f":"E411/1000000000","v":{"$error":"#REF!"}},{"$f":"F411/1000000000","v":{"$error":"#REF!"}},{"$f":"G411/1000000000","v":{"$error":"#REF!"}}]
[null,null,null,null,{"$f":"E411/1000000000000","v":{"$error":"#REF!"}},{"$f":"F411/1000000000000","v":{"$error":"#REF!"}},{"$f":"G411/1000000000000","v":{"$error":"#REF!"}}]
[]
[]
["COLOR MOVEMENT (video was measured with a AVEC WRB Text scroll pattern)"]
["NTSC",null,null,null,null,"2CIF"]
["QUALITY",30,20,15,10,7.5,6,5,4,3,2,1]
[6,4952284,{"$f":"B419/1.5","v":3301522.6666666665},{"$f":"B419/2","v":2476142},{"$f":"B419/3","v":1650761.3333333333},{"$f":"B419/4","v":1238071},{"$f":"B419/5","v":990456.8},{"$f":"B419/6","v":825380.66666666663},{"$f":"B419/7.5","v":660304.53333333333},{"$f":"B419/10","v":495228.4},{"$f":"B419/15","v":330152.26666666666},{"$f":"B419/30","v":165076.13333333333}]
[5,3903585,2602390,1951792.5,1301195,975896.25,780717,650597.5,520478,390358.5,260239,130119.5]
[4,3273196,2182130.6666666665,1636598,1091065.3333333333,818299,654639.19999999995,545532.66666666663,436426.13333333336,327319.59999999998,218213.06666666668,109106.53333333334]
[3,2725988,1817325.3333333333,1362994,908662.66666666663,681497,545197.6,454331.33333333331,363465.06666666665,272598.8,181732.53333333333,90866.266666666663]
[2,2485559,1657039.3333333333,1242779.5,828519.66666666663,621389.75,497111.8,414259.83333333331,331407.86666666664,248555.9,165703.93333333332,82851.96666666666]
[1,2164698,1443132,1082349,721566,541174.5,432939.6,360783,288626.40000000002,216469.8,144313.20000000001,72156.600000000006]
[]
[]
["Days",{"$f":"#REF!","v":{"$error":"#REF!"}},null,null,"2CIF"]
["#of Camera",{"$f":"#REF!","v":{"$error":"#REF!"}},null,null,{"$f":"INDEX($B$419:$L$424,MATCH(B431,$A$419:$A$424,0),MATCH(B430,$B$418:$L$418,0))","v":{"$error":"#REF!"}}]
[]
["Frame Per Second",{"$f":"#REF!","v":{"$error":"#REF!"}}]
["Quality",{"$f":"#REF!","v":{"$error":"#REF!"}}]
["% Motion Detection",{"$f":"#REF!","v":{"$error":"#REF!"}},null,"Total Storage",{"$f":"(((86400*E428)/8))*B427*B428","v":{"$error":"#REF!"}},{"$f":"(((86400*F429)/8))*B426*B427","v":{"$error":"#REF!"}},{"$f":"(((86400*G429)/8))*B426*B427","v":{"$error":"#REF!"}}]
[null,null,null,"w/motion",{"$f":"IF($B$432=0,E432,E432*$B$432)","v":{"$error":"#REF!"}},{"$f":"IF($B$284=0,F432,F432*$B$284)","v":{"$error":"#REF!"}},{"$f":"IF($B$284=0,G432,G432*$B$284)","v":{"$error":"#REF!"}}]
[null,null,null,null,{"$f":"E433/1000000000","v":{"$error":"#REF!"}},{"$f":"F433/1000000000","v":{"$error":"#REF!"}},{"$f":"G433/1000000000","v":{"$error":"#REF!"}}]
[null,null,null,null,{"$f":"E433/1000000000000","v":{"$error":"#REF!"}},{"$f":"F433/1000000000000","v":{"$error":"#REF!"}},{"$f":"G433/1000000000000","v":{"$error":"#REF!"}}]
[]
["COLOR MOVEMENT (video was measured with a AVEC WRB Text scroll pattern)"]
["NTSC",null,null,null,null,"CIF"]
["QUALITY",30,20,15,10,7.5,6,5,4,3,2,1]
[6,2812780,{"$f":"B440/1.5","v":1875186.6666666667},{"$f":"B440/2","v":1406390},{"$f":"B440/3","v":937593.33333333337},{"$f":"B440/4","v":703195},{"$f":"B440/5","v":562556},{"$f":"B440/6","v":468796.66666666669},{"$f":"B440/7.5","v":375037.33333333331},{"$f":"B440/10","v":281278},{"$f":"B440/15","v":187518.66666666666},{"$f":"B440/30","v":93759.333333333328}]
[5,2217477,1478318,1108738.5,739159,554369.25,443495.4,369579.5,295663.59999999998,221747.7,147831.79999999999,73915.899999999994]
[4,1942589,1295059.3333333333,971294.5,647529.66666666663,485647.25,388517.8,323764.83333333331,259011.86666666667,194258.9,129505.93333333333,64752.966666666667]
[3,1693807,1129204.6666666667,846903.5,564602.33333333337,423451.75,338761.4,282301.16666666669,225840.93333333332,169380.7,112920.46666666666,56460.23333333333]
[2,1441758,961172,720879,480586,360439.5,288351.59999999998,240293,192234.4,144175.79999999999,96117.2,48058.6]
[1,1259870,839913.33333333337,629935,419956.66666666669,314967.5,251974,209978.33333333334,167982.66666666666,125987,83991.333333333328,41995.666666666664]
[]
[]
["Days",{"$f":"#REF!","v":{"$error":"#REF!"}},null,null,"CIF"]
["#of Camera",{"$f":"#REF!","v":{"$error":"#REF!"}},null,null,{"$f":"INDEX($B$440:$L$445,MATCH(B452,$A$440:$A$445,0),MATCH(B451,$B$439:$L$439,0))","v":{"$error":"#REF!"}}]
[]
["Frame Per Second",{"$f":"#REF!","v":{"$error":"#REF!"}}]
["Quality",{"$f":"#REF!","v":{"$error":"#REF!"}}]
["% Motion Detection",0.5,null,"Total Storage",{"$f":"(((86400*E449)/8))*B448*B449","v":{"$error":"#REF!"}},{"$f":"(((86400*F450)/8))*B447*B448","v":{"$error":"#REF!"}},{"$f":"(((86400*G450)/8))*B447*B448","v":{"$error":"#REF!"}}]
[null,null,null,"w/motion",{"$f":"IF($B$453=0,E453,E453*$B$453)","v":{"$error":"#REF!"}},{"$f":"IF($B$284=0,F453,F453*$B$284)","v":{"$error":"#REF!"}},{"$f":"IF($B$284=0,G453,G453*$B$284)","v":{"$error":"#REF!"}}]
[null,null,null,null,{"$f":"E454/1000000000","v":{"$error":"#REF!"}},{"$f":"F454/1000000000","v":{"$error":"#REF!"}},{"$f":"G454/1000000000","v":{"$error":"#REF!"}}]
[null,null,null,null,{"$f":"E454/1000000000000","v":{"$error":"#REF!"}},{"$f":"F454/1000000000000","v":{"$error":"#REF!"}},{"$f":"G454/1000000000000","v":{"$error":"#REF!"}}]
[]
[]
[]
[]
[]
[]
["Digia II (PAL)"]
[]
["Supported Resolution/FrameRate"]
["D1 - 30"]
["2CIF - 60"]
["CIF - 120"]
["*Note bitrate is based on a 10 second average of bitrate bandwidth"]
[]
["COLOR STILL (video was measured with a color bar test pattern (WYCGMRBLBK)"]
["NTSC",null,null,null,null,"D1"]
["QUALITY",25,16,12,10,8,6,5,4,3,2,1]
[6,1599257,{"$f":"B474/1.5625","v":1023524.48},{"$f":"B474/2.0833","v":767655.64249027986},{"$f":"B474/2.5","v":639702.80000000005},{"$f":"B474/3.125","v":511762.24},{"$f":"B474/4.16667","v":383821.37294290168},{"$f":"B474/5","v":319851.40000000002},{"$f":"B474/6.25","v":255881.12},{"$f":"B474/8.3333","v":191911.60764643061},{"$f":"B474/12.5","v":127940.56},{"$f":"B474/25","v":63970.28}]
[5,1345162,860903.68,645688.0910094562,538064.80000000005,430451.84,322838.62172910263,269032.40000000002,215225.92,161420.08568034275,107612.96,53806.48]
[4,1173686,751159.04,563378.29405270482,469474.4,375579.52,281684.41465246829,234737.2,187789.76,140842.88337153351,93894.88,46947.44]
[3,1083062,693159.68,519878.07804924878,433224.8,346579.84,259934.67205226238,216612.4,173289.92,129967.9598718395,86644.96,43322.48]
[2,1018822,652046.07999999996,489042.38467815489,407528.8,326023.03999999998,244517.08438633248,203764.4,163011.51999999999,122259.12903651615,81505.759999999995,40752.879999999997]
[1,952892.4,609851.13600000006,457395.67033072532,381156.96,304925.56800000003,228693.99304480557,190578.48,152462.78400000001,114347.54539018156,76231.392000000007,38115.696000000004]
[]
[]
["Days",{"$f":"#REF!","v":{"$error":"#REF!"}},null,null,"D1"]
["#of Camera",{"$f":"#REF!","v":{"$error":"#REF!"}},null,null,{"$f":"INDEX($B$474:$L$479,MATCH(B486,$A$474:$A$479,0),MATCH(B485,$B$473:$L$473,0))","v":{"$error":"#REF!"}}]
[]
["Frame Per Second",{"$f":"#REF!","v":{"$error":"#REF!"}}]
["Quality",{"$f":"#REF!","v":{"$error":"#REF!"}}]
["% Motion Detection",{"$f":"#REF!","v":{"$error":"#REF!"}},null,"Total Storage",{"$f":"(((86400*E483)/8))*B482*B483","v":{"$error":"#REF!"}},{"$f":"(((86400*F484)/8))*B481*B482","v":{"$error":"#REF!"}},{"$f":"(((86400*G484)/8))*B481*B482","v":{"$error":"#REF!"}}]
[null,null,null,"w/motion",{"$f":"IF($B$487=0,E487,E487*$B$487)","v":{"$error":"#REF!"}},{"$f":"IF($B$284=0,F487,F487*$B$284)","v":{"$error":"#REF!"}},{"$f":"IF($B$284=0,G487,G487*$B$284)","v":{"$error":"#REF!"}}]
[null,null,null,null,{"$f":"E488/1000000000","v":{"$error":"#REF!"}},{"$f":"F488/1000000000","v":{"$error":"#REF!"}},{"$f":"G488/1000000000","v":{"$error":"#REF!"}}]
[null,null,null,null,{"$f":"E488/1000000000000","v":{"$error":"#REF!"}},{"$f":"F488/1000000000000","v":{"$error":"#REF!"}},{"$f":"G488/1000000000000","v":{"$error":"#REF!"}}]
[]
[]
["COLOR STILL (video was measured with a color bar test pattern (WYCGMRBLBK)"]
["NTSC",null,null,null,null,"2CIF"]
["QUALITY",25,16,12,10,8,6,5,4,3,2,1]
[6,1104969,{"$f":"B496/1.5625","v":707180.16},{"$f":"B496/2.0833","v":530393.60629770078},{"$f":"B496/2.5","v":441987.6},{"$f":"B496/3.125","v":353590.08},{"$f":"B496/4.16667","v":265192.34784612176},{"$f":"B496/5","v":220993.8},{"$f":"B496/6.25","v":176795.04},{"$f":"B496/8.3333","v":132596.81038724157},{"$f":"B496/12.5","v":88397.52},{"$f":"B496/25","v":44198.76}]
[5,971095.7,621501.24800000002,466133.39413430612,388438.27999999997,310750.62400000001,233062.78154977475,194219.13999999998,155375.31200000001,116531.95012780052,77687.656000000003,38843.828000000001]
[4,917809.5,587398.07999999996,440555.60888974223,367123.8,293699.03999999998,220274.10378071698,183561.9,146849.51999999999,110137.58055032221,73424.759999999995,36712.379999999997]
[3,837244.9,535836.73600000003,401883.98214371433,334897.96000000002,267918.36800000002,200938.61524910782,167448.98000000001,133959.18400000001,100469.78987915952,66979.592000000004,33489.796000000002]
[2,789521.5,505293.76,378976.38362213795,315808.59999999998,252646.88,189485.00841199327,157904.29999999999,126323.44,94742.958971835891,63161.72,31580.86]
[1,722880,462643.20000000001,346987.95180722891,289152,231321.60000000001,173491.06120715104,144576,115660.8,86745.946983787944,57830.400000000001,28915.200000000001]
[]
[]
["Days",{"$f":"#REF!","v":{"$error":"#REF!"}},null,null,"2CIF"]
["#of Camera",{"$f":"#REF!","v":{"$error":"#REF!"}},null,null,{"$f":"INDEX($B$496:$L$501,MATCH(B508,$A$496:$A$501,0),MATCH(B507,$B$495:$L$495,0))","v":{"$error":"#REF!"}}]
[]
["Frame Per Second",{"$f":"#REF!","v":{"$error":"#REF!"}}]
["Quality",{"$f":"#REF!","v":{"$error":"#REF!"}}]
["% Motion Detection",{"$f":"#REF!","v":{"$error":"#REF!"}},null,"Total Storage",{"$f":"(((86400*E505)/8))*B504*B505","v":{"$error":"#REF!"}},{"$f":"(((86400*F506)/8))*B503*B504","v":{"$error":"#REF!"}},{"$f":"(((86400*G506)/8))*B503*B504","v":{"$error":"#REF!"}}]
[null,null,null,"w/motion",{"$f":"IF($B$509=0,E509,E509*$B$509)","v":{"$error":"#REF!"}},{"$f":"IF($B$284=0,F509,F509*$B$284)","v":{"$error":"#REF!"}},{"$f":"IF($B$284=0,G509,G509*$B$284)","v":{"$error":"#REF!"}}]
[null,null,null,null,{"$f":"E510/1000000000","v":{"$error":"#REF!"}},{"$f":"F510/1000000000","v":{"$error":"#REF!"}},{"$f":"G510/1000000000","v":{"$error":"#REF!"}}]
[null,null,null,null,{"$f":"E510/1000000000000","v":{"$error":"#REF!"}},{"$f":"F510/1000000000000","v":{"$error":"#REF!"}},{"$f":"G510/1000000000000","v":{"$error":"#REF!"}}]
[]
["COLOR STILL (video was measured with a color bar test pattern (WYCGMRBLBK)"]
["NTSC",null,null,null,null,"CIF"]
["QUALITY",25,16,12,10,8,6,5,4,3,2,1]
[6,764257.5,{"$f":"B517/1.5625","v":489124.8},{"$f":"B517/2.0833","v":366849.46959151345},{"$f":"B517/2.5","v":305703},{"$f":"B517/3.125","v":244562.4},{"$f":"B517/4.16667","v":183421.6532626774},{"$f":"B517/5","v":152851.5},{"$f":"B517/6.25","v":122281.2},{"$f":"B517/8.3333","v":91711.266845067381},{"$f":"B517/12.5","v":61140.6},{"$f":"B517/25","v":30570.3}]
[5,654340.6,418777.984,314088.51341621467,261736.24,209388.992,157041.61836670531,130868.12,104694.496,78521.186084744346,52347.248,26173.624]
[4,613568,392683.52000000002,294517.35227763647,245427.20000000001,196341.76000000001,147256.20219503826,122713.60000000001,98170.880000000005,73628.454513818055,49085.440000000002,24542.720000000001]
[3,548186.80000000005,350839.55200000003,263133.87414198631,219274.72000000003,175419.77600000001,131564.72674821861,109637.36000000002,87709.888000000006,65782.679130716526,43854.944000000003,21927.472000000002]
[2,532961.5,341095.36,255825.61320981136,213184.6,170547.68,127910.65767147386,106592.3,85273.84,63955.635822543292,42636.92,21318.46]
[1,482018.6,308491.90399999998,231372.6299620794,192807.44,154245.95199999999,115684.37145250283,96403.72,77122.975999999995,57842.463369853482,38561.487999999998,19280.743999999999]
[]
[]
["Days",{"$f":"#REF!","v":{"$error":"#REF!"}},null,null,"CIF"]
["#of Camera",{"$f":"#REF!","v":{"$error":"#REF!"}},null,null,{"$f":"INDEX($B$517:$L$522,MATCH(B529,$A$517:$A$522,0),MATCH(B528,$B$516:$L$516,0))","v":{"$error":"#REF!"}}]
[]
["Frame Per Second",{"$f":"#REF!","v":{"$error":"#REF!"}}]
["Quality",{"$f":"#REF!","v":{"$error":"#REF!"}}]
["% Motion Detection",{"$f":"#REF!","v":{"$error":"#REF!"}},null,"Total Storage",{"$f":"(((86400*E526)/8))*B525*B526","v":{"$error":"#REF!"}},{"$f":"(((86400*F527)/8))*B524*B525","v":{"$error":"#REF!"}},{"$f":"(((86400*G527)/8))*B524*B525","v":{"$error":"#REF!"}}]
[null,null,null,"w/motion",{"$f":"IF($B$530=0,E530,E530*$B$530)","v":{"$error":"#REF!"}},{"$f":"IF($B$284=0,F530,F530*$B$284)","v":{"$error":"#REF!"}},{"$f":"IF($B$284=0,G530,G530*$B$284)","v":{"$error":"#REF!"}}]
[null,null,null,null,{"$f":"E531/1000000000","v":{"$error":"#REF!"}},{"$f":"F531/1000000000","v":{"$error":"#REF!"}},{"$f":"G531/1000000000","v":{"$error":"#REF!"}}]
[null,null,null,null,{"$f":"E531/1000000000000","v":{"$error":"#REF!"}},{"$f":"F531/1000000000000","v":{"$error":"#REF!"}},{"$f":"G531/1000000000000","v":{"$error":"#REF!"}}]
[]
[]
[]
["COLOR MOVEMENT (video was measured with a AVEC WRB Text scroll pattern)"]
["NTSC",null,null,null,null,"D1"]
["QUALITY",25,16,12,10,8,6,5,4,3,2,1]
[6,6722949,{"$f":"B540/1.5625","v":4302687.3600000003},{"$f":"B540/2.0833","v":3227067.1530744494},{"$f":"B540/2.5","v":2689179.6},{"$f":"B540/3.125","v":2151343.6800000002},{"$f":"B540/4.16667","v":1613506.4691948248},{"$f":"B540/5","v":1344589.8},{"$f":"B540/6.25","v":1075671.8400000001},{"$f":"B540/8.3333","v":806757.10702842812},{"$f":"B540/12.5","v":537835.92000000004},{"$f":"B540/25","v":268917.96000000002}]
[5,4673592,2991098.88,2243360.0537608601,1869436.8,1495549.44,1121661.1826710538,934718.4,747774.72,560833.28333313332,373887.36,186943.68]
[4,3540258,2265765.12,1699351.0296164739,1416103.2,1132882.56,849661.24027100776,708051.6,566441.28,424832.65933063737,283220.64,141610.32]
[3,2866130,1834323.2,1375764.4122305957,1146452,917161.6,687870.6497034803,573226,458580.8,343936.97574790299,229290.4,114645.2]
[2,2453702,1570369.28,1177795.8047328757,981480.8,785184.64,588888.00888959295,490740.4,392592.32,294445.41778167116,196296.16,98148.08]
[1,2158681,1381555.84,1036183.458935343,863472.4,690777.92,518083.02553357958,431736.2,345388.96,259042.7561710247,172694.48,86347.24]
[]
[]
["Days",{"$f":"#REF!","v":{"$error":"#REF!"}},null,null,"D1"]
["#of Camera",{"$f":"#REF!","v":{"$error":"#REF!"}},null,null,{"$f":"INDEX($B$540:$L$545,MATCH(B552,$A$540:$A$545,0),MATCH(B551,$B$539:$L$539,0))","v":{"$error":"#REF!"}}]
[]
["Frame Per Second",{"$f":"#REF!","v":{"$error":"#REF!"}}]
["Quality",{"$f":"#REF!","v":{"$error":"#REF!"}}]
["% Motion Detection",{"$f":"#REF!","v":{"$error":"#REF!"}},null,"Total Storage",{"$f":"(((86400*E549)/8))*B548*B549","v":{"$error":"#REF!"}},{"$f":"(((86400*F550)/8))*B547*B548","v":{"$error":"#REF!"}},{"$f":"(((86400*G550)/8))*B547*B548","v":{"$error":"#REF!"}}]
[null,null,null,"w/motion",{"$f":"IF($B$553=0,E553,E553*$B$553)","v":{"$error":"#REF!"}},{"$f":"IF($B$284=0,F553,F553*$B$284)","v":{"$error":"#REF!"}},{"$f":"IF($B$284=0,G553,G553*$B$284)","v":{"$error":"#REF!"}}]
[null,null,null,null,{"$f":"E554/1000000000","v":{"$error":"#REF!"}},{"$f":"F554/1000000000","v":{"$error":"#REF!"}},{"$f":"G554/1000000000","v":{"$error":"#REF!"}}]
[null,null,null,null,{"$f":"E554/1000000000000","v":{"$error":"#REF!"}},{"$f":"F554/1000000000000","v":{"$error":"#REF!"}},{"$f":"G554/1000000000000","v":{"$error":"#REF!"}}]
[]
[]
["COLOR MOVEMENT (video was measured with a AVEC WRB Text scroll pattern)"]
["NTSC",null,null,null,null,"2CIF"]
["QUALITY",25,16,12,10,8,6,5,4,3,2,1]
[6,3705087,{"$f":"B562/1.5625","v":2371255.6800000002},{"$f":"B562/2.0833","v":1778470.2155234485},{"$f":"B562/2.5","v":1482034.8},{"$f":"B562/3.125","v":1185627.8400000001},{"$f":"B562/4.16667","v":889220.16862386512},{"$f":"B562/5","v":741017.4},{"$f":"B562/6.25","v":592813.92000000004},{"$f":"B562/8.3333","v":444612.21844887384},{"$f":"B562/12.5","v":296406.96000000002},{"$f":"B562/25","v":148203.48000000001}]
[5,2903347,1858142.08,1393628.858061729,1161338.8,929071.04,696802.72255782201,580669.4,464535.52,348403.03361213446,232267.76,116133.88]
[4,2556023,1635854.72,1226910.6705707291,1022409.2,817927.36,613445.02924397658,511204.6,408963.68,306723.9868959476,204481.84,102240.92]
[3,2137370,1367916.8,1025954.0152642443,854948,683958.4,512968.38962528831,427474,341979.2,256485.42594170378,170989.6,85494.8]
[2,1947243,1246235.52,934691.59506552108,778897.2,623117.76,467337.94612964313,389448.6,311558.88,233670.09468037874,155779.44,77889.72]
[1,1706628,1092241.9199999999,819194.54711275385,682651.2,546120.95999999996,409590.39232768613,341325.6,273060.47999999998,204796.17918471675,136530.23999999999,68265.119999999995]
[]
[]
["Days",{"$f":"#REF!","v":{"$error":"#REF!"}},null,null,"2CIF"]
["#of Camera",{"$f":"#REF!","v":{"$error":"#REF!"}},null,null,{"$f":"INDEX($B$562:$L$567,MATCH(B574,$A$562:$A$567,0),MATCH(B573,$B$561:$L$561,0))","v":{"$error":"#REF!"}}]
[]
["Frame Per Second",{"$f":"#REF!","v":{"$error":"#REF!"}}]
["Quality",{"$f":"#REF!","v":{"$error":"#REF!"}}]
["% Motion Detection",{"$f":"#REF!","v":{"$error":"#REF!"}},null,"Total Storage",{"$f":"(((86400*E571)/8))*B570*B571","v":{"$error":"#REF!"}},{"$f":"(((86400*F572)/8))*B569*B570","v":{"$error":"#REF!"}},{"$f":"(((86400*G572)/8))*B569*B570","v":{"$error":"#REF!"}}]
[null,null,null,"w/motion",{"$f":"IF($B$575=0,E575,E575*$B$575)","v":{"$error":"#REF!"}},{"$f":"IF($B$284=0,F575,F575*$B$284)","v":{"$error":"#REF!"}},{"$f":"IF($B$284=0,G575,G575*$B$284)","v":{"$error":"#REF!"}}]
[null,null,null,null,{"$f":"E576/1000000000","v":{"$error":"#REF!"}},{"$f":"F576/1000000000","v":{"$error":"#REF!"}},{"$f":"G576/1000000000","v":{"$error":"#REF!"}}]
[null,null,null,null,{"$f":"E576/1000000000000","v":{"$error":"#REF!"}},{"$f":"F576/1000000000000","v":{"$error":"#REF!"}},{"$f":"G576/1000000000000","v":{"$error":"#REF!"}}]
[]
["COLOR MOVEMENT (video was measured with a AVEC WRB Text scroll pattern)"]
["NTSC",null,null,null,null,"CIF"]
["QUALITY",25,16,12,10,8,6,5,4,3,2,1]
[6,2444194,{"$f":"B583/1.5625","v":1564284.16},{"$f":"B583/2.0833","v":1173231.8917102674},{"$f":"B583/2.5","v":977677.6},{"$f":"B583/3.125","v":782142.08},{"$f":"B583/4.16667","v":586606.09071512742},{"$f":"B583/5","v":488838.8},{"$f":"B583/6.25","v":391071.04},{"$f":"B583/8.3333","v":293304.45321781287},{"$f":"B583/12.5","v":195535.52},{"$f":"B583/25","v":97767.76}]
[5,1950934,1248597.76,936463.30341285467,780373.6,624298.88,468223.78542097169,390186.8,312149.44,234113.01645206581,156074.72,78037.36]
[4,1712913,1096264.32,822211.3953823261,685165.2,548132.16,411098.79112096713,342582.6,274066.08,205550.38220152882,137033.04,68516.52]
[3,1431155,915939.2,686965.39144626318,572462,457969.6,343476.92521845986,286231,228984.8,171739.28695714785,114492.4,57246.2]
[2,1296533,829781.12,622345.79753276054,518613.2,414890.56,311167.67106586316,259306.6,207445.28,155584.58233832938,103722.64,51861.32]
[1,1017490,651193.59999999998,488403.0144482312,406996,325596.79999999999,244197.40464207629,203498,162798.39999999999,122099.28839715359,81399.199999999997,40699.599999999999]
[]
[]
["Days",{"$f":"#REF!","v":{"$error":"#REF!"}},null,null,"CIF"]
["#of Camera",{"$f":"#REF!","v":{"$error":"#REF!"}},null,null,{"$f":"INDEX($B$583:$L$588,MATCH(B595,$A$582:$A$588,0),MATCH(B594,$B$582:$L$582,0))","v":{"$error":"#REF!"}}]
[]
["Frame Per Second",{"$f":"#REF!","v":{"$error":"#REF!"}}]
["Quality",{"$f":"#REF!","v":{"$error":"#REF!"}}]
["% Motion Detection",{"$f":"#REF!","v":{"$error":"#REF!"}},null,"Total Storage",{"$f":"(((86400*E592)/8))*B591*B592","v":{"$error":"#REF!"}},{"$f":"(((86400*F593)/8))*B590*B591","v":{"$error":"#REF!"}},{"$f":"(((86400*G593)/8))*B590*B591","v":{"$error":"#REF!"}}]
[null,null,null,"w/motion",{"$f":"IF($B$596=0,E596,E596*$B$596)","v":{"$error":"#REF!"}},{"$f":"IF($B$284=0,F596,F596*$B$284)","v":{"$error":"#REF!"}},{"$f":"IF($B$284=0,G596,G596*$B$284)","v":{"$error":"#REF!"}}]
[null,null,null,null,{"$f":"E597/1000000000","v":{"$error":"#REF!"}},{"$f":"F597/1000000000","v":{"$error":"#REF!"}},{"$f":"G597/1000000000","v":{"$error":"#REF!"}}]
[null,null,null,null,{"$f":"E597/1000000000000","v":{"$error":"#REF!"}},{"$f":"F597/1000000000000","v":{"$error":"#REF!"}},{"$f":"G597/1000000000000","v":{"$error":"#REF!"}}]
[]
[]
["TVR 10 (NTSC)"]
["Days",{"$f":"'TVR10 NTSC Simple'!B6","v":30}]
["#of Camera",{"$f":"'TVR10 NTSC Simple'!B7","v":4}]
[]
["Frame Per Second",{"$f":"'TVR10 NTSC Simple'!B8","v":6},null,null,"4CIF","DCIF","2CIF","CIF","QCIF"]
["Quality","highest",null,null,{"$f":"INDEX($B$620:$E$620,MATCH(B607,$A$620:$A$620,0),MATCH(B606,$B$619:$AS$619,0))","v":944436.6},{"$f":"INDEX($F$620:$L$620,MATCH(B607,$A$620:$A$620,0),MATCH(B606,$F$619:$L$619,0))","v":330300.90000000002},{"$f":"INDEX($M$620:$S$620,MATCH(B607,$A$620:$A$620,0),MATCH(B606,$M$619:$S$619,0))","v":337192.3},{"$f":"INDEX($T$620:$AF$620,MATCH(B607,$A$620:$A$620,0),MATCH(B606,$T$619:$AF$619,0))","v":135833.79999999999},{"$f":"INDEX($AG$620:$AS$620,MATCH(B607,$A$620:$A$620,0),MATCH(B606,$AG$619:$AS$619,0))","v":49747.61}]
["% Motion Detection",{"$f":"'TVR10 NTSC Simple'!B10","v":0}]
[]
[]
[null,null,null,"Total Storage",{"$f":"(((86400*E607)/8))*B603*B604","v":1223989833600},{"$f":"(((86400*F607)/8))*B603*B604","v":428069966400.00006},{"$f":"(((86400*G607)/8))*B603*B604","v":437001220800},{"$f":"(((86400*H607)/8))*B603*B604","v":176040604799.99997},{"$f":"(((86400*I607)/8))*B603*B604","v":64472902560}]
[null,null,null,"w/motion",{"$f":"IF($B$608=0,E611,E611*$B$608)","v":1223989833600},{"$f":"IF($B$608=0,F611,F611*$B$608)","v":428069966400.00006},{"$f":"IF($B$608=0,G611,G611*$B$608)","v":437001220800},{"$f":"IF($B$608=0,H611,H611*$B$608)","v":176040604799.99997},{"$f":"IF($B$608=0,I611,I611*$B$608)","v":64472902560}]
[null,null,null,null,{"$f":"E612/1000000000","v":1223.9898336000001},{"$f":"F612/1000000000","v":428.06996640000006},{"$f":"G612/1000000000","v":437.0012208},{"$f":"H612/1000000000","v":176.04060479999998},{"$f":"I612/1000000000","v":64.472902559999994}]
[null,null,null,null,{"$f":"E612/1000000000000","v":1.2239898335999999},{"$f":"F612/1000000000000","v":0.42806996640000006},{"$f":"G612/1000000000000","v":0.43700122079999998},{"$f":"H612/1000000000000","v":0.17604060479999997},{"$f":"I612/1000000000000","v":6.4472902560000003E-2}]
[]
[]
["NTSC"]
[null,"Frame Rates Mbps",null,null,null,null,"Field Rates Mbps",null,null,null,null,"Field Rates Mbps"]
["Quality",6,4,2,1,12,10,8,6,4,2,1,12,10,8,6,4,2,1,30,22,20,18,16,15,12,10,8,6,4,2,1,30,22,20,18,16,15,12,10,8,6,4,2,1]
["highest",944436.6,665874.6,333688.8,169723.9,662509.4,536169.30000000005,476853.7,330300.90000000002,238922.3,134783,66065.55,675227.9,536483.1,466960.5,337192.3,236962.1,136050.6,65484.39,524271.5,406112,404597.7,336493.4,336821.7,270455.7,234411.4,203547.9,166965.70000000001,135833.79999999999,83407.48,50256.52,43693.42,205856,169166.5,136900.1,135450.79999999999,102571.4,102410.3,84935.23,67891.61,50524.9,49747.61,39407.480000000003,34558.97,32345.81]
[]
[]
[]
[]
[]
[]
[]
[]
[]
[]
[]
[]
[]
["TVR 10 (PAL)"]
["Days",{"$f":"'TVR10 PAL Simple'!B6","v":30}]
["#of Camera",{"$f":"'TVR10 PAL Simple'!B7","v":4}]
[]
["Frame Per Second",{"$f":"'TVR10 PAL Simple'!B8","v":6},null,null,"4CIF","DCIF","2CIF","CIF","QCIF"]
["Quality","highest",null,null,{"$f":"INDEX($B$651:$E$651,MATCH(B639,$A$651:$A$651,0),MATCH(B638,$B$650:$AS$650,0))","v":1083086.4516129033},{"$f":"INDEX($F$651:$L$651,MATCH(B639,$A$651:$A$651,0),MATCH(B638,$F$650:$L$650,0))","v":404957.93548387097},{"$f":"INDEX($M$651:$S$651,MATCH(B639,$A$651:$A$651,0),MATCH(B638,$M$650:$S$650,0))","v":402130.58064516127},{"$f":"INDEX($T$651:$AF$651,MATCH(B639,$A$651:$A$651,0),MATCH(B638,$T$650:$AF$650,0))","v":134035.61290322582},{"$f":"INDEX($AG$651:$AS$651,MATCH(B639,$A$651:$A$651,0),MATCH(B638,$AG$650:$AS$650,0))","v":49751.741935483871}]
["% Motion Detection",{"$f":"'TVR10 PAL Simple'!B10","v":0}]
[]
[]
[null,null,null,"Total Storage",{"$f":"(((86400*E639)/8))*B635*B636","v":1403680041290.3228},{"$f":"(((86400*F639)/8))*B635*B636","v":524825484387.09674},{"$f":"(((86400*G639)/8))*B635*B636","v":521161232516.12903},{"$f":"(((86400*H639)/8))*B635*B636","v":173710154322.58066},{"$f":"(((86400*I639)/8))*B635*B636","v":64478257548.387093}]
[null,null,null,"w/motion",{"$f":"IF($B$640=0,E643,E643*$B$640)","v":1403680041290.3228},{"$f":"IF($B$640=0,F643,F643*$B$640)","v":524825484387.09674},{"$f":"IF($B$640=0,G643,G643*$B$640)","v":521161232516.12903},{"$f":"IF($B$640=0,H643,H643*$B$640)","v":173710154322.58066},{"$f":"IF($B$640=0,I643,I643*$B$640)","v":64478257548.387093}]
[null,null,null,null,{"$f":"E644/1000000000","v":1403.6800412903228},{"$f":"F644/1000000000","v":524.82548438709671},{"$f":"G644/1000000000","v":521.16123251612908},{"$f":"H644/1000000000","v":173.71015432258065},{"$f":"I644/1000000000","v":64.478257548387091}]
[null,null,null,null,{"$f":"E644/1000000000000","v":1.4036800412903228},{"$f":"F644/1000000000000","v":0.52482548438709675},{"$f":"G644/1000000000000","v":0.521161232516129},{"$f":"H644/1000000000000","v":0.17371015432258066},{"$f":"I644/1000000000000","v":6.4478257548387097E-2}]
[]
[]
["PAL","4CIF",null,null,null,"DCIF",null,null,null,null,null,null,"2CIF",null,null,null,null,null,null,"CIF",null,null,null,null,null,null,null,null,null,null,null,null,"QCIF"]
["Quality",6,4,2,1,12,10,8,6,4,2,1,12,10,8,6,4,2,1,25,22,20,18,16,15,12,10,8,6,4,2,1,25,22,20,18,16,15,12,10,8,6,4,2,1]
["highest",1083086.4516129033,673945.80645161285,341758.96774193546,166976,807120.51612903224,679412.6451612903,542464,404957.93548387097,271873.03225806454,134091.35483870967,66218.322580645166,800022.70967741939,681848.77419354836,537353.29032258061,402130.58064516127,268043.3548387097,134381.4193548387,61786.838709677417,545587.61290322582,476592.51612903224,475509.67741935485,406510.45161290321,335386.83870967739,336520.25806451612,269240.77419354836,235890.5806451613,168499.61290322582,134035.61290322582,85816.774193548394,53080.774193548386,48046.451612903227,204934.19354838709,170813.93548387097,171278.45161290321,135543.74193548388,136766.96774193548,135366.19354838709,102635.35483870968,84976.516129032258,68396.387096774197,49751.741935483871,36608,33054.967741935485,32077.419354838708]
[]
[]
[]
[]
[]
[]
[]
[]
[]
[]
["TVR 30 (NTSC) Still & Panning"]
["Days",{"$f":"'TVR30-31 NTSC Simple'!B6","v":30}]
["#of Camera",{"$f":"'TVR30-31 NTSC Simple'!B7","v":1}]
[]
["Frame Per Second",{"$f":"'TVR30-31 NTSC Simple'!B8","v":30},null,null,"D1","2CIF","CIF"]
["Quality",{"$f":"'TVR30-31 NTSC Simple'!B9","v":"Standard"},null,null,{"$f":"INDEX($B$679:$G$683,MATCH(B667,$A$679:$A$683,0),MATCH(B666,$B$678:$G$678,0))","v":1921112},{"$f":"INDEX($H$679:$M$683,MATCH(B667,$A$679:$A$683,0),MATCH(B666,$H$678:$M$678,0))","v":1022768},{"$f":"INDEX($N$679:$S$683,MATCH(B667,$A$679:$A$683,0),MATCH(B666,$N$678:$S$678,0))","v":478396}]
["% Motion Detection",{"$f":"'TVR30-31 NTSC Simple'!B10","v":1}]
[]
[]
[null,null,null,"Total Storage",{"$f":"(((86400*E667)/8))*B663*B664","v":622440288000},{"$f":"(((86400*F667)/8))*B663*B664","v":331376832000},{"$f":"(((86400*G667)/8))*B663*B664","v":155000304000}]
[null,null,null,"w/motion",{"$f":"IF($B$668=0,E671,E671*$B$668)","v":622440288000},{"$f":"IF($B$668=0,F671,F671*$B$668)","v":331376832000},{"$f":"IF($B$668=0,G671,G671*$B$668)","v":155000304000}]
[null,null,null,null,{"$f":"E672/1000000000","v":622.44028800000001},{"$f":"F672/1000000000","v":331.37683199999998},{"$f":"G672/1000000000","v":155.000304}]
[null,null,null,null,{"$f":"E672/1000000000000","v":0.62244028799999995},{"$f":"F672/1000000000000","v":0.33137683200000001},{"$f":"G672/1000000000000","v":0.15500030400000001}]
[]
["STILL","(video was measured with a color bar test pattern (WYCGMRBLBK)"]
["NTSC","D1",null,null,null,null,"2CIF",null,null,null,null,null,"CIF"]
["Quality",30,15,11,7.5,3.75,1,30,15,11,7.5,3.75,1,30,15,11,7.5,3.75,1]
["Best",2138648,942834,712549,560448,334187,187260,1194367,587637,391916,344313,192440,104613,482793,216121,224614,151143,98210,42214]
["High",2015972,907751,683338,534041,330946,160199,1121239,585885,380241,342613,190206,84032,480791,205993,208572,141207,96688,37026]
["Standard",1921112,859300,629415,511383,328411,120301,1022768,534388,378960,295587,189706,66234,478396,195384,181748,127458,94239,26567]
["Fair",1876822,777328,628755,451824,296102,72384,1009386,468713,323619,259778,183249,52170,451040,171379,168210,125339,70637,18122]
["Low",1371337,745620,548468,360914,194246,50250,959170,436156,305154,243378,138294,34861,447140,140245,111307,75712,38013,9474]
[]
[]
[]
["Days",{"$f":"'TVR30-31 NTSC Simple'!B6","v":30}]
["#of Camera",{"$f":"'TVR30-31 NTSC Simple'!B7","v":1}]
[]
["Frame Per Second",{"$f":"'TVR30-31 NTSC Simple'!B8","v":30},null,null,"D1","2CIF","CIF"]
["Quality",{"$f":"'TVR30-31 NTSC Simple'!B9","v":"Standard"},null,null,{"$f":"INDEX($B$703:$G$707,MATCH(B691,$A$703:$A$707,0),MATCH(B690,$B$702:$G$702,0))","v":3197973},{"$f":"INDEX($H$703:$M$707,MATCH(B691,$A$703:$A$707,0),MATCH(B690,$H$702:$M$702,0))","v":2041514},{"$f":"INDEX($N$703:$S$707,MATCH(B691,$A$703:$A$707,0),MATCH(B690,$N$702:$S$702,0))","v":801884}]
["% Motion Detection",{"$f":"'TVR30-31 NTSC Simple'!B10","v":1}]
[]
[]
[null,null,null,"Total Storage",{"$f":"(((86400*E691)/8))*B687*B688","v":1036143252000},{"$f":"(((86400*F691)/8))*B687*B688","v":661450536000},{"$f":"(((86400*G691)/8))*B687*B688","v":259810416000}]
[null,null,null,"w/motion",{"$f":"IF($B$668=0,E695,E695*$B$668)","v":1036143252000},{"$f":"IF($B$668=0,F695,F695*$B$668)","v":661450536000},{"$f":"IF($B$668=0,G695,G695*$B$668)","v":259810416000}]
[null,null,null,null,{"$f":"E696/1000000000","v":1036.1432520000001},{"$f":"F696/1000000000","v":661.45053600000006},{"$f":"G696/1000000000","v":259.81041599999998}]
[null,null,null,null,{"$f":"E696/1000000000000","v":1.036143252},{"$f":"F696/1000000000000","v":0.66145053600000003},{"$f":"G696/1000000000000","v":0.25981041599999999}]
[]
["PANNING","(video was measured with a color bar test pattern (WYCGMRBLBK)"]
["NTSC","D1",null,null,null,null,"2CIF",null,null,null,null,null,"CIF"]
["Quality",30,15,11,7.5,3.75,1,30,15,11,7.5,3.75,1,30,15,11,7.5,3.75,1]
["Best",5008374,2803714,2099197,1395181,691680,195563,3041276,1523004,1172803,766159,418727,97379,1286490,644518,506520,344242,173436,47440]
["High",4104724,2290143,1704261,1166679,569769,154048,2557946,1283188,978944,641389,340486,84973,1043526,514518,410563,278095,139149,34375]
["Standard",3197973,1756272,1350363,885137,440251,117721,2041514,1032961,798016,517682,276241,67928,801884,390048,312484,207637,106348,26269]
["Fair",2288261,1269948,970323,637527,320054,85506,1547836,774028,594372,384235,205223,51051,529343,264657,216221,138285,72624,20679]
["Low",1390045,778773,586136,377926,193107,62427,1043331,517816,395850,263684,137606,38743,282313,139372,111442,72071,42986,16337]
[]
[]
["EXPERT MODE"]
[]
["NTSC","D1 Resolution",null,null,null,null,null,"2CIF Resolution",null,null,null,null,null,"CIF Resolution"]
[null,"Frame Rates Mbps",null,null,null,null,null,"Field Rates Mbps",null,null,null,null,null,"Field Rates Mbps"]
["Quality","D130Still","D130Panning","D115Still","D115Panning","D111Still","D111Panning","D17.5Still","D17.5Panning","D13.75Still","D13.75Panning","D11Still","D11Panning","2CIF30Still","2CIF30Panning","2CIF15Still","2CIF15Panning","2CIF11Still","2CIF11Panning","2CIF7.5Still","2CIF7.5Panning","2CIF3.75Still","2CIF3.75Panning","2CIF1Still","2CIF1Panning","CIF30Still","CIF30Panning","CIF15Still","CIF15Panning","CIF11Still","CIF11Panning","CIF7.5Still","CIF7.5Panning","CIF3.75Still","CIF3.75Panning","CIF1Still","CIF1Panning"]
["Quality Best",2138648,5008374,942834,2803714,712549,2099197,560448,1395181,334187,691680,187260,195563,1194367,3041276,587637,1523004,391916,1172803,344313,766159,192440,418727,104613,97379,482793,1286490,216121,644518,224614,506520,151143,344242,98210,173436,42214,47440]
["Quality High",2015972,4104724,907751,2290143,683338,1704261,534041,1166679,330946,569769,160199,154048,1121239,2557946,585885,1283188,380241,978944,342613,641389,190206,340486,84032,84973,480791,1043526,205993,514518,208572,410563,141207,278095,96688,139149,37026,34375]
["Quality Standard",1921112,3197973,859300,1756272,629415,1350363,511383,885137,328411,440251,120301,117721,1022768,2041514,534388,1032961,378960,798016,295587,517682,189706,276241,66234,67928,478396,801884,195384,390048,181748,312484,127458,207637,94239,106348,26567,26269]
["Quality Fair",1876822,2288261,777328,1269948,628755,970323,451824,637527,296102,320054,72384,85506,1009386,1547836,468713,774028,323619,594372,259778,384235,183249,205223,52170,51051,451040,529343,171379,264657,168210,216221,125339,138285,70637,72624,18122,20679]
["Quality Low",1371337,1390045,745620,778773,548468,586136,360914,377926,194246,193107,50250,62427,959170,1043331,436156,517816,305154,395850,243378,263684,138294,137606,34861,38743,447140,282313,140245,139372,111307,111442,75712,72071,38013,42986,9474,16337]
[]
[]
[null,1,2,3,4,5,6,7,8,9,10,11,12,13,14,15,16,null,null,null,1,2,3,4,5,6,7,8,9,10,11,12,13,14,15,16]
["Days",{"$f":"'TVR30-31 NTSC Advanced'!B5","v":30},null,{"$f":"#REF!","v":{"$error":"#REF!"}}]
["Res/fps",{"$f":"'TVR30-31 NTSC Advanced'!B12&'TVR30-31 NTSC Advanced'!B13&'TVR30-31 NTSC Advanced'!B11","v":"2CIF7.5STILL"},{"$f":"'TVR30-31 NTSC Advanced'!C12&'TVR30-31 NTSC Advanced'!C13&'TVR30-31 NTSC Advanced'!C11","v":"2CIF7.5STILL"},{"$f":"'TVR30-31 NTSC Advanced'!D12&'TVR30-31 NTSC Advanced'!D13&'TVR30-31 NTSC Advanced'!D11","v":"2CIF7.5STILL"},{"$f":"'TVR30-31 NTSC Advanced'!E12&'TVR30-31 NTSC Advanced'!E13&'TVR30-31 NTSC Advanced'!E11","v":"2CIF7.5STILL"},{"$f":"'TVR30-31 NTSC Advanced'!F12&'TVR30-31 NTSC Advanced'!F13&'TVR30-31 NTSC Advanced'!F11","v":"2CIF7.5STILL"},{"$f":"'TVR30-31 NTSC Advanced'!G12&'TVR30-31 NTSC Advanced'!G13&'TVR30-31 NTSC Advanced'!G11","v":"2CIF7.5STILL"},{"$f":"'TVR30-31 NTSC Advanced'!H12&'TVR30-31 NTSC Advanced'!H13&'TVR30-31 NTSC Advanced'!H11","v":"2CIF7.5STILL"},{"$f":"'TVR30-31 NTSC Advanced'!I12&'TVR30-31 NTSC Advanced'!I13&'TVR30-31 NTSC Advanced'!I11","v":"2CIF7.5STILL"},{"$f":"'TVR30-31 NTSC Advanced'!J12&'TVR30-31 NTSC Advanced'!J13&'TVR30-31 NTSC Advanced'!J11","v":"2CIF7.5STILL"},{"$f":"'TVR30-31 NTSC Advanced'!K12&'TVR30-31 NTSC Advanced'!K13&'TVR30-31 NTSC Advanced'!K11","v":"2CIF7.5STILL"},{"$f":"'TVR30-31 NTSC Advanced'!L12&'TVR30-31 NTSC Advanced'!L13&'TVR30-31 NTSC Advanced'!L11","v":"2CIF7.5STILL"},{"$f":"'TVR30-31 NTSC Advanced'!M12&'TVR30-31 NTSC Advanced'!M13&'TVR30-31 NTSC Advanced'!M11","v":"2CIF7.5STILL"},{"$f":"'TVR30-31 NTSC Advanced'!N12&'TVR30-31 NTSC Advanced'!N13&'TVR30-31 NTSC Advanced'!N11","v":"2CIF7.5STILL"},{"$f":"'TVR30-31 NTSC Advanced'!O12&'TVR30-31 NTSC Advanced'!O13&'TVR30-31 NTSC Advanced'!O11","v":"2CIF7.5STILL"},{"$f":"'TVR30-31 NTSC Advanced'!P12&'TVR30-31 NTSC Advanced'!P13&'TVR30-31 NTSC Advanced'!P11","v":"2CIF7.5STILL"},{"$f":"'TVR30-31 NTSC Advanced'!Q12&'TVR30-31 NTSC Advanced'!Q13&'TVR30-31 NTSC Advanced'!Q11","v":"2CIF7.5STILL"}]
["Quality",{"$f":"'TVR30-31 NTSC Advanced'!A14&'TVR30-31 NTSC Advanced'!B14","v":"Quality Best"},{"$f":"'TVR30-31 NTSC Advanced'!A14&'TVR30-31 NTSC Advanced'!C14","v":"Quality Best"},{"$f":"'TVR30-31 NTSC Advanced'!A14&'TVR30-31 NTSC Advanced'!D14","v":"Quality Best"},{"$f":"'TVR30-31 NTSC Advanced'!A14&'TVR30-31 NTSC Advanced'!E14","v":"Quality Best"},{"$f":"'TVR30-31 NTSC Advanced'!A14&'TVR30-31 NTSC Advanced'!F14","v":"Quality Best"},{"$f":"'TVR30-31 NTSC Advanced'!A14&'TVR30-31 NTSC Advanced'!G14","v":"Quality Best"},{"$f":"'TVR30-31 NTSC Advanced'!A14&'TVR30-31 NTSC Advanced'!H14","v":"Quality Best"},{"$f":"'TVR30-31 NTSC Advanced'!A14&'TVR30-31 NTSC Advanced'!I14","v":"Quality Best"},{"$f":"'TVR30-31 NTSC Advanced'!A14&'TVR30-31 NTSC Advanced'!J14","v":"Quality Best"},{"$f":"'TVR30-31 NTSC Advanced'!A14&'TVR30-31 NTSC Advanced'!K14","v":"Quality Best"},{"$f":"'TVR30-31 NTSC Advanced'!A14&'TVR30-31 NTSC Advanced'!L14","v":"Quality Best"},{"$f":"'TVR30-31 NTSC Advanced'!A14&'TVR30-31 NTSC Advanced'!M14","v":"Quality Best"},{"$f":"'TVR30-31 NTSC Advanced'!A14&'TVR30-31 NTSC Advanced'!N14","v":"Quality Best"},{"$f":"'TVR30-31 NTSC Advanced'!A14&'TVR30-31 NTSC Advanced'!O14","v":"Quality Best"},{"$f":"'TVR30-31 NTSC Advanced'!A14&'TVR30-31 NTSC Advanced'!P14","v":"Quality Best"},{"$f":"'TVR30-31 NTSC Advanced'!A14&'TVR30-31 NTSC Advanced'!Q14","v":"Quality Best"}]
["% Motion",{"$f":"'TVR30-31 NTSC Advanced'!B15","v":0},{"$f":"'TVR30-31 NTSC Advanced'!C15","v":0},{"$f":"'TVR30-31 NTSC Advanced'!D15","v":0},{"$f":"'TVR30-31 NTSC Advanced'!E15","v":0},{"$f":"'TVR30-31 NTSC Advanced'!F15","v":0},{"$f":"'TVR30-31 NTSC Advanced'!G15","v":0},{"$f":"'TVR30-31 NTSC Advanced'!H15","v":0},{"$f":"'TVR30-31 NTSC Advanced'!I15","v":0},{"$f":"'TVR30-31 NTSC Advanced'!J15","v":0},{"$f":"'TVR30-31 NTSC Advanced'!K15","v":0},{"$f":"'TVR30-31 NTSC Advanced'!L15","v":0},{"$f":"'TVR30-31 NTSC Advanced'!M15","v":0},{"$f":"'TVR30-31 NTSC Advanced'!N15","v":0},{"$f":"'TVR30-31 NTSC Advanced'!O15","v":0},{"$f":"'TVR30-31 NTSC Advanced'!P15","v":0},{"$f":"'TVR30-31 NTSC Advanced'!Q15","v":0}]
[]
["Bitrate",{"$f":"INDEX($B$715:$AK$719,MATCH(B725,$A$715:$A$719,0),MATCH(B724,$B$714:$AK$714,0))","v":344313},{"$f":"INDEX($B$715:$AK$719,MATCH(C725,$A$715:$A$719,0),MATCH(C724,$B$714:$AK$714,0))","v":344313},344313,344313,344313,344313,344313,344313,344313,344313,344313,344313,344313,344313,344313,344313,null,null,"Bitrate",{"$f":"SUM(B728:B728)","v":344313},{"$f":"SUM(B728:C728)","v":688626},{"$f":"SUM(B728:D728)","v":1032939},{"$f":"SUM(B728:E728)","v":1377252},{"$f":"SUM(B728:F728)","v":1721565},{"$f":"SUM(B728:G728)","v":2065878},{"$f":"SUM(B728:H728)","v":2410191},{"$f":"SUM(B728:I728)","v":2754504},{"$f":"SUM(B728:J728)","v":3098817},{"$f":"SUM(B728:K728)","v":3443130},{"$f":"SUM(B728:L728)","v":3787443},{"$f":"SUM(B728:M728)","v":4131756},{"$f":"SUM(B728:N728)","v":4476069},{"$f":"SUM(B728:O728)","v":4820382},{"$f":"SUM(B728:P728)","v":5164695},{"$f":"SUM(B728:Q728)","v":5509008}]
["Storage",{"$f":"(((86400*B728)/8))*B723","v":111557412000},{"$f":"(((86400*C728)/8))*B723","v":111557412000},{"$f":"(((86400*D728)/8))*B723","v":111557412000},{"$f":"(((86400*E728)/8))*B723","v":111557412000},{"$f":"(((86400*F728)/8))*B723","v":111557412000},{"$f":"(((86400*G728)/8))*B723","v":111557412000},{"$f":"(((86400*H728)/8))*B723","v":111557412000},{"$f":"(((86400*I728)/8))*B723","v":111557412000},{"$f":"(((86400*J728)/8))*B723","v":111557412000},{"$f":"(((86400*K728)/8))*B723","v":111557412000},{"$f":"(((86400*L728)/8))*B723","v":111557412000},{"$f":"(((86400*M728)/8))*B723","v":111557412000},{"$f":"(((86400*N728)/8))*B723","v":111557412000},{"$f":"(((86400*O728)/8))*B723","v":111557412000},{"$f":"(((86400*P728)/8))*B723","v":111557412000},{"$f":"(((86400*Q728)/8))*B723","v":111557412000},null,null,"Storage",{"$f":"SUM(B729:B729)","v":111557412000},{"$f":"SUM(B729:C729)","v":223114824000},{"$f":"SUM(B729:D729)","v":334672236000},{"$f":"SUM(B729:E729)","v":446229648000},{"$f":"SUM(B729:F729)","v":557787060000},{"$f":"SUM(B729:G729)","v":669344472000},{"$f":"SUM(B729:H729)","v":780901884000},{"$f":"SUM(B729:I729)","v":892459296000},{"$f":"SUM(B729:J729)","v":1004016708000},{"$f":"SUM(B729:K729)","v":1115574120000},{"$f":"SUM(B729:L729)","v":1227131532000},{"$f":"SUM(B729:M729)","v":1338688944000},{"$f":"SUM(B729:N729)","v":1450246356000},{"$f":"SUM(B729:O729)","v":1561803768000},{"$f":"SUM(B729:P729)","v":1673361180000},{"$f":"SUM(B729:Q729)","v":1784918592000}]
["Storage with Motion",{"$f":"IF($B$726=0,B729,B729*$B$726)","v":111557412000},{"$f":"IF($C$726=0,C729,C729*$C$726)","v":111557412000},{"$f":"IF($D$726=0,D729,D729*$D$726)","v":111557412000},{"$f":"IF($E$726=0,E729,E729*$E$726)","v":111557412000},{"$f":"IF($F$726=0,F729,F729*$F$726)","v":111557412000},{"$f":"IF($G$726=0,G729,G729*$G$726)","v":111557412000},{"$f":"IF($H$726=0,H729,H729*$H$726)","v":111557412000},{"$f":"IF($I$726=0,I729,I729*$I$726)","v":111557412000},{"$f":"IF($J$726=0,J729,J729*$J$726)","v":111557412000},{"$f":"IF($K$726=0,K729,K729*$K$726)","v":111557412000},{"$f":"IF($L$726=0,L729,L729*$L$726)","v":111557412000},{"$f":"IF($M$726=0,M729,M729*$M$726)","v":111557412000},{"$f":"IF($N$726=0,N729,N729*$N$726)","v":111557412000},{"$f":"IF($O$726=0,O729,O729*$O$726)","v":111557412000},{"$f":"IF($P$726=0,P729,P729*$P$726)","v":111557412000},{"$f":"IF($Q$726=0,Q729,Q729*$Q$726)","v":111557412000},null,null,"Storage with Motion",{"$f":"SUM(B730:B730)","v":111557412000},{"$f":"SUM(B730:C730)","v":223114824000},{"$f":"SUM(B730:D730)","v":334672236000},{"$f":"SUM(B730:E730)","v":446229648000},{"$f":"SUM(B730:F730)","v":557787060000},{"$f":"SUM(B730:G730)","v":669344472000},{"$f":"SUM(B730:H730)","v":780901884000},{"$f":"SUM(B730:I730)","v":892459296000},{"$f":"SUM(B730:J730)","v":1004016708000},{"$f":"SUM(B730:K730)","v":1115574120000},{"$f":"SUM(B730:L730)","v":1227131532000},{"$f":"SUM(B730:M730)","v":1338688944000},{"$f":"SUM(B730:N730)","v":1450246356000},{"$f":"SUM(B730:O730)","v":1561803768000},{"$f":"SUM(B730:P730)","v":1673361180000},{"$f":"SUM(B730:Q730)","v":1784918592000}]
["Storage In GB",{"$f":"B730/1000000000","v":111.557412},111.557412,111.557412,111.557412,111.557412,111.557412,111.557412,111.557412,111.557412,111.557412,111.557412,111.557412,111.557412,111.557412,111.557412,111.557412,null,null,"Storage In GB",{"$f":"U730/1000000000","v":111.557412},223.114824,334.672236,446.229648,557.78706,669.344472,780.901884,892.45929599999999,1004.016708,1115.57412,1227.1315320000001,1338.688944,1450.2463560000001,1561.803768,1673.3611800000001,1784.918592]
["Storage In TB",{"$f":"B730/1000000000000","v":0.11155741199999999},{"$f":"C730/1000000000000","v":0.11155741199999999},0.11155741199999999,0.11155741199999999,0.11155741199999999,0.11155741199999999,0.11155741199999999,0.11155741199999999,0.11155741199999999,0.11155741199999999,0.11155741199999999,0.11155741199999999,0.11155741199999999,0.11155741199999999,0.11155741199999999,0.11155741199999999,null,null,"Storage In TB",{"$f":"U730/1000000000000","v":0.11155741199999999},0.22311482399999999,0.33467223600000001,0.44622964799999998,0.55778706,0.66934447200000002,0.78090188400000005,0.89245929599999996,1.004016708,1.11557412,1.227131532,1.338688944,1.4502463560000001,1.5618037680000001,1.6733611799999999,1.7849185919999999]
[]
["Bandwidth In Mbps",{"$f":"B728/1000000","v":0.34431299999999998},{"$f":"C728/1000000","v":0.34431299999999998},0.34431299999999998,0.34431299999999998,0.34431299999999998,0.34431299999999998,0.34431299999999998,0.34431299999999998,0.34431299999999998,0.34431299999999998,0.34431299999999998,0.34431299999999998,0.34431299999999998,0.34431299999999998,0.34431299999999998,0.34431299999999998,null,null,"Bandwidth In Mbps",{"$f":"U728/1000000","v":0.34431299999999998},{"$f":"V728/1000000","v":0.68862599999999996},1.0329390000000001,1.3772519999999999,1.721565,2.0658780000000001,2.4101910000000002,2.7545039999999998,3.0988169999999999,3.44313,3.7874430000000001,4.1317560000000002,4.4760689999999999,4.8203820000000004,5.164695,5.5090079999999997]
["Bandwidth in kbps",{"$f":"B734*1000","v":344.31299999999999},344.31299999999999,344.31299999999999,344.31299999999999,344.31299999999999,344.31299999999999,344.31299999999999,344.31299999999999,344.31299999999999,344.31299999999999,344.31299999999999,344.31299999999999,344.31299999999999,344.31299999999999,344.31299999999999,344.31299999999999,null,null,"Bandwidth in kbps",{"$f":"U734*1000","v":344.31299999999999},688.62599999999998,1032.9390000000001,1377.252,1721.5650000000001,2065.8780000000002,2410.1910000000003,2754.5039999999999,3098.817,3443.13,3787.4430000000002,4131.7560000000003,4476.0689999999995,4820.3820000000005,5164.6949999999997,5509.0079999999998]
[]
[]
[null,null,null,null,null,null,null,null,null,null,null,null,null,null,null,null,null,null,null,null,"TOTALS"]
[]
[]
[null,null,null,null,null,null,null,null,null,null,null,null,null,null,null,null,null,null,null,null,"# CHANNELS",{"$f":"'TVR30-31 NTSC Advanced'!B6","v":16}]
[]
[null,null,null,null,null,null,null,null,null,null,null,null,null,null,null,null,null,null,null,null,"Storage In GB",{"$f":"INDEX($U$731:$AJ$731,MATCH(V741,$U$722:$AJ$722,0))","v":1784.918592}]
[null,null,null,null,null,null,null,null,null,null,null,null,null,null,null,null,null,null,null,null,"Storage In TB",{"$f":"INDEX($U$732:$AJ$732,MATCH(V741,$U$722:$AJ$722,0))","v":1.7849185919999999}]
[]
[null,null,null,null,null,null,null,null,null,null,null,null,null,null,null,null,null,null,null,null,"Bandwidth In Mbps",{"$f":"INDEX($U$734:$AJ$734,MATCH(V741,$U$722:$AJ$722,0))","v":5.5090079999999997}]
[null,null,null,null,null,null,null,null,null,null,null,null,null,null,null,null,null,null,null,null,"Bandwidth in kbps",{"$f":"INDEX($U$735:$AJ$735,MATCH(V741,$U$722:$AJ$722,0))","v":5509.0079999999998}]